BEGIN:VCALENDAR
VERSION:2.0
PRODID:-//hacksw/handcal//NONSGML v1.0//EN
CALSCALE:GREGORIAN
BEGIN:VTIMEZONE
TZID:Europe/Berlin
X-LIC-LOCATION:Europe/Berlin
BEGIN:DAYLIGHT
TZOFFSETFROM:+0100
TZOFFSETTO:+0200
TZNAME:CEST
DTSTART:19700329T020000
RRULE:FREQ=YEARLY;BYDAY=-1SU;BYMONTH=3
END:DAYLIGHT
BEGIN:STANDARD
TZOFFSETFROM:+0200
TZOFFSETTO:+0100
TZNAME:CET
DTSTART:19701025T030000
RRULE:FREQ=YEARLY;BYDAY=-1SU;BYMONTH=10
END:STANDARD
END:VTIMEZONE
BEGIN:VEVENT
DTEND;TZID=Europe/Berlin:20261026T160000
UID:69e8faeff0ac0
DTSTAMP:20260422T184431
LOCATION:Teggingerschule
DESCRIPTION:Nach einem schönen Vormittag mit verschiedenen Aktivitäten kommen alle Kinder an der Teggingerschule zum Essen zusammen. Etwas warmes zu Essen tut gut.\r\n\r\nEssensbuchung ist nur über diese Veranstaltung möglich!\r\n\r\nEine tageweise Auswahl ist nicht mehr möglich. Es wird auch kein Bargeld mehr eingesammelt. Suppe\, Grillen\, Pizza o.ä. sind in in dieser Veranstaltung inbegriffen und können nicht mehr separat gebucht werden.\r\n\r\nDas Essen wird bestellt. Langfristig soll wieder eine tageweise Buchung und Auswahl ermöglicht werden. Bis dahin wird es drei Tage geben an denen es für alle vegetarisches Essen gibt. Mit der Buchung legen sie fest ob Ihr Kind an den anderen Tagen sich vegetarisch oder fleischlich ernährt.
URL;VALUE=URI:https://www.unser-ferienprogramm.de/radolfzell/veranstaltung.php?id=295862
SUMMARY:Ferienzeit Buchung für Mittagessen Herbstferien
DTSTART;TZID=Europe/Berlin:20261026T080000
END:VEVENT


BEGIN:VEVENT
DTEND;TZID=Europe/Berlin:20261027T160000
UID:69e8faeff0adc1
DTSTAMP:20260422T184431
LOCATION:Teggingerschule
DESCRIPTION:Nach einem schönen Vormittag mit verschiedenen Aktivitäten kommen alle Kinder an der Teggingerschule zum Essen zusammen. Etwas warmes zu Essen tut gut.\r\n\r\nEssensbuchung ist nur über diese Veranstaltung möglich!\r\n\r\nEine tageweise Auswahl ist nicht mehr möglich. Es wird auch kein Bargeld mehr eingesammelt. Suppe\, Grillen\, Pizza o.ä. sind in in dieser Veranstaltung inbegriffen und können nicht mehr separat gebucht werden.\r\n\r\nDas Essen wird bestellt. Langfristig soll wieder eine tageweise Buchung und Auswahl ermöglicht werden. Bis dahin wird es drei Tage geben an denen es für alle vegetarisches Essen gibt. Mit der Buchung legen sie fest ob Ihr Kind an den anderen Tagen sich vegetarisch oder fleischlich ernährt.
URL;VALUE=URI:https://www.unser-ferienprogramm.de/radolfzell/veranstaltung.php?id=295862
SUMMARY:Ferienzeit Buchung für Mittagessen Herbstferien
DTSTART;TZID=Europe/Berlin:20261027T080000
END:VEVENT


BEGIN:VEVENT
DTEND;TZID=Europe/Berlin:20261028T160000
UID:69e8faeff0aed2
DTSTAMP:20260422T184431
LOCATION:Teggingerschule
DESCRIPTION:Nach einem schönen Vormittag mit verschiedenen Aktivitäten kommen alle Kinder an der Teggingerschule zum Essen zusammen. Etwas warmes zu Essen tut gut.\r\n\r\nEssensbuchung ist nur über diese Veranstaltung möglich!\r\n\r\nEine tageweise Auswahl ist nicht mehr möglich. Es wird auch kein Bargeld mehr eingesammelt. Suppe\, Grillen\, Pizza o.ä. sind in in dieser Veranstaltung inbegriffen und können nicht mehr separat gebucht werden.\r\n\r\nDas Essen wird bestellt. Langfristig soll wieder eine tageweise Buchung und Auswahl ermöglicht werden. Bis dahin wird es drei Tage geben an denen es für alle vegetarisches Essen gibt. Mit der Buchung legen sie fest ob Ihr Kind an den anderen Tagen sich vegetarisch oder fleischlich ernährt.
URL;VALUE=URI:https://www.unser-ferienprogramm.de/radolfzell/veranstaltung.php?id=295862
SUMMARY:Ferienzeit Buchung für Mittagessen Herbstferien
DTSTART;TZID=Europe/Berlin:20261028T080000
END:VEVENT


BEGIN:VEVENT
DTEND;TZID=Europe/Berlin:20261029T160000
UID:69e8faeff0afa3
DTSTAMP:20260422T184431
LOCATION:Teggingerschule
DESCRIPTION:Nach einem schönen Vormittag mit verschiedenen Aktivitäten kommen alle Kinder an der Teggingerschule zum Essen zusammen. Etwas warmes zu Essen tut gut.\r\n\r\nEssensbuchung ist nur über diese Veranstaltung möglich!\r\n\r\nEine tageweise Auswahl ist nicht mehr möglich. Es wird auch kein Bargeld mehr eingesammelt. Suppe\, Grillen\, Pizza o.ä. sind in in dieser Veranstaltung inbegriffen und können nicht mehr separat gebucht werden.\r\n\r\nDas Essen wird bestellt. Langfristig soll wieder eine tageweise Buchung und Auswahl ermöglicht werden. Bis dahin wird es drei Tage geben an denen es für alle vegetarisches Essen gibt. Mit der Buchung legen sie fest ob Ihr Kind an den anderen Tagen sich vegetarisch oder fleischlich ernährt.
URL;VALUE=URI:https://www.unser-ferienprogramm.de/radolfzell/veranstaltung.php?id=295862
SUMMARY:Ferienzeit Buchung für Mittagessen Herbstferien
DTSTART;TZID=Europe/Berlin:20261029T080000
END:VEVENT


BEGIN:VEVENT
DTEND;TZID=Europe/Berlin:20261030T160000
UID:69e8faeff0b064
DTSTAMP:20260422T184431
LOCATION:Teggingerschule
DESCRIPTION:Nach einem schönen Vormittag mit verschiedenen Aktivitäten kommen alle Kinder an der Teggingerschule zum Essen zusammen. Etwas warmes zu Essen tut gut.\r\n\r\nEssensbuchung ist nur über diese Veranstaltung möglich!\r\n\r\nEine tageweise Auswahl ist nicht mehr möglich. Es wird auch kein Bargeld mehr eingesammelt. Suppe\, Grillen\, Pizza o.ä. sind in in dieser Veranstaltung inbegriffen und können nicht mehr separat gebucht werden.\r\n\r\nDas Essen wird bestellt. Langfristig soll wieder eine tageweise Buchung und Auswahl ermöglicht werden. Bis dahin wird es drei Tage geben an denen es für alle vegetarisches Essen gibt. Mit der Buchung legen sie fest ob Ihr Kind an den anderen Tagen sich vegetarisch oder fleischlich ernährt.
URL;VALUE=URI:https://www.unser-ferienprogramm.de/radolfzell/veranstaltung.php?id=295862
SUMMARY:Ferienzeit Buchung für Mittagessen Herbstferien
DTSTART;TZID=Europe/Berlin:20261030T080000
END:VEVENT

END:VCALENDAR
