BEGIN:VCALENDAR
VERSION:2.0
PRODID:-//hacksw/handcal//NONSGML v1.0//EN
CALSCALE:GREGORIAN
BEGIN:VTIMEZONE
TZID:Europe/Berlin
X-LIC-LOCATION:Europe/Berlin
BEGIN:DAYLIGHT
TZOFFSETFROM:+0100
TZOFFSETTO:+0200
TZNAME:CEST
DTSTART:19700329T020000
RRULE:FREQ=YEARLY;BYDAY=-1SU;BYMONTH=3
END:DAYLIGHT
BEGIN:STANDARD
TZOFFSETFROM:+0200
TZOFFSETTO:+0100
TZNAME:CET
DTSTART:19701025T030000
RRULE:FREQ=YEARLY;BYDAY=-1SU;BYMONTH=10
END:STANDARD
END:VTIMEZONE
BEGIN:VEVENT
DTEND;TZID=Europe/Berlin:20260831T160000
UID:69e911e50fb98
DTSTAMP:20260422T202229
LOCATION:Teggingerschule
DESCRIPTION:Die Ferienzeit ist eine kommunale Ferienbetreuung für Grundschulkinder\, die in Radolfzell wohnen.\r\nDa es aktuell keine Platzbegrenzung gibt ist die Ferienzeit verlässlich\, so dass die Familien ihre Ferien entspannt planen können.\r\n\r\nÜberwiegend ist die Ferienzeit nach einem offenem Konzept gestaltet. Nach dem Morgenkreis entscheiden sich die Kinder für kreative\, sportliche\, erlebnispädagogische Angebote oder Ausflüge. Nach dem Mittag haben die Kinder frei zu gestaltende Zeit und können die Räumen so nutzen\, wie sie es gerade brauchen. Nachmittags besteht auch die Möglichkeit bei einem Wahlangebot teilzunehmen. Ein Beispielwochenplan finden Sie auf dem Flyer.\r\n\r\nGelegentlich finden Aktivitäten auch nur in der schulspezifischen Gruppe statt. Dabei werden die Schulen der Ortsteile zusammengefasst.  
URL;VALUE=URI:https://www.unser-ferienprogramm.de/radolfzell/veranstaltung.php?id=295797
SUMMARY:Ferienzeit Sommerferienwoche 5. und 6. Woche
DTSTART;TZID=Europe/Berlin:20260831T080000
END:VEVENT


BEGIN:VEVENT
DTEND;TZID=Europe/Berlin:20260901T160000
UID:69e911e50fbd51
DTSTAMP:20260422T202229
LOCATION:Teggingerschule
DESCRIPTION:Die Ferienzeit ist eine kommunale Ferienbetreuung für Grundschulkinder\, die in Radolfzell wohnen.\r\nDa es aktuell keine Platzbegrenzung gibt ist die Ferienzeit verlässlich\, so dass die Familien ihre Ferien entspannt planen können.\r\n\r\nÜberwiegend ist die Ferienzeit nach einem offenem Konzept gestaltet. Nach dem Morgenkreis entscheiden sich die Kinder für kreative\, sportliche\, erlebnispädagogische Angebote oder Ausflüge. Nach dem Mittag haben die Kinder frei zu gestaltende Zeit und können die Räumen so nutzen\, wie sie es gerade brauchen. Nachmittags besteht auch die Möglichkeit bei einem Wahlangebot teilzunehmen. Ein Beispielwochenplan finden Sie auf dem Flyer.\r\n\r\nGelegentlich finden Aktivitäten auch nur in der schulspezifischen Gruppe statt. Dabei werden die Schulen der Ortsteile zusammengefasst.  
URL;VALUE=URI:https://www.unser-ferienprogramm.de/radolfzell/veranstaltung.php?id=295797
SUMMARY:Ferienzeit Sommerferienwoche 5. und 6. Woche
DTSTART;TZID=Europe/Berlin:20260901T080000
END:VEVENT


BEGIN:VEVENT
DTEND;TZID=Europe/Berlin:20260902T160000
UID:69e911e50fbe22
DTSTAMP:20260422T202229
LOCATION:Teggingerschule
DESCRIPTION:Die Ferienzeit ist eine kommunale Ferienbetreuung für Grundschulkinder\, die in Radolfzell wohnen.\r\nDa es aktuell keine Platzbegrenzung gibt ist die Ferienzeit verlässlich\, so dass die Familien ihre Ferien entspannt planen können.\r\n\r\nÜberwiegend ist die Ferienzeit nach einem offenem Konzept gestaltet. Nach dem Morgenkreis entscheiden sich die Kinder für kreative\, sportliche\, erlebnispädagogische Angebote oder Ausflüge. Nach dem Mittag haben die Kinder frei zu gestaltende Zeit und können die Räumen so nutzen\, wie sie es gerade brauchen. Nachmittags besteht auch die Möglichkeit bei einem Wahlangebot teilzunehmen. Ein Beispielwochenplan finden Sie auf dem Flyer.\r\n\r\nGelegentlich finden Aktivitäten auch nur in der schulspezifischen Gruppe statt. Dabei werden die Schulen der Ortsteile zusammengefasst.  
URL;VALUE=URI:https://www.unser-ferienprogramm.de/radolfzell/veranstaltung.php?id=295797
SUMMARY:Ferienzeit Sommerferienwoche 5. und 6. Woche
DTSTART;TZID=Europe/Berlin:20260902T080000
END:VEVENT


BEGIN:VEVENT
DTEND;TZID=Europe/Berlin:20260903T160000
UID:69e911e50fbee3
DTSTAMP:20260422T202229
LOCATION:Teggingerschule
DESCRIPTION:Die Ferienzeit ist eine kommunale Ferienbetreuung für Grundschulkinder\, die in Radolfzell wohnen.\r\nDa es aktuell keine Platzbegrenzung gibt ist die Ferienzeit verlässlich\, so dass die Familien ihre Ferien entspannt planen können.\r\n\r\nÜberwiegend ist die Ferienzeit nach einem offenem Konzept gestaltet. Nach dem Morgenkreis entscheiden sich die Kinder für kreative\, sportliche\, erlebnispädagogische Angebote oder Ausflüge. Nach dem Mittag haben die Kinder frei zu gestaltende Zeit und können die Räumen so nutzen\, wie sie es gerade brauchen. Nachmittags besteht auch die Möglichkeit bei einem Wahlangebot teilzunehmen. Ein Beispielwochenplan finden Sie auf dem Flyer.\r\n\r\nGelegentlich finden Aktivitäten auch nur in der schulspezifischen Gruppe statt. Dabei werden die Schulen der Ortsteile zusammengefasst.  
URL;VALUE=URI:https://www.unser-ferienprogramm.de/radolfzell/veranstaltung.php?id=295797
SUMMARY:Ferienzeit Sommerferienwoche 5. und 6. Woche
DTSTART;TZID=Europe/Berlin:20260903T080000
END:VEVENT


BEGIN:VEVENT
DTEND;TZID=Europe/Berlin:20260904T160000
UID:69e911e50fbf84
DTSTAMP:20260422T202229
LOCATION:Teggingerschule
DESCRIPTION:Die Ferienzeit ist eine kommunale Ferienbetreuung für Grundschulkinder\, die in Radolfzell wohnen.\r\nDa es aktuell keine Platzbegrenzung gibt ist die Ferienzeit verlässlich\, so dass die Familien ihre Ferien entspannt planen können.\r\n\r\nÜberwiegend ist die Ferienzeit nach einem offenem Konzept gestaltet. Nach dem Morgenkreis entscheiden sich die Kinder für kreative\, sportliche\, erlebnispädagogische Angebote oder Ausflüge. Nach dem Mittag haben die Kinder frei zu gestaltende Zeit und können die Räumen so nutzen\, wie sie es gerade brauchen. Nachmittags besteht auch die Möglichkeit bei einem Wahlangebot teilzunehmen. Ein Beispielwochenplan finden Sie auf dem Flyer.\r\n\r\nGelegentlich finden Aktivitäten auch nur in der schulspezifischen Gruppe statt. Dabei werden die Schulen der Ortsteile zusammengefasst.  
URL;VALUE=URI:https://www.unser-ferienprogramm.de/radolfzell/veranstaltung.php?id=295797
SUMMARY:Ferienzeit Sommerferienwoche 5. und 6. Woche
DTSTART;TZID=Europe/Berlin:20260904T080000
END:VEVENT


BEGIN:VEVENT
DTEND;TZID=Europe/Berlin:20260907T160000
UID:69e911e50fc025
DTSTAMP:20260422T202229
LOCATION:Teggingerschule
DESCRIPTION:Die Ferienzeit ist eine kommunale Ferienbetreuung für Grundschulkinder\, die in Radolfzell wohnen.\r\nDa es aktuell keine Platzbegrenzung gibt ist die Ferienzeit verlässlich\, so dass die Familien ihre Ferien entspannt planen können.\r\n\r\nÜberwiegend ist die Ferienzeit nach einem offenem Konzept gestaltet. Nach dem Morgenkreis entscheiden sich die Kinder für kreative\, sportliche\, erlebnispädagogische Angebote oder Ausflüge. Nach dem Mittag haben die Kinder frei zu gestaltende Zeit und können die Räumen so nutzen\, wie sie es gerade brauchen. Nachmittags besteht auch die Möglichkeit bei einem Wahlangebot teilzunehmen. Ein Beispielwochenplan finden Sie auf dem Flyer.\r\n\r\nGelegentlich finden Aktivitäten auch nur in der schulspezifischen Gruppe statt. Dabei werden die Schulen der Ortsteile zusammengefasst.  
URL;VALUE=URI:https://www.unser-ferienprogramm.de/radolfzell/veranstaltung.php?id=295797
SUMMARY:Ferienzeit Sommerferienwoche 5. und 6. Woche
DTSTART;TZID=Europe/Berlin:20260907T080000
END:VEVENT


BEGIN:VEVENT
DTEND;TZID=Europe/Berlin:20260908T160000
UID:69e911e50fc0b6
DTSTAMP:20260422T202229
LOCATION:Teggingerschule
DESCRIPTION:Die Ferienzeit ist eine kommunale Ferienbetreuung für Grundschulkinder\, die in Radolfzell wohnen.\r\nDa es aktuell keine Platzbegrenzung gibt ist die Ferienzeit verlässlich\, so dass die Familien ihre Ferien entspannt planen können.\r\n\r\nÜberwiegend ist die Ferienzeit nach einem offenem Konzept gestaltet. Nach dem Morgenkreis entscheiden sich die Kinder für kreative\, sportliche\, erlebnispädagogische Angebote oder Ausflüge. Nach dem Mittag haben die Kinder frei zu gestaltende Zeit und können die Räumen so nutzen\, wie sie es gerade brauchen. Nachmittags besteht auch die Möglichkeit bei einem Wahlangebot teilzunehmen. Ein Beispielwochenplan finden Sie auf dem Flyer.\r\n\r\nGelegentlich finden Aktivitäten auch nur in der schulspezifischen Gruppe statt. Dabei werden die Schulen der Ortsteile zusammengefasst.  
URL;VALUE=URI:https://www.unser-ferienprogramm.de/radolfzell/veranstaltung.php?id=295797
SUMMARY:Ferienzeit Sommerferienwoche 5. und 6. Woche
DTSTART;TZID=Europe/Berlin:20260908T080000
END:VEVENT


BEGIN:VEVENT
DTEND;TZID=Europe/Berlin:20260909T160000
UID:69e911e50fc157
DTSTAMP:20260422T202229
LOCATION:Teggingerschule
DESCRIPTION:Die Ferienzeit ist eine kommunale Ferienbetreuung für Grundschulkinder\, die in Radolfzell wohnen.\r\nDa es aktuell keine Platzbegrenzung gibt ist die Ferienzeit verlässlich\, so dass die Familien ihre Ferien entspannt planen können.\r\n\r\nÜberwiegend ist die Ferienzeit nach einem offenem Konzept gestaltet. Nach dem Morgenkreis entscheiden sich die Kinder für kreative\, sportliche\, erlebnispädagogische Angebote oder Ausflüge. Nach dem Mittag haben die Kinder frei zu gestaltende Zeit und können die Räumen so nutzen\, wie sie es gerade brauchen. Nachmittags besteht auch die Möglichkeit bei einem Wahlangebot teilzunehmen. Ein Beispielwochenplan finden Sie auf dem Flyer.\r\n\r\nGelegentlich finden Aktivitäten auch nur in der schulspezifischen Gruppe statt. Dabei werden die Schulen der Ortsteile zusammengefasst.  
URL;VALUE=URI:https://www.unser-ferienprogramm.de/radolfzell/veranstaltung.php?id=295797
SUMMARY:Ferienzeit Sommerferienwoche 5. und 6. Woche
DTSTART;TZID=Europe/Berlin:20260909T080000
END:VEVENT


BEGIN:VEVENT
DTEND;TZID=Europe/Berlin:20260910T160000
UID:69e911e50fc1e8
DTSTAMP:20260422T202229
LOCATION:Teggingerschule
DESCRIPTION:Die Ferienzeit ist eine kommunale Ferienbetreuung für Grundschulkinder\, die in Radolfzell wohnen.\r\nDa es aktuell keine Platzbegrenzung gibt ist die Ferienzeit verlässlich\, so dass die Familien ihre Ferien entspannt planen können.\r\n\r\nÜberwiegend ist die Ferienzeit nach einem offenem Konzept gestaltet. Nach dem Morgenkreis entscheiden sich die Kinder für kreative\, sportliche\, erlebnispädagogische Angebote oder Ausflüge. Nach dem Mittag haben die Kinder frei zu gestaltende Zeit und können die Räumen so nutzen\, wie sie es gerade brauchen. Nachmittags besteht auch die Möglichkeit bei einem Wahlangebot teilzunehmen. Ein Beispielwochenplan finden Sie auf dem Flyer.\r\n\r\nGelegentlich finden Aktivitäten auch nur in der schulspezifischen Gruppe statt. Dabei werden die Schulen der Ortsteile zusammengefasst.  
URL;VALUE=URI:https://www.unser-ferienprogramm.de/radolfzell/veranstaltung.php?id=295797
SUMMARY:Ferienzeit Sommerferienwoche 5. und 6. Woche
DTSTART;TZID=Europe/Berlin:20260910T080000
END:VEVENT


BEGIN:VEVENT
DTEND;TZID=Europe/Berlin:20260911T160000
UID:69e911e50fc279
DTSTAMP:20260422T202229
LOCATION:Teggingerschule
DESCRIPTION:Die Ferienzeit ist eine kommunale Ferienbetreuung für Grundschulkinder\, die in Radolfzell wohnen.\r\nDa es aktuell keine Platzbegrenzung gibt ist die Ferienzeit verlässlich\, so dass die Familien ihre Ferien entspannt planen können.\r\n\r\nÜberwiegend ist die Ferienzeit nach einem offenem Konzept gestaltet. Nach dem Morgenkreis entscheiden sich die Kinder für kreative\, sportliche\, erlebnispädagogische Angebote oder Ausflüge. Nach dem Mittag haben die Kinder frei zu gestaltende Zeit und können die Räumen so nutzen\, wie sie es gerade brauchen. Nachmittags besteht auch die Möglichkeit bei einem Wahlangebot teilzunehmen. Ein Beispielwochenplan finden Sie auf dem Flyer.\r\n\r\nGelegentlich finden Aktivitäten auch nur in der schulspezifischen Gruppe statt. Dabei werden die Schulen der Ortsteile zusammengefasst.  
URL;VALUE=URI:https://www.unser-ferienprogramm.de/radolfzell/veranstaltung.php?id=295797
SUMMARY:Ferienzeit Sommerferienwoche 5. und 6. Woche
DTSTART;TZID=Europe/Berlin:20260911T080000
END:VEVENT

END:VCALENDAR
