BEGIN:VCALENDAR
VERSION:2.0
PRODID:-//hacksw/handcal//NONSGML v1.0//EN
CALSCALE:GREGORIAN
BEGIN:VTIMEZONE
TZID:Europe/Berlin
X-LIC-LOCATION:Europe/Berlin
BEGIN:DAYLIGHT
TZOFFSETFROM:+0100
TZOFFSETTO:+0200
TZNAME:CEST
DTSTART:19700329T020000
RRULE:FREQ=YEARLY;BYDAY=-1SU;BYMONTH=3
END:DAYLIGHT
BEGIN:STANDARD
TZOFFSETFROM:+0200
TZOFFSETTO:+0100
TZNAME:CET
DTSTART:19701025T030000
RRULE:FREQ=YEARLY;BYDAY=-1SU;BYMONTH=10
END:STANDARD
END:VTIMEZONE
BEGIN:VEVENT
DTEND;TZID=Europe/Berlin:20260817T160000
UID:69e8fad08ac24
DTSTAMP:20260422T184400
LOCATION:Teggingerschule
DESCRIPTION:Die Ferienzeit ist eine kommunale Ferienbetreuung für Grundschulkinder\, die in Radolfzell wohnen.\r\nDa es aktuell keine Platzbegrenzung gibt ist die Ferienzeit verlässlich\, so dass die Familien ihre Ferien entspannt planen können.\r\n\r\nÜberwiegend ist die Ferienzeit nach einem offenem Konzept gestaltet. Nach dem Morgenkreis entscheiden sich die Kinder für kreative\, sportliche\, erlebnispädagogische Angebote oder Ausflüge. Nach dem Mittag haben die Kinder frei zu gestaltende Zeit und können die Räumen so nutzen\, wie sie es gerade brauchen. Nachmittags besteht auch die Möglichkeit bei einem Wahlangebot teilzunehmen. Ein Beispielwochenplan finden Sie auf dem Flyer.\r\n\r\nGelegentlich finden Aktivitäten auch nur in der schulspezifischen Gruppe statt. Dabei werden die Schulen der Ortsteile zusammengefasst.  
URL;VALUE=URI:https://www.unser-ferienprogramm.de/radolfzell/veranstaltung.php?id=295795
SUMMARY:Ferienzeit Sommerferienwoche 3. und 4. Woche
DTSTART;TZID=Europe/Berlin:20260817T080000
END:VEVENT


BEGIN:VEVENT
DTEND;TZID=Europe/Berlin:20260818T160000
UID:69e8fad08ac6a1
DTSTAMP:20260422T184400
LOCATION:Teggingerschule
DESCRIPTION:Die Ferienzeit ist eine kommunale Ferienbetreuung für Grundschulkinder\, die in Radolfzell wohnen.\r\nDa es aktuell keine Platzbegrenzung gibt ist die Ferienzeit verlässlich\, so dass die Familien ihre Ferien entspannt planen können.\r\n\r\nÜberwiegend ist die Ferienzeit nach einem offenem Konzept gestaltet. Nach dem Morgenkreis entscheiden sich die Kinder für kreative\, sportliche\, erlebnispädagogische Angebote oder Ausflüge. Nach dem Mittag haben die Kinder frei zu gestaltende Zeit und können die Räumen so nutzen\, wie sie es gerade brauchen. Nachmittags besteht auch die Möglichkeit bei einem Wahlangebot teilzunehmen. Ein Beispielwochenplan finden Sie auf dem Flyer.\r\n\r\nGelegentlich finden Aktivitäten auch nur in der schulspezifischen Gruppe statt. Dabei werden die Schulen der Ortsteile zusammengefasst.  
URL;VALUE=URI:https://www.unser-ferienprogramm.de/radolfzell/veranstaltung.php?id=295795
SUMMARY:Ferienzeit Sommerferienwoche 3. und 4. Woche
DTSTART;TZID=Europe/Berlin:20260818T080000
END:VEVENT


BEGIN:VEVENT
DTEND;TZID=Europe/Berlin:20260819T160000
UID:69e8fad08ac7c2
DTSTAMP:20260422T184400
LOCATION:Teggingerschule
DESCRIPTION:Die Ferienzeit ist eine kommunale Ferienbetreuung für Grundschulkinder\, die in Radolfzell wohnen.\r\nDa es aktuell keine Platzbegrenzung gibt ist die Ferienzeit verlässlich\, so dass die Familien ihre Ferien entspannt planen können.\r\n\r\nÜberwiegend ist die Ferienzeit nach einem offenem Konzept gestaltet. Nach dem Morgenkreis entscheiden sich die Kinder für kreative\, sportliche\, erlebnispädagogische Angebote oder Ausflüge. Nach dem Mittag haben die Kinder frei zu gestaltende Zeit und können die Räumen so nutzen\, wie sie es gerade brauchen. Nachmittags besteht auch die Möglichkeit bei einem Wahlangebot teilzunehmen. Ein Beispielwochenplan finden Sie auf dem Flyer.\r\n\r\nGelegentlich finden Aktivitäten auch nur in der schulspezifischen Gruppe statt. Dabei werden die Schulen der Ortsteile zusammengefasst.  
URL;VALUE=URI:https://www.unser-ferienprogramm.de/radolfzell/veranstaltung.php?id=295795
SUMMARY:Ferienzeit Sommerferienwoche 3. und 4. Woche
DTSTART;TZID=Europe/Berlin:20260819T080000
END:VEVENT


BEGIN:VEVENT
DTEND;TZID=Europe/Berlin:20260820T160000
UID:69e8fad08ac8b3
DTSTAMP:20260422T184400
LOCATION:Teggingerschule
DESCRIPTION:Die Ferienzeit ist eine kommunale Ferienbetreuung für Grundschulkinder\, die in Radolfzell wohnen.\r\nDa es aktuell keine Platzbegrenzung gibt ist die Ferienzeit verlässlich\, so dass die Familien ihre Ferien entspannt planen können.\r\n\r\nÜberwiegend ist die Ferienzeit nach einem offenem Konzept gestaltet. Nach dem Morgenkreis entscheiden sich die Kinder für kreative\, sportliche\, erlebnispädagogische Angebote oder Ausflüge. Nach dem Mittag haben die Kinder frei zu gestaltende Zeit und können die Räumen so nutzen\, wie sie es gerade brauchen. Nachmittags besteht auch die Möglichkeit bei einem Wahlangebot teilzunehmen. Ein Beispielwochenplan finden Sie auf dem Flyer.\r\n\r\nGelegentlich finden Aktivitäten auch nur in der schulspezifischen Gruppe statt. Dabei werden die Schulen der Ortsteile zusammengefasst.  
URL;VALUE=URI:https://www.unser-ferienprogramm.de/radolfzell/veranstaltung.php?id=295795
SUMMARY:Ferienzeit Sommerferienwoche 3. und 4. Woche
DTSTART;TZID=Europe/Berlin:20260820T080000
END:VEVENT


BEGIN:VEVENT
DTEND;TZID=Europe/Berlin:20260821T160000
UID:69e8fad08ac9b4
DTSTAMP:20260422T184400
LOCATION:Teggingerschule
DESCRIPTION:Die Ferienzeit ist eine kommunale Ferienbetreuung für Grundschulkinder\, die in Radolfzell wohnen.\r\nDa es aktuell keine Platzbegrenzung gibt ist die Ferienzeit verlässlich\, so dass die Familien ihre Ferien entspannt planen können.\r\n\r\nÜberwiegend ist die Ferienzeit nach einem offenem Konzept gestaltet. Nach dem Morgenkreis entscheiden sich die Kinder für kreative\, sportliche\, erlebnispädagogische Angebote oder Ausflüge. Nach dem Mittag haben die Kinder frei zu gestaltende Zeit und können die Räumen so nutzen\, wie sie es gerade brauchen. Nachmittags besteht auch die Möglichkeit bei einem Wahlangebot teilzunehmen. Ein Beispielwochenplan finden Sie auf dem Flyer.\r\n\r\nGelegentlich finden Aktivitäten auch nur in der schulspezifischen Gruppe statt. Dabei werden die Schulen der Ortsteile zusammengefasst.  
URL;VALUE=URI:https://www.unser-ferienprogramm.de/radolfzell/veranstaltung.php?id=295795
SUMMARY:Ferienzeit Sommerferienwoche 3. und 4. Woche
DTSTART;TZID=Europe/Berlin:20260821T080000
END:VEVENT


BEGIN:VEVENT
DTEND;TZID=Europe/Berlin:20260824T160000
UID:69e8fad08acac5
DTSTAMP:20260422T184400
LOCATION:Teggingerschule
DESCRIPTION:Die Ferienzeit ist eine kommunale Ferienbetreuung für Grundschulkinder\, die in Radolfzell wohnen.\r\nDa es aktuell keine Platzbegrenzung gibt ist die Ferienzeit verlässlich\, so dass die Familien ihre Ferien entspannt planen können.\r\n\r\nÜberwiegend ist die Ferienzeit nach einem offenem Konzept gestaltet. Nach dem Morgenkreis entscheiden sich die Kinder für kreative\, sportliche\, erlebnispädagogische Angebote oder Ausflüge. Nach dem Mittag haben die Kinder frei zu gestaltende Zeit und können die Räumen so nutzen\, wie sie es gerade brauchen. Nachmittags besteht auch die Möglichkeit bei einem Wahlangebot teilzunehmen. Ein Beispielwochenplan finden Sie auf dem Flyer.\r\n\r\nGelegentlich finden Aktivitäten auch nur in der schulspezifischen Gruppe statt. Dabei werden die Schulen der Ortsteile zusammengefasst.  
URL;VALUE=URI:https://www.unser-ferienprogramm.de/radolfzell/veranstaltung.php?id=295795
SUMMARY:Ferienzeit Sommerferienwoche 3. und 4. Woche
DTSTART;TZID=Europe/Berlin:20260824T080000
END:VEVENT


BEGIN:VEVENT
DTEND;TZID=Europe/Berlin:20260825T160000
UID:69e8fad08acb86
DTSTAMP:20260422T184400
LOCATION:Teggingerschule
DESCRIPTION:Die Ferienzeit ist eine kommunale Ferienbetreuung für Grundschulkinder\, die in Radolfzell wohnen.\r\nDa es aktuell keine Platzbegrenzung gibt ist die Ferienzeit verlässlich\, so dass die Familien ihre Ferien entspannt planen können.\r\n\r\nÜberwiegend ist die Ferienzeit nach einem offenem Konzept gestaltet. Nach dem Morgenkreis entscheiden sich die Kinder für kreative\, sportliche\, erlebnispädagogische Angebote oder Ausflüge. Nach dem Mittag haben die Kinder frei zu gestaltende Zeit und können die Räumen so nutzen\, wie sie es gerade brauchen. Nachmittags besteht auch die Möglichkeit bei einem Wahlangebot teilzunehmen. Ein Beispielwochenplan finden Sie auf dem Flyer.\r\n\r\nGelegentlich finden Aktivitäten auch nur in der schulspezifischen Gruppe statt. Dabei werden die Schulen der Ortsteile zusammengefasst.  
URL;VALUE=URI:https://www.unser-ferienprogramm.de/radolfzell/veranstaltung.php?id=295795
SUMMARY:Ferienzeit Sommerferienwoche 3. und 4. Woche
DTSTART;TZID=Europe/Berlin:20260825T080000
END:VEVENT


BEGIN:VEVENT
DTEND;TZID=Europe/Berlin:20260826T160000
UID:69e8fad08acc57
DTSTAMP:20260422T184400
LOCATION:Teggingerschule
DESCRIPTION:Die Ferienzeit ist eine kommunale Ferienbetreuung für Grundschulkinder\, die in Radolfzell wohnen.\r\nDa es aktuell keine Platzbegrenzung gibt ist die Ferienzeit verlässlich\, so dass die Familien ihre Ferien entspannt planen können.\r\n\r\nÜberwiegend ist die Ferienzeit nach einem offenem Konzept gestaltet. Nach dem Morgenkreis entscheiden sich die Kinder für kreative\, sportliche\, erlebnispädagogische Angebote oder Ausflüge. Nach dem Mittag haben die Kinder frei zu gestaltende Zeit und können die Räumen so nutzen\, wie sie es gerade brauchen. Nachmittags besteht auch die Möglichkeit bei einem Wahlangebot teilzunehmen. Ein Beispielwochenplan finden Sie auf dem Flyer.\r\n\r\nGelegentlich finden Aktivitäten auch nur in der schulspezifischen Gruppe statt. Dabei werden die Schulen der Ortsteile zusammengefasst.  
URL;VALUE=URI:https://www.unser-ferienprogramm.de/radolfzell/veranstaltung.php?id=295795
SUMMARY:Ferienzeit Sommerferienwoche 3. und 4. Woche
DTSTART;TZID=Europe/Berlin:20260826T080000
END:VEVENT


BEGIN:VEVENT
DTEND;TZID=Europe/Berlin:20260827T160000
UID:69e8fad08acd18
DTSTAMP:20260422T184400
LOCATION:Teggingerschule
DESCRIPTION:Die Ferienzeit ist eine kommunale Ferienbetreuung für Grundschulkinder\, die in Radolfzell wohnen.\r\nDa es aktuell keine Platzbegrenzung gibt ist die Ferienzeit verlässlich\, so dass die Familien ihre Ferien entspannt planen können.\r\n\r\nÜberwiegend ist die Ferienzeit nach einem offenem Konzept gestaltet. Nach dem Morgenkreis entscheiden sich die Kinder für kreative\, sportliche\, erlebnispädagogische Angebote oder Ausflüge. Nach dem Mittag haben die Kinder frei zu gestaltende Zeit und können die Räumen so nutzen\, wie sie es gerade brauchen. Nachmittags besteht auch die Möglichkeit bei einem Wahlangebot teilzunehmen. Ein Beispielwochenplan finden Sie auf dem Flyer.\r\n\r\nGelegentlich finden Aktivitäten auch nur in der schulspezifischen Gruppe statt. Dabei werden die Schulen der Ortsteile zusammengefasst.  
URL;VALUE=URI:https://www.unser-ferienprogramm.de/radolfzell/veranstaltung.php?id=295795
SUMMARY:Ferienzeit Sommerferienwoche 3. und 4. Woche
DTSTART;TZID=Europe/Berlin:20260827T080000
END:VEVENT


BEGIN:VEVENT
DTEND;TZID=Europe/Berlin:20260828T160000
UID:69e8fad08acde9
DTSTAMP:20260422T184400
LOCATION:Teggingerschule
DESCRIPTION:Die Ferienzeit ist eine kommunale Ferienbetreuung für Grundschulkinder\, die in Radolfzell wohnen.\r\nDa es aktuell keine Platzbegrenzung gibt ist die Ferienzeit verlässlich\, so dass die Familien ihre Ferien entspannt planen können.\r\n\r\nÜberwiegend ist die Ferienzeit nach einem offenem Konzept gestaltet. Nach dem Morgenkreis entscheiden sich die Kinder für kreative\, sportliche\, erlebnispädagogische Angebote oder Ausflüge. Nach dem Mittag haben die Kinder frei zu gestaltende Zeit und können die Räumen so nutzen\, wie sie es gerade brauchen. Nachmittags besteht auch die Möglichkeit bei einem Wahlangebot teilzunehmen. Ein Beispielwochenplan finden Sie auf dem Flyer.\r\n\r\nGelegentlich finden Aktivitäten auch nur in der schulspezifischen Gruppe statt. Dabei werden die Schulen der Ortsteile zusammengefasst.  
URL;VALUE=URI:https://www.unser-ferienprogramm.de/radolfzell/veranstaltung.php?id=295795
SUMMARY:Ferienzeit Sommerferienwoche 3. und 4. Woche
DTSTART;TZID=Europe/Berlin:20260828T080000
END:VEVENT

END:VCALENDAR
