BEGIN:VCALENDAR
VERSION:2.0
PRODID:-//hacksw/handcal//NONSGML v1.0//EN
CALSCALE:GREGORIAN
BEGIN:VTIMEZONE
TZID:Europe/Berlin
X-LIC-LOCATION:Europe/Berlin
BEGIN:DAYLIGHT
TZOFFSETFROM:+0100
TZOFFSETTO:+0200
TZNAME:CEST
DTSTART:19700329T020000
RRULE:FREQ=YEARLY;BYDAY=-1SU;BYMONTH=3
END:DAYLIGHT
BEGIN:STANDARD
TZOFFSETFROM:+0200
TZOFFSETTO:+0100
TZNAME:CET
DTSTART:19701025T030000
RRULE:FREQ=YEARLY;BYDAY=-1SU;BYMONTH=10
END:STANDARD
END:VTIMEZONE
BEGIN:VEVENT
DTEND;TZID=Europe/Berlin:20260803T160000
UID:69e8f605a17a9
DTSTAMP:20260422T182333
LOCATION:Teggingerschule
DESCRIPTION:Die Ferienzeit ist eine kommunale Ferienbetreuung für Grundschulkinder\, die in Radolfzell wohnen.\r\nDa es aktuell keine Platzbegrenzung gibt ist die Ferienzeit verlässlich\, so dass die Familien ihre Ferien entspannt planen können.\r\n\r\nÜberwiegend ist die Ferienzeit nach einem offenem Konzept gestaltet. Nach dem Morgenkreis entscheiden sich die Kinder für kreative\, sportliche\, erlebnispädagogische Angebote oder Ausflüge. Nach dem Mittag haben die Kinder frei zu gestaltende Zeit und können die Räumen so nutzen\, wie sie es gerade brauchen. Nachmittags besteht auch die Möglichkeit bei einem Wahlangebot teilzunehmen. Ein Beispielwochenplan finden Sie auf dem Flyer.\r\n\r\nGelegentlich finden Aktivitäten auch nur in der schulspezifischen Gruppe statt. Dabei werden die Schulen der Ortsteile zusammengefasst.  
URL;VALUE=URI:https://www.unser-ferienprogramm.de/radolfzell/veranstaltung.php?id=295789
SUMMARY:Ferienzeit Sommerferienwoche 1. und 2. Woche
DTSTART;TZID=Europe/Berlin:20260803T080000
END:VEVENT


BEGIN:VEVENT
DTEND;TZID=Europe/Berlin:20260804T160000
UID:69e8f605a17c41
DTSTAMP:20260422T182333
LOCATION:Teggingerschule
DESCRIPTION:Die Ferienzeit ist eine kommunale Ferienbetreuung für Grundschulkinder\, die in Radolfzell wohnen.\r\nDa es aktuell keine Platzbegrenzung gibt ist die Ferienzeit verlässlich\, so dass die Familien ihre Ferien entspannt planen können.\r\n\r\nÜberwiegend ist die Ferienzeit nach einem offenem Konzept gestaltet. Nach dem Morgenkreis entscheiden sich die Kinder für kreative\, sportliche\, erlebnispädagogische Angebote oder Ausflüge. Nach dem Mittag haben die Kinder frei zu gestaltende Zeit und können die Räumen so nutzen\, wie sie es gerade brauchen. Nachmittags besteht auch die Möglichkeit bei einem Wahlangebot teilzunehmen. Ein Beispielwochenplan finden Sie auf dem Flyer.\r\n\r\nGelegentlich finden Aktivitäten auch nur in der schulspezifischen Gruppe statt. Dabei werden die Schulen der Ortsteile zusammengefasst.  
URL;VALUE=URI:https://www.unser-ferienprogramm.de/radolfzell/veranstaltung.php?id=295789
SUMMARY:Ferienzeit Sommerferienwoche 1. und 2. Woche
DTSTART;TZID=Europe/Berlin:20260804T080000
END:VEVENT


BEGIN:VEVENT
DTEND;TZID=Europe/Berlin:20260805T160000
UID:69e8f605a17d52
DTSTAMP:20260422T182333
LOCATION:Teggingerschule
DESCRIPTION:Die Ferienzeit ist eine kommunale Ferienbetreuung für Grundschulkinder\, die in Radolfzell wohnen.\r\nDa es aktuell keine Platzbegrenzung gibt ist die Ferienzeit verlässlich\, so dass die Familien ihre Ferien entspannt planen können.\r\n\r\nÜberwiegend ist die Ferienzeit nach einem offenem Konzept gestaltet. Nach dem Morgenkreis entscheiden sich die Kinder für kreative\, sportliche\, erlebnispädagogische Angebote oder Ausflüge. Nach dem Mittag haben die Kinder frei zu gestaltende Zeit und können die Räumen so nutzen\, wie sie es gerade brauchen. Nachmittags besteht auch die Möglichkeit bei einem Wahlangebot teilzunehmen. Ein Beispielwochenplan finden Sie auf dem Flyer.\r\n\r\nGelegentlich finden Aktivitäten auch nur in der schulspezifischen Gruppe statt. Dabei werden die Schulen der Ortsteile zusammengefasst.  
URL;VALUE=URI:https://www.unser-ferienprogramm.de/radolfzell/veranstaltung.php?id=295789
SUMMARY:Ferienzeit Sommerferienwoche 1. und 2. Woche
DTSTART;TZID=Europe/Berlin:20260805T080000
END:VEVENT


BEGIN:VEVENT
DTEND;TZID=Europe/Berlin:20260806T160000
UID:69e8f605a17e53
DTSTAMP:20260422T182333
LOCATION:Teggingerschule
DESCRIPTION:Die Ferienzeit ist eine kommunale Ferienbetreuung für Grundschulkinder\, die in Radolfzell wohnen.\r\nDa es aktuell keine Platzbegrenzung gibt ist die Ferienzeit verlässlich\, so dass die Familien ihre Ferien entspannt planen können.\r\n\r\nÜberwiegend ist die Ferienzeit nach einem offenem Konzept gestaltet. Nach dem Morgenkreis entscheiden sich die Kinder für kreative\, sportliche\, erlebnispädagogische Angebote oder Ausflüge. Nach dem Mittag haben die Kinder frei zu gestaltende Zeit und können die Räumen so nutzen\, wie sie es gerade brauchen. Nachmittags besteht auch die Möglichkeit bei einem Wahlangebot teilzunehmen. Ein Beispielwochenplan finden Sie auf dem Flyer.\r\n\r\nGelegentlich finden Aktivitäten auch nur in der schulspezifischen Gruppe statt. Dabei werden die Schulen der Ortsteile zusammengefasst.  
URL;VALUE=URI:https://www.unser-ferienprogramm.de/radolfzell/veranstaltung.php?id=295789
SUMMARY:Ferienzeit Sommerferienwoche 1. und 2. Woche
DTSTART;TZID=Europe/Berlin:20260806T080000
END:VEVENT


BEGIN:VEVENT
DTEND;TZID=Europe/Berlin:20260807T160000
UID:69e8f605a17f24
DTSTAMP:20260422T182333
LOCATION:Teggingerschule
DESCRIPTION:Die Ferienzeit ist eine kommunale Ferienbetreuung für Grundschulkinder\, die in Radolfzell wohnen.\r\nDa es aktuell keine Platzbegrenzung gibt ist die Ferienzeit verlässlich\, so dass die Familien ihre Ferien entspannt planen können.\r\n\r\nÜberwiegend ist die Ferienzeit nach einem offenem Konzept gestaltet. Nach dem Morgenkreis entscheiden sich die Kinder für kreative\, sportliche\, erlebnispädagogische Angebote oder Ausflüge. Nach dem Mittag haben die Kinder frei zu gestaltende Zeit und können die Räumen so nutzen\, wie sie es gerade brauchen. Nachmittags besteht auch die Möglichkeit bei einem Wahlangebot teilzunehmen. Ein Beispielwochenplan finden Sie auf dem Flyer.\r\n\r\nGelegentlich finden Aktivitäten auch nur in der schulspezifischen Gruppe statt. Dabei werden die Schulen der Ortsteile zusammengefasst.  
URL;VALUE=URI:https://www.unser-ferienprogramm.de/radolfzell/veranstaltung.php?id=295789
SUMMARY:Ferienzeit Sommerferienwoche 1. und 2. Woche
DTSTART;TZID=Europe/Berlin:20260807T080000
END:VEVENT


BEGIN:VEVENT
DTEND;TZID=Europe/Berlin:20260810T160000
UID:69e8f605a17fe5
DTSTAMP:20260422T182333
LOCATION:Teggingerschule
DESCRIPTION:Die Ferienzeit ist eine kommunale Ferienbetreuung für Grundschulkinder\, die in Radolfzell wohnen.\r\nDa es aktuell keine Platzbegrenzung gibt ist die Ferienzeit verlässlich\, so dass die Familien ihre Ferien entspannt planen können.\r\n\r\nÜberwiegend ist die Ferienzeit nach einem offenem Konzept gestaltet. Nach dem Morgenkreis entscheiden sich die Kinder für kreative\, sportliche\, erlebnispädagogische Angebote oder Ausflüge. Nach dem Mittag haben die Kinder frei zu gestaltende Zeit und können die Räumen so nutzen\, wie sie es gerade brauchen. Nachmittags besteht auch die Möglichkeit bei einem Wahlangebot teilzunehmen. Ein Beispielwochenplan finden Sie auf dem Flyer.\r\n\r\nGelegentlich finden Aktivitäten auch nur in der schulspezifischen Gruppe statt. Dabei werden die Schulen der Ortsteile zusammengefasst.  
URL;VALUE=URI:https://www.unser-ferienprogramm.de/radolfzell/veranstaltung.php?id=295789
SUMMARY:Ferienzeit Sommerferienwoche 1. und 2. Woche
DTSTART;TZID=Europe/Berlin:20260810T080000
END:VEVENT


BEGIN:VEVENT
DTEND;TZID=Europe/Berlin:20260811T160000
UID:69e8f605a180a6
DTSTAMP:20260422T182333
LOCATION:Teggingerschule
DESCRIPTION:Die Ferienzeit ist eine kommunale Ferienbetreuung für Grundschulkinder\, die in Radolfzell wohnen.\r\nDa es aktuell keine Platzbegrenzung gibt ist die Ferienzeit verlässlich\, so dass die Familien ihre Ferien entspannt planen können.\r\n\r\nÜberwiegend ist die Ferienzeit nach einem offenem Konzept gestaltet. Nach dem Morgenkreis entscheiden sich die Kinder für kreative\, sportliche\, erlebnispädagogische Angebote oder Ausflüge. Nach dem Mittag haben die Kinder frei zu gestaltende Zeit und können die Räumen so nutzen\, wie sie es gerade brauchen. Nachmittags besteht auch die Möglichkeit bei einem Wahlangebot teilzunehmen. Ein Beispielwochenplan finden Sie auf dem Flyer.\r\n\r\nGelegentlich finden Aktivitäten auch nur in der schulspezifischen Gruppe statt. Dabei werden die Schulen der Ortsteile zusammengefasst.  
URL;VALUE=URI:https://www.unser-ferienprogramm.de/radolfzell/veranstaltung.php?id=295789
SUMMARY:Ferienzeit Sommerferienwoche 1. und 2. Woche
DTSTART;TZID=Europe/Berlin:20260811T080000
END:VEVENT


BEGIN:VEVENT
DTEND;TZID=Europe/Berlin:20260812T160000
UID:69e8f605a18167
DTSTAMP:20260422T182333
LOCATION:Teggingerschule
DESCRIPTION:Die Ferienzeit ist eine kommunale Ferienbetreuung für Grundschulkinder\, die in Radolfzell wohnen.\r\nDa es aktuell keine Platzbegrenzung gibt ist die Ferienzeit verlässlich\, so dass die Familien ihre Ferien entspannt planen können.\r\n\r\nÜberwiegend ist die Ferienzeit nach einem offenem Konzept gestaltet. Nach dem Morgenkreis entscheiden sich die Kinder für kreative\, sportliche\, erlebnispädagogische Angebote oder Ausflüge. Nach dem Mittag haben die Kinder frei zu gestaltende Zeit und können die Räumen so nutzen\, wie sie es gerade brauchen. Nachmittags besteht auch die Möglichkeit bei einem Wahlangebot teilzunehmen. Ein Beispielwochenplan finden Sie auf dem Flyer.\r\n\r\nGelegentlich finden Aktivitäten auch nur in der schulspezifischen Gruppe statt. Dabei werden die Schulen der Ortsteile zusammengefasst.  
URL;VALUE=URI:https://www.unser-ferienprogramm.de/radolfzell/veranstaltung.php?id=295789
SUMMARY:Ferienzeit Sommerferienwoche 1. und 2. Woche
DTSTART;TZID=Europe/Berlin:20260812T080000
END:VEVENT


BEGIN:VEVENT
DTEND;TZID=Europe/Berlin:20260813T160000
UID:69e8f605a18238
DTSTAMP:20260422T182333
LOCATION:Teggingerschule
DESCRIPTION:Die Ferienzeit ist eine kommunale Ferienbetreuung für Grundschulkinder\, die in Radolfzell wohnen.\r\nDa es aktuell keine Platzbegrenzung gibt ist die Ferienzeit verlässlich\, so dass die Familien ihre Ferien entspannt planen können.\r\n\r\nÜberwiegend ist die Ferienzeit nach einem offenem Konzept gestaltet. Nach dem Morgenkreis entscheiden sich die Kinder für kreative\, sportliche\, erlebnispädagogische Angebote oder Ausflüge. Nach dem Mittag haben die Kinder frei zu gestaltende Zeit und können die Räumen so nutzen\, wie sie es gerade brauchen. Nachmittags besteht auch die Möglichkeit bei einem Wahlangebot teilzunehmen. Ein Beispielwochenplan finden Sie auf dem Flyer.\r\n\r\nGelegentlich finden Aktivitäten auch nur in der schulspezifischen Gruppe statt. Dabei werden die Schulen der Ortsteile zusammengefasst.  
URL;VALUE=URI:https://www.unser-ferienprogramm.de/radolfzell/veranstaltung.php?id=295789
SUMMARY:Ferienzeit Sommerferienwoche 1. und 2. Woche
DTSTART;TZID=Europe/Berlin:20260813T080000
END:VEVENT


BEGIN:VEVENT
DTEND;TZID=Europe/Berlin:20260814T160000
UID:69e8f605a182f9
DTSTAMP:20260422T182333
LOCATION:Teggingerschule
DESCRIPTION:Die Ferienzeit ist eine kommunale Ferienbetreuung für Grundschulkinder\, die in Radolfzell wohnen.\r\nDa es aktuell keine Platzbegrenzung gibt ist die Ferienzeit verlässlich\, so dass die Familien ihre Ferien entspannt planen können.\r\n\r\nÜberwiegend ist die Ferienzeit nach einem offenem Konzept gestaltet. Nach dem Morgenkreis entscheiden sich die Kinder für kreative\, sportliche\, erlebnispädagogische Angebote oder Ausflüge. Nach dem Mittag haben die Kinder frei zu gestaltende Zeit und können die Räumen so nutzen\, wie sie es gerade brauchen. Nachmittags besteht auch die Möglichkeit bei einem Wahlangebot teilzunehmen. Ein Beispielwochenplan finden Sie auf dem Flyer.\r\n\r\nGelegentlich finden Aktivitäten auch nur in der schulspezifischen Gruppe statt. Dabei werden die Schulen der Ortsteile zusammengefasst.  
URL;VALUE=URI:https://www.unser-ferienprogramm.de/radolfzell/veranstaltung.php?id=295789
SUMMARY:Ferienzeit Sommerferienwoche 1. und 2. Woche
DTSTART;TZID=Europe/Berlin:20260814T080000
END:VEVENT

END:VCALENDAR
