BEGIN:VCALENDAR
VERSION:2.0
PRODID:-//hacksw/handcal//NONSGML v1.0//EN
CALSCALE:GREGORIAN
BEGIN:VTIMEZONE
TZID:Europe/Berlin
X-LIC-LOCATION:Europe/Berlin
BEGIN:DAYLIGHT
TZOFFSETFROM:+0100
TZOFFSETTO:+0200
TZNAME:CEST
DTSTART:19700329T020000
RRULE:FREQ=YEARLY;BYDAY=-1SU;BYMONTH=3
END:DAYLIGHT
BEGIN:STANDARD
TZOFFSETFROM:+0200
TZOFFSETTO:+0100
TZNAME:CET
DTSTART:19701025T030000
RRULE:FREQ=YEARLY;BYDAY=-1SU;BYMONTH=10
END:STANDARD
END:VTIMEZONE
BEGIN:VEVENT
DTEND;TZID=Europe/Berlin:20250909T163000
UID:69e7b64fbe0c3
DTSTAMP:20260421T193927
LOCATION:Sennfeld\, Reichelshof
DESCRIPTION:Ferienabenteuer: Besuch des Natur – und Umweltgartens Reichelshof\r\nFreue dich auf Spiel und Spaß in der Natur und mit den zahlreichen Tieren auf dem Reichelshof!\r\nErlebe spannende Augenblicke mit den Schildkröten oder lerne die Sanftmütigkeit der Kamele und Esel kennen und lieben! Die Tiere freuen sich schon riesig auf eure Streicheleinheiten.\r\nNachdem wir sie nicht nur gestreichelt\, sondern auch gefüttert haben\, geht es an die eigentliche Raubtierfütterung: wir backen unsere eigenen Pfannkuchen! \r\nIm Anschluss können bei entsprechenden Temperaturen die Wasserpistolen gezückt werden – rette sich wer kann! \r\n
URL;VALUE=URI:https://www.unser-ferienprogramm.de/prichsenstadt/veranstaltung.php?id=285554
SUMMARY:Umweltstation Reichelshof
DTSTART;TZID=Europe/Berlin:20250909T093000
END:VEVENT

END:VCALENDAR
