BEGIN:VCALENDAR
VERSION:2.0
PRODID:-//hacksw/handcal//NONSGML v1.0//EN
CALSCALE:GREGORIAN
BEGIN:VTIMEZONE
TZID:Europe/Berlin
X-LIC-LOCATION:Europe/Berlin
BEGIN:DAYLIGHT
TZOFFSETFROM:+0100
TZOFFSETTO:+0200
TZNAME:CEST
DTSTART:19700329T020000
RRULE:FREQ=YEARLY;BYDAY=-1SU;BYMONTH=3
END:DAYLIGHT
BEGIN:STANDARD
TZOFFSETFROM:+0200
TZOFFSETTO:+0100
TZNAME:CET
DTSTART:19701025T030000
RRULE:FREQ=YEARLY;BYDAY=-1SU;BYMONTH=10
END:STANDARD
END:VTIMEZONE
BEGIN:VEVENT
DTEND;TZID=Europe/Berlin:20250809T160000
UID:69e7ccdca558b
DTSTAMP:20260421T211540
LOCATION:Prichsenstadt
DESCRIPTION:Aquarellmalerei im Weinbergshäusle\r\n\r\nWir treffen uns in der Luitpoldstraße und laufen gemeinsam zum Weinbergshäusle um zu Malen.\r\nUnser Thema ist "Strand und Meer".\r\n\r\nAm 13.08.2025 um 17.00 Uhr findet dann eine Vernissage mit den gemalten Bildern im Rathausfoyer in Prichenstadt statt\, zu der alle mit ihren Eltern herzlich eingeladen sind.
URL;VALUE=URI:https://www.unser-ferienprogramm.de/prichsenstadt/veranstaltung.php?id=279361
SUMMARY:Aquarellmalerei im Weinbergshäusle
DTSTART;TZID=Europe/Berlin:20250809T130000
END:VEVENT

END:VCALENDAR
