BEGIN:VCALENDAR
VERSION:2.0
PRODID:-//hacksw/handcal//NONSGML v1.0//EN
CALSCALE:GREGORIAN
BEGIN:VTIMEZONE
TZID:Europe/Berlin
X-LIC-LOCATION:Europe/Berlin
BEGIN:DAYLIGHT
TZOFFSETFROM:+0100
TZOFFSETTO:+0200
TZNAME:CEST
DTSTART:19700329T020000
RRULE:FREQ=YEARLY;BYDAY=-1SU;BYMONTH=3
END:DAYLIGHT
BEGIN:STANDARD
TZOFFSETFROM:+0200
TZOFFSETTO:+0100
TZNAME:CET
DTSTART:19701025T030000
RRULE:FREQ=YEARLY;BYDAY=-1SU;BYMONTH=10
END:STANDARD
END:VTIMEZONE
BEGIN:VEVENT
DTEND;TZID=Europe/Berlin:20250806T173000
UID:69e7cc65627af
DTSTAMP:20260421T211341
LOCATION:Brünnau
DESCRIPTION:Eine Zeitreise in die Kindheit eurer Großeltern\r\nHabt ihr Lust auf eine spannende Reise in die Vergangenheit?\r\nWollt ihr entdecken\, wie eure Großeltern früher gekocht\, gearbeitet und eingekauft haben?\r\nDann kommt mit uns auf eine kleine Zeitreise!\r\nWir öffnen für euch die Türen unserer Brünner Dorfschmiede und zeigen euch\, wie das Leben früher war – ganz ohne Handy\, Onlineshops und Homeoffice.\r\nFreut euch auf spannende Geschichten\, alte Gegenstände und einen Blick in den Alltag von damals.\r\nWir freuen uns auf euch!\r\n
URL;VALUE=URI:https://www.unser-ferienprogramm.de/prichsenstadt/veranstaltung.php?id=277549
SUMMARY:Es war einmal ...
DTSTART;TZID=Europe/Berlin:20250806T143000
END:VEVENT

END:VCALENDAR
