BEGIN:VCALENDAR
VERSION:2.0
PRODID:-//hacksw/handcal//NONSGML v1.0//EN
CALSCALE:GREGORIAN
BEGIN:VTIMEZONE
TZID:Europe/Berlin
X-LIC-LOCATION:Europe/Berlin
BEGIN:DAYLIGHT
TZOFFSETFROM:+0100
TZOFFSETTO:+0200
TZNAME:CEST
DTSTART:19700329T020000
RRULE:FREQ=YEARLY;BYDAY=-1SU;BYMONTH=3
END:DAYLIGHT
BEGIN:STANDARD
TZOFFSETFROM:+0200
TZOFFSETTO:+0100
TZNAME:CET
DTSTART:19701025T030000
RRULE:FREQ=YEARLY;BYDAY=-1SU;BYMONTH=10
END:STANDARD
END:VTIMEZONE
BEGIN:VEVENT
DTEND;TZID=Europe/Berlin:20250905T200000
UID:69e7b57a8ca1c
DTSTAMP:20260421T193554
LOCATION:Laub 45
DESCRIPTION:Anlässlich des Jubiläums der Klavierstation wird für die Kinder ein lustiger Stummfilm gezeigt mit einer "Live"-Klavierbegleitung - lasst euch überraschen!\r\nDie Klavierstation wird vorgestellt und kann besichtigt werden.\r\nIn der Pause werden Getränke und Popcorn verkauft.\r\n
URL;VALUE=URI:https://www.unser-ferienprogramm.de/prichsenstadt/veranstaltung.php?id=267341
SUMMARY:Klavierstation
DTSTART;TZID=Europe/Berlin:20250905T180000
END:VEVENT

END:VCALENDAR
