BEGIN:VCALENDAR
VERSION:2.0
PRODID:-//hacksw/handcal//NONSGML v1.0//EN
CALSCALE:GREGORIAN
BEGIN:VTIMEZONE
TZID:Europe/Berlin
X-LIC-LOCATION:Europe/Berlin
BEGIN:DAYLIGHT
TZOFFSETFROM:+0100
TZOFFSETTO:+0200
TZNAME:CEST
DTSTART:19700329T020000
RRULE:FREQ=YEARLY;BYDAY=-1SU;BYMONTH=3
END:DAYLIGHT
BEGIN:STANDARD
TZOFFSETFROM:+0200
TZOFFSETTO:+0100
TZNAME:CET
DTSTART:19701025T030000
RRULE:FREQ=YEARLY;BYDAY=-1SU;BYMONTH=10
END:STANDARD
END:VTIMEZONE
BEGIN:VEVENT
DTEND;TZID=Europe/Berlin:20250811T170000
UID:69e7b6a6d9d08
DTSTAMP:20260421T194054
LOCATION:Laub
DESCRIPTION:Wanderung zum See\, dort Spiele und Stockbrot und Bastelarbeiten zum Thema "Wasser".
URL;VALUE=URI:https://www.unser-ferienprogramm.de/prichsenstadt/veranstaltung.php?id=263959
SUMMARY:Spiel und Spaß am Lauber See
DTSTART;TZID=Europe/Berlin:20250811T130000
END:VEVENT

END:VCALENDAR
