BEGIN:VCALENDAR
VERSION:2.0
PRODID:-//hacksw/handcal//NONSGML v1.0//EN
CALSCALE:GREGORIAN
BEGIN:VTIMEZONE
TZID:Europe/Berlin
X-LIC-LOCATION:Europe/Berlin
BEGIN:DAYLIGHT
TZOFFSETFROM:+0100
TZOFFSETTO:+0200
TZNAME:CEST
DTSTART:19700329T020000
RRULE:FREQ=YEARLY;BYDAY=-1SU;BYMONTH=3
END:DAYLIGHT
BEGIN:STANDARD
TZOFFSETFROM:+0200
TZOFFSETTO:+0100
TZNAME:CET
DTSTART:19701025T030000
RRULE:FREQ=YEARLY;BYDAY=-1SU;BYMONTH=10
END:STANDARD
END:VTIMEZONE
BEGIN:VEVENT
DTEND;TZID=Europe/Berlin:20260601T150000
UID:69eb7549c1f95
DTSTAMP:20260424T155105
LOCATION:Ausbildungszentrum Pfleiderer Neumarkt GmbH\, Ingolstädter Straße 51\, 92318 Neumarkt
DESCRIPTION:Du weißt noch nicht genau\, welcher Beruf zu dir passt? Dann ist der Berufe-Checker bei der Raiffeisenbank genau das Richtige für dich!\r\n\r\nHier bekommst du die Möglichkeit\, verschiedene Berufsfelder kennenzulernen und einen Einblick in die Arbeitswelt zu gewinnen. Gemeinsam schaut ihr\, welche Stärken und Interessen in euch stecken und welche Ausbildungsberufe dazu passen könnten.\r\n\r\nMit praktischen Einblicken\, Austausch und eigenen Erfahrungen könnt ihr herausfinden\, wo eure Talente liegen und was euch Spaß macht.\r\n\r\nEine spannende Aktion für alle\, die sich orientieren möchten und neugierig auf ihre berufliche Zukunft sind.\r\n
URL;VALUE=URI:https://www.unser-ferienprogramm.de/postbauer-heng/veranstaltung.php?id=318791
SUMMARY:Berufe-Checker bei Pfleiderer
DTSTART;TZID=Europe/Berlin:20260601T080000
END:VEVENT


BEGIN:VEVENT
DTEND;TZID=Europe/Berlin:20260602T150000
UID:69eb7549c1fd71
DTSTAMP:20260424T155105
LOCATION:Ausbildungszentrum Pfleiderer Neumarkt GmbH\, Ingolstädter Straße 51\, 92318 Neumarkt
DESCRIPTION:Du weißt noch nicht genau\, welcher Beruf zu dir passt? Dann ist der Berufe-Checker bei der Raiffeisenbank genau das Richtige für dich!\r\n\r\nHier bekommst du die Möglichkeit\, verschiedene Berufsfelder kennenzulernen und einen Einblick in die Arbeitswelt zu gewinnen. Gemeinsam schaut ihr\, welche Stärken und Interessen in euch stecken und welche Ausbildungsberufe dazu passen könnten.\r\n\r\nMit praktischen Einblicken\, Austausch und eigenen Erfahrungen könnt ihr herausfinden\, wo eure Talente liegen und was euch Spaß macht.\r\n\r\nEine spannende Aktion für alle\, die sich orientieren möchten und neugierig auf ihre berufliche Zukunft sind.\r\n
URL;VALUE=URI:https://www.unser-ferienprogramm.de/postbauer-heng/veranstaltung.php?id=318791
SUMMARY:Berufe-Checker bei Pfleiderer
DTSTART;TZID=Europe/Berlin:20260602T080000
END:VEVENT


BEGIN:VEVENT
DTEND;TZID=Europe/Berlin:20260603T150000
UID:69eb7549c1fe82
DTSTAMP:20260424T155105
LOCATION:Ausbildungszentrum Pfleiderer Neumarkt GmbH\, Ingolstädter Straße 51\, 92318 Neumarkt
DESCRIPTION:Du weißt noch nicht genau\, welcher Beruf zu dir passt? Dann ist der Berufe-Checker bei der Raiffeisenbank genau das Richtige für dich!\r\n\r\nHier bekommst du die Möglichkeit\, verschiedene Berufsfelder kennenzulernen und einen Einblick in die Arbeitswelt zu gewinnen. Gemeinsam schaut ihr\, welche Stärken und Interessen in euch stecken und welche Ausbildungsberufe dazu passen könnten.\r\n\r\nMit praktischen Einblicken\, Austausch und eigenen Erfahrungen könnt ihr herausfinden\, wo eure Talente liegen und was euch Spaß macht.\r\n\r\nEine spannende Aktion für alle\, die sich orientieren möchten und neugierig auf ihre berufliche Zukunft sind.\r\n
URL;VALUE=URI:https://www.unser-ferienprogramm.de/postbauer-heng/veranstaltung.php?id=318791
SUMMARY:Berufe-Checker bei Pfleiderer
DTSTART;TZID=Europe/Berlin:20260603T080000
END:VEVENT

END:VCALENDAR
