BEGIN:VCALENDAR
VERSION:2.0
PRODID:-//hacksw/handcal//NONSGML v1.0//EN
CALSCALE:GREGORIAN
BEGIN:VTIMEZONE
TZID:Europe/Berlin
X-LIC-LOCATION:Europe/Berlin
BEGIN:DAYLIGHT
TZOFFSETFROM:+0100
TZOFFSETTO:+0200
TZNAME:CEST
DTSTART:19700329T020000
RRULE:FREQ=YEARLY;BYDAY=-1SU;BYMONTH=3
END:DAYLIGHT
BEGIN:STANDARD
TZOFFSETFROM:+0200
TZOFFSETTO:+0100
TZNAME:CET
DTSTART:19701025T030000
RRULE:FREQ=YEARLY;BYDAY=-1SU;BYMONTH=10
END:STANDARD
END:VTIMEZONE
BEGIN:VEVENT
DTEND;TZID=Europe/Berlin:20260528T123000
UID:69eb4e11ca3dc
DTSTAMP:20260424T130345
LOCATION:Rathaus Markt Postbauer-Heng (Centrum 3\, 92353 Postbauer-Heng)
DESCRIPTION:Wie funktioniert eigentlich ein Rathaus? Wer arbeitet dort und was passiert hinter den Türen der Verwaltung? Bei der Rathaus-Rallye im Rathaus des Marktes Postbauer-Heng könnt ihr das selbst herausfinden.\r\n\r\nAusgestattet mit Tablets geht ihr in kleinen Teams auf eine digitale Schnitzeljagd durch das Rathaus. Ihr löst spannende Aufgaben\, sammelt Punkte und entdeckt Schritt für Schritt\, wie unsere Gemeinde organisiert ist.\r\n\r\nNach der Rallye wartet noch ein besonderes Highlight auf euch: Beim Pizza-Talk mit Bürgermeister Michael Frisch könnt ihr miteinander ins Gespräch kommen. Was wolltet ihr den Bürgermeister schon immer einmal fragen? Hier ist Platz für eure Fragen\, Ideen und Gedanken.
URL;VALUE=URI:https://www.unser-ferienprogramm.de/postbauer-heng/veranstaltung.php?id=318690
SUMMARY:Rathaus-Rally&Pizza-Talk mit unserem neuen Bürgermeister Michael Frisch
DTSTART;TZID=Europe/Berlin:20260528T090000
END:VEVENT

END:VCALENDAR
