BEGIN:VCALENDAR
VERSION:2.0
PRODID:-//hacksw/handcal//NONSGML v1.0//EN
CALSCALE:GREGORIAN
BEGIN:VTIMEZONE
TZID:Europe/Berlin
X-LIC-LOCATION:Europe/Berlin
BEGIN:DAYLIGHT
TZOFFSETFROM:+0100
TZOFFSETTO:+0200
TZNAME:CEST
DTSTART:19700329T020000
RRULE:FREQ=YEARLY;BYDAY=-1SU;BYMONTH=3
END:DAYLIGHT
BEGIN:STANDARD
TZOFFSETFROM:+0200
TZOFFSETTO:+0100
TZNAME:CET
DTSTART:19701025T030000
RRULE:FREQ=YEARLY;BYDAY=-1SU;BYMONTH=10
END:STANDARD
END:VTIMEZONE
BEGIN:VEVENT
DTEND;TZID=Europe/Berlin:20260601T160000
UID:69eb4e3ba552d
DTSTAMP:20260424T130427
LOCATION:Centrum 12
DESCRIPTION:Heute wird es italienisch! Bei Pizza Gabriels tauchen wir gemeinsam in die Welt der Pizza ein und erleben echten italienischen Flair.\r\n\r\nUnter Anleitung dürft ihr eure eigene Pizza selbst gestalten: Teig ausrollen\, nach Lust und Laune belegen und anschließend erleben\, wie daraus im Ofen eine frisch gebackene\, duftende Pizza entsteht. Dabei könnt ihr kreativ werden und genau die Zutaten wählen\, die euch am besten schmecken.\r\n\r\nAm Ende heißt es dann natürlich: Genießen! Eure selbstgemachte Pizza dürft ihr direkt vor Ort probieren
URL;VALUE=URI:https://www.unser-ferienprogramm.de/postbauer-heng/veranstaltung.php?id=318682
SUMMARY:Pizzabacken im Gabriel's
DTSTART;TZID=Europe/Berlin:20260601T140000
END:VEVENT

END:VCALENDAR
