BEGIN:VCALENDAR
VERSION:2.0
PRODID:-//hacksw/handcal//NONSGML v1.0//EN
CALSCALE:GREGORIAN
BEGIN:VTIMEZONE
TZID:Europe/Berlin
X-LIC-LOCATION:Europe/Berlin
BEGIN:DAYLIGHT
TZOFFSETFROM:+0100
TZOFFSETTO:+0200
TZNAME:CEST
DTSTART:19700329T020000
RRULE:FREQ=YEARLY;BYDAY=-1SU;BYMONTH=3
END:DAYLIGHT
BEGIN:STANDARD
TZOFFSETFROM:+0200
TZOFFSETTO:+0100
TZNAME:CET
DTSTART:19701025T030000
RRULE:FREQ=YEARLY;BYDAY=-1SU;BYMONTH=10
END:STANDARD
END:VTIMEZONE
BEGIN:VEVENT
DTEND;TZID=Europe/Berlin:20260602T153000
UID:69eb4e1346639
DTSTAMP:20260424T130347
LOCATION:E4 Boulderhalle Nürnberg
DESCRIPTION:Mit dem Kleinbus geht es gemeinsam nach Nürnberg in die Boulderhalle E4. Dort erwartet euch ein sportliches Erlebnis mit viel Bewegung\, Geschick und Mut.\r\n\r\nBeim Bouldern könnt ihr euch an verschiedenen Kletterwänden und Routen ausprobieren. Begleitet und angeleitet werdet ihr dabei von Fachpersonal vor Ort\, sodass ihr sicher und gut betreut erste Erfahrungen sammeln oder neue Herausforderungen meistern könnt.\r\n\r\nNach dem Bouldern gibt es zur Stärkung noch Pizza und ein Getränk\, bevor wir gemeinsam die Heimreise antreten.\r\n\r\nEin aktiver Ausflug voller Bewegung\, Teamgeist und Spaß – wir freuen uns auf euch!
URL;VALUE=URI:https://www.unser-ferienprogramm.de/postbauer-heng/veranstaltung.php?id=318632
SUMMARY:Bouldern in der Kletterhalle E4 Nürnberg - mit Pizza&Getränk
DTSTART;TZID=Europe/Berlin:20260602T100000
END:VEVENT

END:VCALENDAR
