BEGIN:VCALENDAR
VERSION:2.0
PRODID:-//hacksw/handcal//NONSGML v1.0//EN
CALSCALE:GREGORIAN
BEGIN:VTIMEZONE
TZID:Europe/Berlin
X-LIC-LOCATION:Europe/Berlin
BEGIN:DAYLIGHT
TZOFFSETFROM:+0100
TZOFFSETTO:+0200
TZNAME:CEST
DTSTART:19700329T020000
RRULE:FREQ=YEARLY;BYDAY=-1SU;BYMONTH=3
END:DAYLIGHT
BEGIN:STANDARD
TZOFFSETFROM:+0200
TZOFFSETTO:+0100
TZNAME:CET
DTSTART:19701025T030000
RRULE:FREQ=YEARLY;BYDAY=-1SU;BYMONTH=10
END:STANDARD
END:VTIMEZONE
BEGIN:VEVENT
DTEND;TZID=Europe/Berlin:20260526T163000
UID:69eb4e09deeec
DTSTAMP:20260424T130337
LOCATION:BayernLab Neumarkt
DESCRIPTION:Mit dem Kreisjugendring-Kleinbus fahren wir um 11.00 Uhr gemeinsam ins BayernLab und tauchen für zwei Stunden in die Welt der digitalen Möglichkeiten ein.\r\n\r\nDort erwartet euch ein spannender Workshop mit der Gestaltung eurer eigenen virtuellen Welt. Mit Delightex wählt ihr 3D-Objekte aus\, platziert sie in einer digitalen Umgebung und baut so Schritt für Schritt eine eigene Szene. Anschließend können die entstandenen Welten mit einer VR-Brille direkt erlebt werden.\r\n\r\nVor dem Workshop im BayernLab habt ihr die Möglichkeit\, im Neuen Markt in Neumarkt etwas Zeit zum Shoppen\, Entspannen und vielleicht Eis essen. Deswegen: Taschengeld nicht vergessen!\r\n
URL;VALUE=URI:https://www.unser-ferienprogramm.de/postbauer-heng/veranstaltung.php?id=316901
SUMMARY:BayernLab – Technik erleben & eigene Welten gestalten + Shopping im Neuen Markt
DTSTART;TZID=Europe/Berlin:20260526T110000
END:VEVENT

END:VCALENDAR
