BEGIN:VCALENDAR
VERSION:2.0
PRODID:-//hacksw/handcal//NONSGML v1.0//EN
CALSCALE:GREGORIAN
BEGIN:VTIMEZONE
TZID:Europe/Berlin
X-LIC-LOCATION:Europe/Berlin
BEGIN:DAYLIGHT
TZOFFSETFROM:+0100
TZOFFSETTO:+0200
TZNAME:CEST
DTSTART:19700329T020000
RRULE:FREQ=YEARLY;BYDAY=-1SU;BYMONTH=3
END:DAYLIGHT
BEGIN:STANDARD
TZOFFSETFROM:+0200
TZOFFSETTO:+0100
TZNAME:CET
DTSTART:19701025T030000
RRULE:FREQ=YEARLY;BYDAY=-1SU;BYMONTH=10
END:STANDARD
END:VTIMEZONE
BEGIN:VEVENT
DTEND;TZID=Europe/Berlin:20260810T163000
UID:69e5e318cca92
DTSTAMP:20260420T102600
LOCATION:Jugend-Kultur-Haus planet-x\, Am Leiselstein 7\, 71672 Marbach am Neckar
DESCRIPTION:Das ganze Jugend-Kultur-Haus planet-x mit Außengelände plus Solarhalle und Klassenräumen der Anne-Frank-Realschule und der Tobias-Mayer-Gemeinschaftsschule entführt euch beim 31. Marbacher Großspielprojekt in die "Verrückte Welt!". \r\nEs erwartet euch eine traumhafte Theaterstory mit täglich neuen Gefahren und Highlights… zwischendrin gibt’s Spaß\, Action\, Ideen und Spielen\, Werkeln\, Tanzen in allen Workshops und Mitmachbereichen\, auf dem Wiesengelände entsteht ein Überraschungsprojekt\, im Café gibt’s Getränke\, an der Feuerstelle Stockbrot\, riesige Melonenstücke\, kleine Snacks und natürlich ein gesundes Mittagessen!
URL;VALUE=URI:https://www.unser-ferienprogramm.de/planet-x-marbach/veranstaltung.php?id=304667
SUMMARY:2. WOCHE WUNDERLAND 2026
DTSTART;TZID=Europe/Berlin:20260810T093000
END:VEVENT


BEGIN:VEVENT
DTEND;TZID=Europe/Berlin:20260811T163000
UID:69e5e318ccacf1
DTSTAMP:20260420T102600
LOCATION:Jugend-Kultur-Haus planet-x\, Am Leiselstein 7\, 71672 Marbach am Neckar
DESCRIPTION:Das ganze Jugend-Kultur-Haus planet-x mit Außengelände plus Solarhalle und Klassenräumen der Anne-Frank-Realschule und der Tobias-Mayer-Gemeinschaftsschule entführt euch beim 31. Marbacher Großspielprojekt in die "Verrückte Welt!". \r\nEs erwartet euch eine traumhafte Theaterstory mit täglich neuen Gefahren und Highlights… zwischendrin gibt’s Spaß\, Action\, Ideen und Spielen\, Werkeln\, Tanzen in allen Workshops und Mitmachbereichen\, auf dem Wiesengelände entsteht ein Überraschungsprojekt\, im Café gibt’s Getränke\, an der Feuerstelle Stockbrot\, riesige Melonenstücke\, kleine Snacks und natürlich ein gesundes Mittagessen!
URL;VALUE=URI:https://www.unser-ferienprogramm.de/planet-x-marbach/veranstaltung.php?id=304667
SUMMARY:2. WOCHE WUNDERLAND 2026
DTSTART;TZID=Europe/Berlin:20260811T093000
END:VEVENT


BEGIN:VEVENT
DTEND;TZID=Europe/Berlin:20260812T163000
UID:69e5e318ccade2
DTSTAMP:20260420T102600
LOCATION:Jugend-Kultur-Haus planet-x\, Am Leiselstein 7\, 71672 Marbach am Neckar
DESCRIPTION:Das ganze Jugend-Kultur-Haus planet-x mit Außengelände plus Solarhalle und Klassenräumen der Anne-Frank-Realschule und der Tobias-Mayer-Gemeinschaftsschule entführt euch beim 31. Marbacher Großspielprojekt in die "Verrückte Welt!". \r\nEs erwartet euch eine traumhafte Theaterstory mit täglich neuen Gefahren und Highlights… zwischendrin gibt’s Spaß\, Action\, Ideen und Spielen\, Werkeln\, Tanzen in allen Workshops und Mitmachbereichen\, auf dem Wiesengelände entsteht ein Überraschungsprojekt\, im Café gibt’s Getränke\, an der Feuerstelle Stockbrot\, riesige Melonenstücke\, kleine Snacks und natürlich ein gesundes Mittagessen!
URL;VALUE=URI:https://www.unser-ferienprogramm.de/planet-x-marbach/veranstaltung.php?id=304667
SUMMARY:2. WOCHE WUNDERLAND 2026
DTSTART;TZID=Europe/Berlin:20260812T093000
END:VEVENT


BEGIN:VEVENT
DTEND;TZID=Europe/Berlin:20260813T163000
UID:69e5e318ccaea3
DTSTAMP:20260420T102600
LOCATION:Jugend-Kultur-Haus planet-x\, Am Leiselstein 7\, 71672 Marbach am Neckar
DESCRIPTION:Das ganze Jugend-Kultur-Haus planet-x mit Außengelände plus Solarhalle und Klassenräumen der Anne-Frank-Realschule und der Tobias-Mayer-Gemeinschaftsschule entführt euch beim 31. Marbacher Großspielprojekt in die "Verrückte Welt!". \r\nEs erwartet euch eine traumhafte Theaterstory mit täglich neuen Gefahren und Highlights… zwischendrin gibt’s Spaß\, Action\, Ideen und Spielen\, Werkeln\, Tanzen in allen Workshops und Mitmachbereichen\, auf dem Wiesengelände entsteht ein Überraschungsprojekt\, im Café gibt’s Getränke\, an der Feuerstelle Stockbrot\, riesige Melonenstücke\, kleine Snacks und natürlich ein gesundes Mittagessen!
URL;VALUE=URI:https://www.unser-ferienprogramm.de/planet-x-marbach/veranstaltung.php?id=304667
SUMMARY:2. WOCHE WUNDERLAND 2026
DTSTART;TZID=Europe/Berlin:20260813T093000
END:VEVENT


BEGIN:VEVENT
DTEND;TZID=Europe/Berlin:20260814T163000
UID:69e5e318ccaf64
DTSTAMP:20260420T102600
LOCATION:Jugend-Kultur-Haus planet-x\, Am Leiselstein 7\, 71672 Marbach am Neckar
DESCRIPTION:Das ganze Jugend-Kultur-Haus planet-x mit Außengelände plus Solarhalle und Klassenräumen der Anne-Frank-Realschule und der Tobias-Mayer-Gemeinschaftsschule entführt euch beim 31. Marbacher Großspielprojekt in die "Verrückte Welt!". \r\nEs erwartet euch eine traumhafte Theaterstory mit täglich neuen Gefahren und Highlights… zwischendrin gibt’s Spaß\, Action\, Ideen und Spielen\, Werkeln\, Tanzen in allen Workshops und Mitmachbereichen\, auf dem Wiesengelände entsteht ein Überraschungsprojekt\, im Café gibt’s Getränke\, an der Feuerstelle Stockbrot\, riesige Melonenstücke\, kleine Snacks und natürlich ein gesundes Mittagessen!
URL;VALUE=URI:https://www.unser-ferienprogramm.de/planet-x-marbach/veranstaltung.php?id=304667
SUMMARY:2. WOCHE WUNDERLAND 2026
DTSTART;TZID=Europe/Berlin:20260814T093000
END:VEVENT

END:VCALENDAR
