BEGIN:VCALENDAR
VERSION:2.0
PRODID:-//hacksw/handcal//NONSGML v1.0//EN
CALSCALE:GREGORIAN
BEGIN:VTIMEZONE
TZID:Europe/Berlin
X-LIC-LOCATION:Europe/Berlin
BEGIN:DAYLIGHT
TZOFFSETFROM:+0100
TZOFFSETTO:+0200
TZNAME:CEST
DTSTART:19700329T020000
RRULE:FREQ=YEARLY;BYDAY=-1SU;BYMONTH=3
END:DAYLIGHT
BEGIN:STANDARD
TZOFFSETFROM:+0200
TZOFFSETTO:+0100
TZNAME:CET
DTSTART:19701025T030000
RRULE:FREQ=YEARLY;BYDAY=-1SU;BYMONTH=10
END:STANDARD
END:VTIMEZONE
BEGIN:VEVENT
DTEND;TZID=Europe/Berlin:20260516T130000
UID:69e5f87fe2040
DTSTAMP:20260420T115719
LOCATION:Wolfratshausen
DESCRIPTION:Für Kinder ab 6 Jahren: Für die Johanniflösserprozession am daraufffolgendenden Sonntag 17.5.26 ( Sonnenuntergang) bauen wir Lichterflösse ganz nach deinen Ideen. Das selbstgebaute Floss bekommt einen Kerzenhalter und eine Kerze und wird dann am Sonntag mit vielen anderen Lichterflössen in die Loisach gesetzt\, so dass viele Lichter abends die Loisach hinunterfahren! Gern könnt ihr dabei auch noch ein Floß für euch zuhause bauen!\r\nFür Kinder von 4-6 Jahren: bitte bringt eure Väter oder Mütter mit!
URL;VALUE=URI:https://www.unser-ferienprogramm.de/phantas/veranstaltung.php?id=306881
SUMMARY:Besondere Offene Werkstatt: Flösse bauen
DTSTART;TZID=Europe/Berlin:20260516T100000
END:VEVENT

END:VCALENDAR
