BEGIN:VCALENDAR
VERSION:2.0
PRODID:-//hacksw/handcal//NONSGML v1.0//EN
CALSCALE:GREGORIAN
BEGIN:VTIMEZONE
TZID:Europe/Berlin
X-LIC-LOCATION:Europe/Berlin
BEGIN:DAYLIGHT
TZOFFSETFROM:+0100
TZOFFSETTO:+0200
TZNAME:CEST
DTSTART:19700329T020000
RRULE:FREQ=YEARLY;BYDAY=-1SU;BYMONTH=3
END:DAYLIGHT
BEGIN:STANDARD
TZOFFSETFROM:+0200
TZOFFSETTO:+0100
TZNAME:CET
DTSTART:19701025T030000
RRULE:FREQ=YEARLY;BYDAY=-1SU;BYMONTH=10
END:STANDARD
END:VTIMEZONE
BEGIN:VEVENT
DTEND;TZID=Europe/Berlin:20250617T140000
UID:69e6290ee1087
DTSTAMP:20260420T152430
LOCATION:Wolfratshausen
DESCRIPTION:Wir experimentieren in der Farbwerkstatt mit Reagenzgläsern und erfinden neue Farben\, malen an der Wand auf großen Papieren\, probieren uns an Spachtelbildern mit bunten Farben und auch an spannenden Gießbildern mit Acrylic pouring.\r\nMit Alena Bischoff
URL;VALUE=URI:https://www.unser-ferienprogramm.de/phantas/veranstaltung.php?id=260091
SUMMARY:Regenbogentag
DTSTART;TZID=Europe/Berlin:20250617T090000
END:VEVENT

END:VCALENDAR
