BEGIN:VCALENDAR
VERSION:2.0
PRODID:-//hacksw/handcal//NONSGML v1.0//EN
CALSCALE:GREGORIAN
BEGIN:VTIMEZONE
TZID:Europe/Berlin
X-LIC-LOCATION:Europe/Berlin
BEGIN:DAYLIGHT
TZOFFSETFROM:+0100
TZOFFSETTO:+0200
TZNAME:CEST
DTSTART:19700329T020000
RRULE:FREQ=YEARLY;BYDAY=-1SU;BYMONTH=3
END:DAYLIGHT
BEGIN:STANDARD
TZOFFSETFROM:+0200
TZOFFSETTO:+0100
TZNAME:CET
DTSTART:19701025T030000
RRULE:FREQ=YEARLY;BYDAY=-1SU;BYMONTH=10
END:STANDARD
END:VTIMEZONE
BEGIN:VEVENT
DTEND;TZID=Europe/Berlin:20250828T180000
UID:69ebf3e6b5c8d
DTSTAMP:20260425T005118
LOCATION:Dreifachturnhalle Mehrzweckraum (1. OG) Ochsenfurt
DESCRIPTION:Koordination für Kinder und Jugend\r\nBeweglichkeit\, Ausdauer\, Kraft und Fitness 
URL;VALUE=URI:https://www.unser-ferienprogramm.de/ochsenfurt/veranstaltung.php?id=289960
SUMMARY:Koordination für Kinder und Jugend
DTSTART;TZID=Europe/Berlin:20250828T170000
END:VEVENT

END:VCALENDAR
