BEGIN:VCALENDAR
VERSION:2.0
PRODID:-//hacksw/handcal//NONSGML v1.0//EN
CALSCALE:GREGORIAN
BEGIN:VTIMEZONE
TZID:Europe/Berlin
X-LIC-LOCATION:Europe/Berlin
BEGIN:DAYLIGHT
TZOFFSETFROM:+0100
TZOFFSETTO:+0200
TZNAME:CEST
DTSTART:19700329T020000
RRULE:FREQ=YEARLY;BYDAY=-1SU;BYMONTH=3
END:DAYLIGHT
BEGIN:STANDARD
TZOFFSETFROM:+0200
TZOFFSETTO:+0100
TZNAME:CET
DTSTART:19701025T030000
RRULE:FREQ=YEARLY;BYDAY=-1SU;BYMONTH=10
END:STANDARD
END:VTIMEZONE
BEGIN:VEVENT
DTEND;TZID=Europe/Berlin:20250902T160000
UID:69ec080189f11
DTSTAMP:20260425T021705
LOCATION:Ochsenfurter Forst\, Parkplatz
DESCRIPTION:Mach eine Tour durch den Wald mit dem Ochsenfurter Förster\r\nspannende Spiele und Rätsel erwarten euch.  
URL;VALUE=URI:https://www.unser-ferienprogramm.de/ochsenfurt/veranstaltung.php?id=289695
SUMMARY:ABGESAGT! Erlebe den Wald - gemeinsam mit einem Förster
DTSTART;TZID=Europe/Berlin:20250902T140000
END:VEVENT

END:VCALENDAR
