BEGIN:VCALENDAR
VERSION:2.0
PRODID:-//hacksw/handcal//NONSGML v1.0//EN
CALSCALE:GREGORIAN
BEGIN:VTIMEZONE
TZID:Europe/Berlin
X-LIC-LOCATION:Europe/Berlin
BEGIN:DAYLIGHT
TZOFFSETFROM:+0100
TZOFFSETTO:+0200
TZNAME:CEST
DTSTART:19700329T020000
RRULE:FREQ=YEARLY;BYDAY=-1SU;BYMONTH=3
END:DAYLIGHT
BEGIN:STANDARD
TZOFFSETFROM:+0200
TZOFFSETTO:+0100
TZNAME:CET
DTSTART:19701025T030000
RRULE:FREQ=YEARLY;BYDAY=-1SU;BYMONTH=10
END:STANDARD
END:VTIMEZONE
BEGIN:VEVENT
DTEND;TZID=Europe/Berlin:20250901T160000
UID:69ebf438ce70e
DTSTAMP:20260425T005240
LOCATION:Ochsenfurter Forst\, Parkplatz
DESCRIPTION:Ihr wolltet schon immer mal Klettern und das in Ochsenfurt?\r\nDann ist das eure Chance! Ihr könnt in einer Höhe von 4-8 metern Klettern und bekommt eine Anleitung eines ausgebildeten Jugendleiters des Deutschen Alpen Vereins.\r\n\r\nIhr Kind/ Jugendliche sollten grundsätzlich höhenfrei sein.
URL;VALUE=URI:https://www.unser-ferienprogramm.de/ochsenfurt/veranstaltung.php?id=289694
SUMMARY:Mobiler Hochseilgarten
DTSTART;TZID=Europe/Berlin:20250901T090000
END:VEVENT

END:VCALENDAR
