BEGIN:VCALENDAR
VERSION:2.0
PRODID:-//hacksw/handcal//NONSGML v1.0//EN
CALSCALE:GREGORIAN
BEGIN:VTIMEZONE
TZID:Europe/Berlin
X-LIC-LOCATION:Europe/Berlin
BEGIN:DAYLIGHT
TZOFFSETFROM:+0100
TZOFFSETTO:+0200
TZNAME:CEST
DTSTART:19700329T020000
RRULE:FREQ=YEARLY;BYDAY=-1SU;BYMONTH=3
END:DAYLIGHT
BEGIN:STANDARD
TZOFFSETFROM:+0200
TZOFFSETTO:+0100
TZNAME:CET
DTSTART:19701025T030000
RRULE:FREQ=YEARLY;BYDAY=-1SU;BYMONTH=10
END:STANDARD
END:VTIMEZONE
BEGIN:VEVENT
DTEND;TZID=Europe/Berlin:20250905T180000
UID:69ec06083ea8f
DTSTAMP:20260425T020840
LOCATION:Dreifachturnhalle
DESCRIPTION:Du spielst gerne Federball oder möchtest es lernen?\r\nDann bist du bei der Sportart Badminton genau richtig.\r\nLerne wie du einen Aufschlag machst und mit anderen spielst. 
URL;VALUE=URI:https://www.unser-ferienprogramm.de/ochsenfurt/veranstaltung.php?id=289689
SUMMARY:Badminton Schnuppertraining
DTSTART;TZID=Europe/Berlin:20250905T163000
END:VEVENT

END:VCALENDAR
