BEGIN:VCALENDAR
VERSION:2.0
PRODID:-//hacksw/handcal//NONSGML v1.0//EN
CALSCALE:GREGORIAN
BEGIN:VTIMEZONE
TZID:Europe/Berlin
X-LIC-LOCATION:Europe/Berlin
BEGIN:DAYLIGHT
TZOFFSETFROM:+0100
TZOFFSETTO:+0200
TZNAME:CEST
DTSTART:19700329T020000
RRULE:FREQ=YEARLY;BYDAY=-1SU;BYMONTH=3
END:DAYLIGHT
BEGIN:STANDARD
TZOFFSETFROM:+0200
TZOFFSETTO:+0100
TZNAME:CET
DTSTART:19701025T030000
RRULE:FREQ=YEARLY;BYDAY=-1SU;BYMONTH=10
END:STANDARD
END:VTIMEZONE
BEGIN:VEVENT
DTEND;TZID=Europe/Berlin:20250901T120000
UID:69ec055d33370
DTSTAMP:20260425T020549
LOCATION:Weltladen Ochsenfurt
DESCRIPTION:Schon mal von einem Schul-Weltladen gehört?\r\nEntwickelt mit uns gemeinsam tolle Ideen wie ein Schul-Weltladen aussehen könne und was es in diesem alles geben sollte. Welche fairen Artikel und gesunde Produkte würdet Ihr Euch wünschen?\r\nWir freuen uns auf Eure Teilnahme!
URL;VALUE=URI:https://www.unser-ferienprogramm.de/ochsenfurt/veranstaltung.php?id=288073
SUMMARY:Wir gestalten einen Schul-Weltladen
DTSTART;TZID=Europe/Berlin:20250901T100000
END:VEVENT

END:VCALENDAR
