BEGIN:VCALENDAR
VERSION:2.0
PRODID:-//hacksw/handcal//NONSGML v1.0//EN
CALSCALE:GREGORIAN
BEGIN:VTIMEZONE
TZID:Europe/Berlin
X-LIC-LOCATION:Europe/Berlin
BEGIN:DAYLIGHT
TZOFFSETFROM:+0100
TZOFFSETTO:+0200
TZNAME:CEST
DTSTART:19700329T020000
RRULE:FREQ=YEARLY;BYDAY=-1SU;BYMONTH=3
END:DAYLIGHT
BEGIN:STANDARD
TZOFFSETFROM:+0200
TZOFFSETTO:+0100
TZNAME:CET
DTSTART:19701025T030000
RRULE:FREQ=YEARLY;BYDAY=-1SU;BYMONTH=10
END:STANDARD
END:VTIMEZONE
BEGIN:VEVENT
DTEND;TZID=Europe/Berlin:20250818T160000
UID:69ebf39e3e29d
DTSTAMP:20260425T005006
LOCATION:TVO Halle
DESCRIPTION:Hast Du Lust eine Woche lang in die Welt des Tanzens einzutauchen?\r\nMöchtest Du coole Moves im Stil von Jazz\, Pop und Hip-Hop lernen und dabei jede Menge Spaß haben?\r\nDann bist Du bei meinem Ferienprogramm genau richtig!\r\nIch bringe Dir coole Tänze bei\, die Du nachtanzen kannst - egal\, ob Du schon Erfahrung hast oder zum ersten Mal tanzt. Zeig was in Dir steckt und lass uns zusammen eine unvergessliche Tanzwoche erleben. \r\nAm Ende der Woche könnt Ihr dann bei einer Abschlussrunde vor Euren Eltern zeigen\, was Ihr gelernt habt.\r\n\r\nIch freue mich auf Euch! 
URL;VALUE=URI:https://www.unser-ferienprogramm.de/ochsenfurt/veranstaltung.php?id=288071
SUMMARY:Tanz Dich durch die Ferien!
DTSTART;TZID=Europe/Berlin:20250818T143000
END:VEVENT


BEGIN:VEVENT
DTEND;TZID=Europe/Berlin:20250819T160000
UID:69ebf39e3e2d11
DTSTAMP:20260425T005006
LOCATION:TVO Halle
DESCRIPTION:Hast Du Lust eine Woche lang in die Welt des Tanzens einzutauchen?\r\nMöchtest Du coole Moves im Stil von Jazz\, Pop und Hip-Hop lernen und dabei jede Menge Spaß haben?\r\nDann bist Du bei meinem Ferienprogramm genau richtig!\r\nIch bringe Dir coole Tänze bei\, die Du nachtanzen kannst - egal\, ob Du schon Erfahrung hast oder zum ersten Mal tanzt. Zeig was in Dir steckt und lass uns zusammen eine unvergessliche Tanzwoche erleben. \r\nAm Ende der Woche könnt Ihr dann bei einer Abschlussrunde vor Euren Eltern zeigen\, was Ihr gelernt habt.\r\n\r\nIch freue mich auf Euch! 
URL;VALUE=URI:https://www.unser-ferienprogramm.de/ochsenfurt/veranstaltung.php?id=288071
SUMMARY:Tanz Dich durch die Ferien!
DTSTART;TZID=Europe/Berlin:20250819T143000
END:VEVENT


BEGIN:VEVENT
DTEND;TZID=Europe/Berlin:20250820T160000
UID:69ebf39e3e2de2
DTSTAMP:20260425T005006
LOCATION:TVO Halle
DESCRIPTION:Hast Du Lust eine Woche lang in die Welt des Tanzens einzutauchen?\r\nMöchtest Du coole Moves im Stil von Jazz\, Pop und Hip-Hop lernen und dabei jede Menge Spaß haben?\r\nDann bist Du bei meinem Ferienprogramm genau richtig!\r\nIch bringe Dir coole Tänze bei\, die Du nachtanzen kannst - egal\, ob Du schon Erfahrung hast oder zum ersten Mal tanzt. Zeig was in Dir steckt und lass uns zusammen eine unvergessliche Tanzwoche erleben. \r\nAm Ende der Woche könnt Ihr dann bei einer Abschlussrunde vor Euren Eltern zeigen\, was Ihr gelernt habt.\r\n\r\nIch freue mich auf Euch! 
URL;VALUE=URI:https://www.unser-ferienprogramm.de/ochsenfurt/veranstaltung.php?id=288071
SUMMARY:Tanz Dich durch die Ferien!
DTSTART;TZID=Europe/Berlin:20250820T143000
END:VEVENT


BEGIN:VEVENT
DTEND;TZID=Europe/Berlin:20250821T160000
UID:69ebf39e3e2e83
DTSTAMP:20260425T005006
LOCATION:TVO Halle
DESCRIPTION:Hast Du Lust eine Woche lang in die Welt des Tanzens einzutauchen?\r\nMöchtest Du coole Moves im Stil von Jazz\, Pop und Hip-Hop lernen und dabei jede Menge Spaß haben?\r\nDann bist Du bei meinem Ferienprogramm genau richtig!\r\nIch bringe Dir coole Tänze bei\, die Du nachtanzen kannst - egal\, ob Du schon Erfahrung hast oder zum ersten Mal tanzt. Zeig was in Dir steckt und lass uns zusammen eine unvergessliche Tanzwoche erleben. \r\nAm Ende der Woche könnt Ihr dann bei einer Abschlussrunde vor Euren Eltern zeigen\, was Ihr gelernt habt.\r\n\r\nIch freue mich auf Euch! 
URL;VALUE=URI:https://www.unser-ferienprogramm.de/ochsenfurt/veranstaltung.php?id=288071
SUMMARY:Tanz Dich durch die Ferien!
DTSTART;TZID=Europe/Berlin:20250821T143000
END:VEVENT


BEGIN:VEVENT
DTEND;TZID=Europe/Berlin:20250822T160000
UID:69ebf39e3e2f34
DTSTAMP:20260425T005006
LOCATION:TVO Halle
DESCRIPTION:Hast Du Lust eine Woche lang in die Welt des Tanzens einzutauchen?\r\nMöchtest Du coole Moves im Stil von Jazz\, Pop und Hip-Hop lernen und dabei jede Menge Spaß haben?\r\nDann bist Du bei meinem Ferienprogramm genau richtig!\r\nIch bringe Dir coole Tänze bei\, die Du nachtanzen kannst - egal\, ob Du schon Erfahrung hast oder zum ersten Mal tanzt. Zeig was in Dir steckt und lass uns zusammen eine unvergessliche Tanzwoche erleben. \r\nAm Ende der Woche könnt Ihr dann bei einer Abschlussrunde vor Euren Eltern zeigen\, was Ihr gelernt habt.\r\n\r\nIch freue mich auf Euch! 
URL;VALUE=URI:https://www.unser-ferienprogramm.de/ochsenfurt/veranstaltung.php?id=288071
SUMMARY:Tanz Dich durch die Ferien!
DTSTART;TZID=Europe/Berlin:20250822T143000
END:VEVENT

END:VCALENDAR
