BEGIN:VCALENDAR
VERSION:2.0
PRODID:-//hacksw/handcal//NONSGML v1.0//EN
CALSCALE:GREGORIAN
BEGIN:VTIMEZONE
TZID:Europe/Berlin
X-LIC-LOCATION:Europe/Berlin
BEGIN:DAYLIGHT
TZOFFSETFROM:+0100
TZOFFSETTO:+0200
TZNAME:CEST
DTSTART:19700329T020000
RRULE:FREQ=YEARLY;BYDAY=-1SU;BYMONTH=3
END:DAYLIGHT
BEGIN:STANDARD
TZOFFSETFROM:+0200
TZOFFSETTO:+0100
TZNAME:CET
DTSTART:19701025T030000
RRULE:FREQ=YEARLY;BYDAY=-1SU;BYMONTH=10
END:STANDARD
END:VTIMEZONE
BEGIN:VEVENT
DTEND;TZID=Europe/Berlin:20250810T120000
UID:69ec05b65033e
DTSTAMP:20260425T020718
LOCATION:Schloss Darstadt
DESCRIPTION:Freut Euch liebe Kinder auf eine besondere Führung durch das Darstädter Schloss.\r\nAuch die Pferdekoppel wird Teil der Besichtigung sein.\r\nIm Anschluss an den spannenden Tag dürft Ihr Euch auf eine leckere Bratwurst freuen.
URL;VALUE=URI:https://www.unser-ferienprogramm.de/ochsenfurt/veranstaltung.php?id=287764
SUMMARY:Es spukt im Schloss - Lust auf eine Schlossführung?
DTSTART;TZID=Europe/Berlin:20250810T103000
END:VEVENT

END:VCALENDAR
