BEGIN:VCALENDAR
VERSION:2.0
PRODID:-//hacksw/handcal//NONSGML v1.0//EN
CALSCALE:GREGORIAN
BEGIN:VTIMEZONE
TZID:Europe/Berlin
X-LIC-LOCATION:Europe/Berlin
BEGIN:DAYLIGHT
TZOFFSETFROM:+0100
TZOFFSETTO:+0200
TZNAME:CEST
DTSTART:19700329T020000
RRULE:FREQ=YEARLY;BYDAY=-1SU;BYMONTH=3
END:DAYLIGHT
BEGIN:STANDARD
TZOFFSETFROM:+0200
TZOFFSETTO:+0100
TZNAME:CET
DTSTART:19701025T030000
RRULE:FREQ=YEARLY;BYDAY=-1SU;BYMONTH=10
END:STANDARD
END:VTIMEZONE
BEGIN:VEVENT
DTEND;TZID=Europe/Berlin:20250902T130000
UID:69ec05b0b12da
DTSTAMP:20260425T020712
LOCATION:Casablanca
DESCRIPTION:Endlich darfst Du mal ganz genau unser Kino Casablanca unter die Lupe nehmen.\r\nBei einer kurzen \,\,Hinter die Kulissen'' Führung wird Dir genau erklärt wie ein Film auf die Leinwand kommt. Anschleißend schauen wir gemeinsam einen der beliebten Pippi Langstrumpf Filme an. \r\nMelde Dich schnell an und genieße Deine Ferien im Kino Casablanca!\r\n
URL;VALUE=URI:https://www.unser-ferienprogramm.de/ochsenfurt/veranstaltung.php?id=287376
SUMMARY:Wie kommt der Film auf die Leinwand? Das besondere Kinoerlebnis inkl. Film!
DTSTART;TZID=Europe/Berlin:20250902T110000
END:VEVENT

END:VCALENDAR
