BEGIN:VCALENDAR
VERSION:2.0
PRODID:-//hacksw/handcal//NONSGML v1.0//EN
CALSCALE:GREGORIAN
BEGIN:VTIMEZONE
TZID:Europe/Berlin
X-LIC-LOCATION:Europe/Berlin
BEGIN:DAYLIGHT
TZOFFSETFROM:+0100
TZOFFSETTO:+0200
TZNAME:CEST
DTSTART:19700329T020000
RRULE:FREQ=YEARLY;BYDAY=-1SU;BYMONTH=3
END:DAYLIGHT
BEGIN:STANDARD
TZOFFSETFROM:+0200
TZOFFSETTO:+0100
TZNAME:CET
DTSTART:19701025T030000
RRULE:FREQ=YEARLY;BYDAY=-1SU;BYMONTH=10
END:STANDARD
END:VTIMEZONE
BEGIN:VEVENT
DTEND;TZID=Europe/Berlin:20250910T170000
UID:69ec07beb11af
DTSTAMP:20260425T021558
LOCATION:Wird bei Anmeldung bekannt gegeben
DESCRIPTION:Kleiner Beitrag in Höhe von 2\,50 für Getränke und Snacks.\r\n\r\nBei Regen wird eine Schlechtwettervariante den angemeldeten Teilnehmern bekannt gegeben.
URL;VALUE=URI:https://www.unser-ferienprogramm.de/ochsenfurt/veranstaltung.php?id=287375
SUMMARY:Vogelschutz in unseren Gärten - Wir bauen Nistkästen und Futterstationen für Vögel
DTSTART;TZID=Europe/Berlin:20250910T140000
END:VEVENT

END:VCALENDAR
