BEGIN:VCALENDAR
VERSION:2.0
PRODID:-//hacksw/handcal//NONSGML v1.0//EN
CALSCALE:GREGORIAN
BEGIN:VTIMEZONE
TZID:Europe/Berlin
X-LIC-LOCATION:Europe/Berlin
BEGIN:DAYLIGHT
TZOFFSETFROM:+0100
TZOFFSETTO:+0200
TZNAME:CEST
DTSTART:19700329T020000
RRULE:FREQ=YEARLY;BYDAY=-1SU;BYMONTH=3
END:DAYLIGHT
BEGIN:STANDARD
TZOFFSETFROM:+0200
TZOFFSETTO:+0100
TZNAME:CET
DTSTART:19701025T030000
RRULE:FREQ=YEARLY;BYDAY=-1SU;BYMONTH=10
END:STANDARD
END:VTIMEZONE
BEGIN:VEVENT
DTEND;TZID=Europe/Berlin:20250912T173000
UID:69ec079ff221f
DTSTAMP:20260425T021527
LOCATION:Dreifachturnhalle
DESCRIPTION:Handball ist mittlerweile auch in Deutschland nicht mehr wegzudenken und erfreut sich großer Beliebtheit. Aber kennst auch du die Regeln? Dann nutze doch einfach die Schnupperstunde\, um dich mit dem Ball und den ersten wichtigen Begriffen vertraut zu machen!
URL;VALUE=URI:https://www.unser-ferienprogramm.de/ochsenfurt/veranstaltung.php?id=287358
SUMMARY:Schnuppertraining Handball für Kinder
DTSTART;TZID=Europe/Berlin:20250912T160000
END:VEVENT

END:VCALENDAR
