BEGIN:VCALENDAR
VERSION:2.0
PRODID:-//hacksw/handcal//NONSGML v1.0//EN
CALSCALE:GREGORIAN
BEGIN:VTIMEZONE
TZID:Europe/Berlin
X-LIC-LOCATION:Europe/Berlin
BEGIN:DAYLIGHT
TZOFFSETFROM:+0100
TZOFFSETTO:+0200
TZNAME:CEST
DTSTART:19700329T020000
RRULE:FREQ=YEARLY;BYDAY=-1SU;BYMONTH=3
END:DAYLIGHT
BEGIN:STANDARD
TZOFFSETFROM:+0200
TZOFFSETTO:+0100
TZNAME:CET
DTSTART:19701025T030000
RRULE:FREQ=YEARLY;BYDAY=-1SU;BYMONTH=10
END:STANDARD
END:VTIMEZONE
BEGIN:VEVENT
DTEND;TZID=Europe/Berlin:20250919T180000
UID:69ebf40f39e40
DTSTAMP:20260425T005159
LOCATION:Mainuferstraße
DESCRIPTION:Mit der Nixe einen Ausflug nach Marktbreit oder Kitzingen machen\, dass könnt ihr ab sofort und bis zum 19.09.2025 wieder jeden Freitag\, also auch in den Ferien. Fahrradmitnahme begrenzt möglich. Kinder nur in Begleitung eines Erwachsenen. Eine vorherige Anmeldung ist NICHT notwendig.\r\nStart ist immer um 10.00 Uhr in Ochsenfurt.\r\nDie Rückfahrt könnt Ihr um 14.00 Uhr in Kitzingen antreten.\r\n\r\nAm Samstag\, Sonntag und an Feiertagen habt Ihr außerdem \r\ndie Möglichkeit an Panoramafahrten von 11.00 - 17.00 Uhr teilzunehmen.\r\n\r\n
URL;VALUE=URI:https://www.unser-ferienprogramm.de/ochsenfurt/veranstaltung.php?id=287357
SUMMARY:Linienfahrt Nixe
DTSTART;TZID=Europe/Berlin:20250718T100000
END:VEVENT

END:VCALENDAR
