BEGIN:VCALENDAR
VERSION:2.0
PRODID:-//hacksw/handcal//NONSGML v1.0//EN
CALSCALE:GREGORIAN
BEGIN:VTIMEZONE
TZID:Europe/Berlin
X-LIC-LOCATION:Europe/Berlin
BEGIN:DAYLIGHT
TZOFFSETFROM:+0100
TZOFFSETTO:+0200
TZNAME:CEST
DTSTART:19700329T020000
RRULE:FREQ=YEARLY;BYDAY=-1SU;BYMONTH=3
END:DAYLIGHT
BEGIN:STANDARD
TZOFFSETFROM:+0200
TZOFFSETTO:+0100
TZNAME:CET
DTSTART:19701025T030000
RRULE:FREQ=YEARLY;BYDAY=-1SU;BYMONTH=10
END:STANDARD
END:VTIMEZONE
BEGIN:VEVENT
DTEND;TZID=Europe/Berlin:20250914T170000
UID:69ec062306345
DTSTAMP:20260425T020907
LOCATION:Mainuferstraße
DESCRIPTION:Am Samstag\, Sonntag und an Feiertagen habt Ihr  \r\ndie Möglichkeit an Panoramafahrten von 11.00 - 17.00 Uhr teilzunehmen.\r\n\r\nMit der Nixe einen Ausflug nach Marktbreit oder Kitzingen machen\, dass könnt Ihr ab sofort bis zum 19.09.2025 wieder jeden Freitag\, also auch in den Ferien. Eine Fahrradmitnahme ist begrenzt möglich. Kinder nur in Begleitung eines Erwachsenen. Eine vorherige Anmeldung ist NICHT notwendig.\r\n\r\n
URL;VALUE=URI:https://www.unser-ferienprogramm.de/ochsenfurt/veranstaltung.php?id=287354
SUMMARY:Panoramafahrt Nixe
DTSTART;TZID=Europe/Berlin:20250719T110000
END:VEVENT

END:VCALENDAR
