BEGIN:VCALENDAR
VERSION:2.0
PRODID:-//hacksw/handcal//NONSGML v1.0//EN
CALSCALE:GREGORIAN
BEGIN:VTIMEZONE
TZID:Europe/Berlin
X-LIC-LOCATION:Europe/Berlin
BEGIN:DAYLIGHT
TZOFFSETFROM:+0100
TZOFFSETTO:+0200
TZNAME:CEST
DTSTART:19700329T020000
RRULE:FREQ=YEARLY;BYDAY=-1SU;BYMONTH=3
END:DAYLIGHT
BEGIN:STANDARD
TZOFFSETFROM:+0200
TZOFFSETTO:+0100
TZNAME:CET
DTSTART:19701025T030000
RRULE:FREQ=YEARLY;BYDAY=-1SU;BYMONTH=10
END:STANDARD
END:VTIMEZONE
BEGIN:VEVENT
DTEND;TZID=Europe/Berlin:20250903T121500
UID:69ec072a9d4b3
DTSTAMP:20260425T021330
LOCATION:Neues Rathaus Ochsenfurt
DESCRIPTION:Unser Wahrzeichen – Das Lanzentürmchen. Habt Ihr Euch immer schon mal gefragt\, wie es wohl hinter dem Skelett und dem Ratsherrn so aussieht? Dann nutzt doch die Gelegenheit und werft einen Blick hinter die Uhr\, lasst Euch von den Geschichten des Uhrenmachers von Ochsenfurt verzaubern und erlebt das komplizierte Uhrenwerk\, welches die Mond – und Figurenuhr antreibt Live! 
URL;VALUE=URI:https://www.unser-ferienprogramm.de/ochsenfurt/veranstaltung.php?id=287352
SUMMARY:Führung mit Blick hinter die Rathausuhr
DTSTART;TZID=Europe/Berlin:20250903T113000
END:VEVENT

END:VCALENDAR
