BEGIN:VCALENDAR
VERSION:2.0
PRODID:-//hacksw/handcal//NONSGML v1.0//EN
CALSCALE:GREGORIAN
BEGIN:VTIMEZONE
TZID:Europe/Berlin
X-LIC-LOCATION:Europe/Berlin
BEGIN:DAYLIGHT
TZOFFSETFROM:+0100
TZOFFSETTO:+0200
TZNAME:CEST
DTSTART:19700329T020000
RRULE:FREQ=YEARLY;BYDAY=-1SU;BYMONTH=3
END:DAYLIGHT
BEGIN:STANDARD
TZOFFSETFROM:+0200
TZOFFSETTO:+0100
TZNAME:CET
DTSTART:19701025T030000
RRULE:FREQ=YEARLY;BYDAY=-1SU;BYMONTH=10
END:STANDARD
END:VTIMEZONE
BEGIN:VEVENT
DTEND;TZID=Europe/Berlin:20250811T160000
UID:69ebf39ccafff
DTSTAMP:20260425T005004
LOCATION:TVO Halle\, Jahnstraße 4
DESCRIPTION:Der Kinderzirkus kommt nach Ochsenfurt\r\nManege frei und hereinspaziert!\r\n\r\nDiesen Sommer verwandelt sich die TVO-Halle in eine Welt voller Magie\, Akrobatik und Spaß! \r\nWir laden Ihre Kinder herzlich ein\, an unserem viertägigen Kinderzirkus teilzunehmen.\r\n\r\nIn der 2. Sommerferienwoche dürfen kleine Künstler Neues entdecken und über sich hinauswachsen.\r\nHierbei werden Sie von fachkundigen Coaches angeleitet und unterstützt.\r\n\r\nZum krönenden Abschluss findet am letzten Projekttag eine Vorstellung statt\, bei der alle Eltern\, Verwandte und Freunde die frischgebackenen Artisten mit ihren Tricks bewundern können.\r\n\r\n
URL;VALUE=URI:https://www.unser-ferienprogramm.de/ochsenfurt/veranstaltung.php?id=287345
SUMMARY:Ferienzirkus - AUSGEBUCHT keine freien Plätze mehr!
DTSTART;TZID=Europe/Berlin:20250811T090000
END:VEVENT


BEGIN:VEVENT
DTEND;TZID=Europe/Berlin:20250812T160000
UID:69ebf39ccb02d1
DTSTAMP:20260425T005004
LOCATION:TVO Halle\, Jahnstraße 4
DESCRIPTION:Der Kinderzirkus kommt nach Ochsenfurt\r\nManege frei und hereinspaziert!\r\n\r\nDiesen Sommer verwandelt sich die TVO-Halle in eine Welt voller Magie\, Akrobatik und Spaß! \r\nWir laden Ihre Kinder herzlich ein\, an unserem viertägigen Kinderzirkus teilzunehmen.\r\n\r\nIn der 2. Sommerferienwoche dürfen kleine Künstler Neues entdecken und über sich hinauswachsen.\r\nHierbei werden Sie von fachkundigen Coaches angeleitet und unterstützt.\r\n\r\nZum krönenden Abschluss findet am letzten Projekttag eine Vorstellung statt\, bei der alle Eltern\, Verwandte und Freunde die frischgebackenen Artisten mit ihren Tricks bewundern können.\r\n\r\n
URL;VALUE=URI:https://www.unser-ferienprogramm.de/ochsenfurt/veranstaltung.php?id=287345
SUMMARY:Ferienzirkus - AUSGEBUCHT keine freien Plätze mehr!
DTSTART;TZID=Europe/Berlin:20250812T090000
END:VEVENT


BEGIN:VEVENT
DTEND;TZID=Europe/Berlin:20250813T160000
UID:69ebf39ccb0362
DTSTAMP:20260425T005004
LOCATION:TVO Halle\, Jahnstraße 4
DESCRIPTION:Der Kinderzirkus kommt nach Ochsenfurt\r\nManege frei und hereinspaziert!\r\n\r\nDiesen Sommer verwandelt sich die TVO-Halle in eine Welt voller Magie\, Akrobatik und Spaß! \r\nWir laden Ihre Kinder herzlich ein\, an unserem viertägigen Kinderzirkus teilzunehmen.\r\n\r\nIn der 2. Sommerferienwoche dürfen kleine Künstler Neues entdecken und über sich hinauswachsen.\r\nHierbei werden Sie von fachkundigen Coaches angeleitet und unterstützt.\r\n\r\nZum krönenden Abschluss findet am letzten Projekttag eine Vorstellung statt\, bei der alle Eltern\, Verwandte und Freunde die frischgebackenen Artisten mit ihren Tricks bewundern können.\r\n\r\n
URL;VALUE=URI:https://www.unser-ferienprogramm.de/ochsenfurt/veranstaltung.php?id=287345
SUMMARY:Ferienzirkus - AUSGEBUCHT keine freien Plätze mehr!
DTSTART;TZID=Europe/Berlin:20250813T090000
END:VEVENT


BEGIN:VEVENT
DTEND;TZID=Europe/Berlin:20250814T180000
UID:69ebf39ccb03d3
DTSTAMP:20260425T005004
LOCATION:TVO Halle\, Jahnstraße 4
DESCRIPTION:Der Kinderzirkus kommt nach Ochsenfurt\r\nManege frei und hereinspaziert!\r\n\r\nDiesen Sommer verwandelt sich die TVO-Halle in eine Welt voller Magie\, Akrobatik und Spaß! \r\nWir laden Ihre Kinder herzlich ein\, an unserem viertägigen Kinderzirkus teilzunehmen.\r\n\r\nIn der 2. Sommerferienwoche dürfen kleine Künstler Neues entdecken und über sich hinauswachsen.\r\nHierbei werden Sie von fachkundigen Coaches angeleitet und unterstützt.\r\n\r\nZum krönenden Abschluss findet am letzten Projekttag eine Vorstellung statt\, bei der alle Eltern\, Verwandte und Freunde die frischgebackenen Artisten mit ihren Tricks bewundern können.\r\n\r\n
URL;VALUE=URI:https://www.unser-ferienprogramm.de/ochsenfurt/veranstaltung.php?id=287345
SUMMARY:Ferienzirkus - AUSGEBUCHT keine freien Plätze mehr!
DTSTART;TZID=Europe/Berlin:20250814T090000
END:VEVENT

END:VCALENDAR
