BEGIN:VCALENDAR
VERSION:2.0
PRODID:-//hacksw/handcal//NONSGML v1.0//EN
CALSCALE:GREGORIAN
BEGIN:VTIMEZONE
TZID:Europe/Berlin
X-LIC-LOCATION:Europe/Berlin
BEGIN:DAYLIGHT
TZOFFSETFROM:+0100
TZOFFSETTO:+0200
TZNAME:CEST
DTSTART:19700329T020000
RRULE:FREQ=YEARLY;BYDAY=-1SU;BYMONTH=3
END:DAYLIGHT
BEGIN:STANDARD
TZOFFSETFROM:+0200
TZOFFSETTO:+0100
TZNAME:CET
DTSTART:19701025T030000
RRULE:FREQ=YEARLY;BYDAY=-1SU;BYMONTH=10
END:STANDARD
END:VTIMEZONE
BEGIN:VEVENT
DTEND;TZID=Europe/Berlin:20250911T160000
UID:69ec14261dd63
DTSTAMP:20260425T030854
LOCATION:Stadtbibliothek Ochsenfurt
DESCRIPTION:Wenn Joaquino Payaso mit seinen sieben Koffern mitten durchs Publikum gestolpert kommt\,\r\nfesselt er vom ersten Moment an die Aufmerksamkeit der Kinder. Es beginnt ein buntes\r\nProgramm\, in dem er einen Koffer nach dem anderen öffnet\, deren Inhalt ihm Anlaß für seine\r\nNummern ist. Es gibt ein Lied\, Zauberei\, Jonglierkunst\, viele Clownereien\, und vor allem versteht\r\ner es immer wieder\, die Kinder in den Ablauf des Stücks miteinzubeziehen\, sie zum\r\nMitmachen zu verführen.\r\n\r\nAchim Sonntag\, Jahrgang 1961\, ist freier Kindertheatermacher. Gebürtig aus Düsseldorf\, wohnt er\r\nseit 2007 in Wengen im Allgäu. Nach Erfahrungen in den unterschiedlichsten Theaterformen kam er vor über 30 Jahren über seine eigenen Kinder zum Kindertheater. Er entwickelte in kontinuierlicher Arbeit ein Konzept mit zwei Schwerpunkten : 1. spricht er stark die Phantasie der Kinder an und 2. bezieht er sein Publikum immer in den Ablauf der Handlung mit ein. Die Kinder werden unabdingbarer Bestandteil des Geschehens auf der Bühne.\r\n\r\nAuf der Grundlage seines Konzepts entstanden bis zum heutigen Zeitpunkt fünfzehn Stücke\, mit\r\ndenen Achim Sonntag mit großen Erfolg in ganz Deutschland und zunehmend auch im Ausland\r\n(bisher Österreich\, Luxemburg\, Spanien) unterwegs ist.\r\n\r\n\r\n
URL;VALUE=URI:https://www.unser-ferienprogramm.de/ochsenfurt/veranstaltung.php?id=287341
SUMMARY:Kindertheater mit Achim Sonntag - JOAQUINO PAYASO und seine sieben Koffer
DTSTART;TZID=Europe/Berlin:20250911T150000
END:VEVENT

END:VCALENDAR
