BEGIN:VCALENDAR
VERSION:2.0
PRODID:-//hacksw/handcal//NONSGML v1.0//EN
CALSCALE:GREGORIAN
BEGIN:VTIMEZONE
TZID:Europe/Berlin
X-LIC-LOCATION:Europe/Berlin
BEGIN:DAYLIGHT
TZOFFSETFROM:+0100
TZOFFSETTO:+0200
TZNAME:CEST
DTSTART:19700329T020000
RRULE:FREQ=YEARLY;BYDAY=-1SU;BYMONTH=3
END:DAYLIGHT
BEGIN:STANDARD
TZOFFSETFROM:+0200
TZOFFSETTO:+0100
TZNAME:CET
DTSTART:19701025T030000
RRULE:FREQ=YEARLY;BYDAY=-1SU;BYMONTH=10
END:STANDARD
END:VTIMEZONE
BEGIN:VEVENT
DTEND;TZID=Europe/Berlin:20250905T120000
UID:69ec077325e39
DTSTAMP:20260425T021443
LOCATION:Zuckerstube\, Brückenstraße Ochsenfurt
DESCRIPTION:Freut Euch liebe Kinder auf 2 tolle Stunden mit der Zuckerfee Magdalena und der Kleinochsenfurter Weinprinzessin Ronja. \r\nGemeinsam wird gebastelt und Ihr könnt natürlich auch ein Foto mit unseren beiden Hoheiten machen. Ein Autogramm gibt es sicherlich auch\, wenn Ihr möchtet.\r\n\r\nWas genau gebastelt wird\, wird noch nicht verraten\, aber sicherlich lassen sich die beiden Mädels etwas Besonderes für Euch einfallen.
URL;VALUE=URI:https://www.unser-ferienprogramm.de/ochsenfurt/veranstaltung.php?id=287339
SUMMARY:Basteln mit der Zuckerfee & der Weinprinzessin
DTSTART;TZID=Europe/Berlin:20250905T100000
END:VEVENT

END:VCALENDAR
