BEGIN:VCALENDAR
VERSION:2.0
PRODID:-//hacksw/handcal//NONSGML v1.0//EN
CALSCALE:GREGORIAN
BEGIN:VTIMEZONE
TZID:Europe/Berlin
X-LIC-LOCATION:Europe/Berlin
BEGIN:DAYLIGHT
TZOFFSETFROM:+0100
TZOFFSETTO:+0200
TZNAME:CEST
DTSTART:19700329T020000
RRULE:FREQ=YEARLY;BYDAY=-1SU;BYMONTH=3
END:DAYLIGHT
BEGIN:STANDARD
TZOFFSETFROM:+0200
TZOFFSETTO:+0100
TZNAME:CET
DTSTART:19701025T030000
RRULE:FREQ=YEARLY;BYDAY=-1SU;BYMONTH=10
END:STANDARD
END:VTIMEZONE
BEGIN:VEVENT
DTEND;TZID=Europe/Berlin:20250829T163000
UID:69ec01edc3770
DTSTAMP:20260425T015109
LOCATION:Stadtbibliothek Ochsenfurt
DESCRIPTION:Die \,\,Lese-Zauber-Show'' kombiniert auf besondere Weise Zauberkunst und Literatur\, um Kindern die Freude am Lesen zu vermitteln.\r\n\r\nFreut Euch liebe Kinder auf eine interaktive Show\, welche Geschichten durch magische Effekte zum Leben erweckt.\r\n\r\nAuf der Bühne werden übergroße Bücher aufgeschlagen\, in denen sich nicht nur spannende Erzählungen\, sondern auch visuelle und magische Überraschungen verbergen. \r\n
URL;VALUE=URI:https://www.unser-ferienprogramm.de/ochsenfurt/veranstaltung.php?id=287334
SUMMARY:Lese-Zauber-Show mit Mr. Flo
DTSTART;TZID=Europe/Berlin:20250829T153000
END:VEVENT

END:VCALENDAR
