BEGIN:VCALENDAR
VERSION:2.0
PRODID:-//hacksw/handcal//NONSGML v1.0//EN
CALSCALE:GREGORIAN
BEGIN:VTIMEZONE
TZID:Europe/Berlin
X-LIC-LOCATION:Europe/Berlin
BEGIN:DAYLIGHT
TZOFFSETFROM:+0100
TZOFFSETTO:+0200
TZNAME:CEST
DTSTART:19700329T020000
RRULE:FREQ=YEARLY;BYDAY=-1SU;BYMONTH=3
END:DAYLIGHT
BEGIN:STANDARD
TZOFFSETFROM:+0200
TZOFFSETTO:+0100
TZNAME:CET
DTSTART:19701025T030000
RRULE:FREQ=YEARLY;BYDAY=-1SU;BYMONTH=10
END:STANDARD
END:VTIMEZONE
BEGIN:VEVENT
DTEND;TZID=Europe/Berlin:20250904T120000
UID:69ec08a7b20ff
DTSTAMP:20260425T021951
LOCATION:Nähstudio Melika
DESCRIPTION:Du möchtest gerne ein ganz persönliches und individuelles Stiftemäppchen für die Schule haben?\r\nDann komm doch zu uns und nähe Dir einfach eins ganz nach Deinen Vorstellungen und Wünschen.\r\n\r\nDie Kursgebühr von 10\,-€ pro Kind ist vorab per Überweisung direkt an das Nähstudio zu leisten
URL;VALUE=URI:https://www.unser-ferienprogramm.de/ochsenfurt/veranstaltung.php?id=287330
SUMMARY:Wir nähen ein Stiftemäppchen
DTSTART;TZID=Europe/Berlin:20250904T100000
END:VEVENT

END:VCALENDAR
