BEGIN:VCALENDAR
VERSION:2.0
PRODID:-//hacksw/handcal//NONSGML v1.0//EN
CALSCALE:GREGORIAN
BEGIN:VTIMEZONE
TZID:Europe/Berlin
X-LIC-LOCATION:Europe/Berlin
BEGIN:DAYLIGHT
TZOFFSETFROM:+0100
TZOFFSETTO:+0200
TZNAME:CEST
DTSTART:19700329T020000
RRULE:FREQ=YEARLY;BYDAY=-1SU;BYMONTH=3
END:DAYLIGHT
BEGIN:STANDARD
TZOFFSETFROM:+0200
TZOFFSETTO:+0100
TZNAME:CET
DTSTART:19701025T030000
RRULE:FREQ=YEARLY;BYDAY=-1SU;BYMONTH=10
END:STANDARD
END:VTIMEZONE
BEGIN:VEVENT
DTEND;TZID=Europe/Berlin:20250826T120000
UID:69ebf40f034f9
DTSTAMP:20260425T005159
LOCATION:Alte Schmiede am Bollwerk
DESCRIPTION:HALLO Kinder von Ochsenfurt und Umgebung!\r\n\r\nWerden Euch die Ferien zu lang ?\r\nHabt ihr Lust auf eine Schnitzeljagd mit Turmbesteigung?\r\n\r\nHier könnt ihr wieder was erleben mit BRIGITTE \r\nErneut begeben wir uns auf einen spannenden und vergnüglichen Streifzug durch unser malerisches Ochsenfurt. \r\n\r\nZwischen den Türmen hören wir Vergangenes und Neues\, haben Spaß\,  naschen ein bisschen und suchen Hinweise auf die geheimnisvolle Schatzkiste. \r\n\r\nUnd ratet mal\,  welchen Turm wir diesmal besteigen...\r\n\r\nLiebe Kinder\, es freut sich auf Euch BRIGITTE\r\nDas wird ein tolles Ferienerlebnis\, das Ihr nicht so schnell vergesst.\r\n \r\nAch noch etwas:\r\nBitte nehmt Euch eine Brotzeit mit.\r\nBei Regenwetter treffen wir uns in der Zuckerstube und basteln etwas.\r\n
URL;VALUE=URI:https://www.unser-ferienprogramm.de/ochsenfurt/veranstaltung.php?id=287327
SUMMARY:Spannende Kinderführung mit Schnitzeljagd
DTSTART;TZID=Europe/Berlin:20250826T100000
END:VEVENT

END:VCALENDAR
