BEGIN:VCALENDAR
VERSION:2.0
PRODID:-//hacksw/handcal//NONSGML v1.0//EN
CALSCALE:GREGORIAN
BEGIN:VTIMEZONE
TZID:Europe/Berlin
X-LIC-LOCATION:Europe/Berlin
BEGIN:DAYLIGHT
TZOFFSETFROM:+0100
TZOFFSETTO:+0200
TZNAME:CEST
DTSTART:19700329T020000
RRULE:FREQ=YEARLY;BYDAY=-1SU;BYMONTH=3
END:DAYLIGHT
BEGIN:STANDARD
TZOFFSETFROM:+0200
TZOFFSETTO:+0100
TZNAME:CET
DTSTART:19701025T030000
RRULE:FREQ=YEARLY;BYDAY=-1SU;BYMONTH=10
END:STANDARD
END:VTIMEZONE
BEGIN:VEVENT
DTEND;TZID=Europe/Berlin:20250821T120000
UID:69ebf41041408
DTSTAMP:20260425T005200
LOCATION:Nähstudio Melika
DESCRIPTION:Umhängetaschen sind superpraktisch auf Ausflügen in den Ferien oder Unternehmungen mit Freunden. Hier kannst Du sie selbst gestalten.\r\n\r\nDie Kursgebühr von 10\,-€ pro Kind ist vorab per Überweisung direkt an das Nähstudio zu leisten.\r\n
URL;VALUE=URI:https://www.unser-ferienprogramm.de/ochsenfurt/veranstaltung.php?id=287325
SUMMARY:Wir nähen eine Tasche
DTSTART;TZID=Europe/Berlin:20250821T100000
END:VEVENT

END:VCALENDAR
