BEGIN:VCALENDAR
VERSION:2.0
PRODID:-//hacksw/handcal//NONSGML v1.0//EN
CALSCALE:GREGORIAN
BEGIN:VTIMEZONE
TZID:Europe/Berlin
X-LIC-LOCATION:Europe/Berlin
BEGIN:DAYLIGHT
TZOFFSETFROM:+0100
TZOFFSETTO:+0200
TZNAME:CEST
DTSTART:19700329T020000
RRULE:FREQ=YEARLY;BYDAY=-1SU;BYMONTH=3
END:DAYLIGHT
BEGIN:STANDARD
TZOFFSETFROM:+0200
TZOFFSETTO:+0100
TZNAME:CET
DTSTART:19701025T030000
RRULE:FREQ=YEARLY;BYDAY=-1SU;BYMONTH=10
END:STANDARD
END:VTIMEZONE
BEGIN:VEVENT
DTEND;TZID=Europe/Berlin:20260706T160000
UID:69eb5aa673284
DTSTAMP:20260424T135726
LOCATION:Verschiedene Ziele 
DESCRIPTION:Auch in diesem Jahr bietet das Jugendbüro der Kreisstadt Neunkirchen wieder eine Woche lang jeden Tag einen Ausflug zu den unterschiedlichsten Zielen in der Region an. Langeweile kommt in dieser Zeit also garantiert nicht auf! Je nach Ziel kann die Uhrzeit der Rückkunft variieren.\r\nIm Preis enthalten sind der Transport\, die Eintrittsgelder und evtl. anfallende Materialkosten. Die Betreuung erfolgt durch die Jugendbeauftragten der Stadt und geschulte Betreuer und Betreuerinnen. 
URL;VALUE=URI:https://www.unser-ferienprogramm.de/neunkirchen/veranstaltung.php?id=315651
SUMMARY:Ausflugswoche
DTSTART;TZID=Europe/Berlin:20260706T100000
END:VEVENT


BEGIN:VEVENT
DTEND;TZID=Europe/Berlin:20260707T160000
UID:69eb5aa6732c11
DTSTAMP:20260424T135726
LOCATION:Verschiedene Ziele 
DESCRIPTION:Auch in diesem Jahr bietet das Jugendbüro der Kreisstadt Neunkirchen wieder eine Woche lang jeden Tag einen Ausflug zu den unterschiedlichsten Zielen in der Region an. Langeweile kommt in dieser Zeit also garantiert nicht auf! Je nach Ziel kann die Uhrzeit der Rückkunft variieren.\r\nIm Preis enthalten sind der Transport\, die Eintrittsgelder und evtl. anfallende Materialkosten. Die Betreuung erfolgt durch die Jugendbeauftragten der Stadt und geschulte Betreuer und Betreuerinnen. 
URL;VALUE=URI:https://www.unser-ferienprogramm.de/neunkirchen/veranstaltung.php?id=315651
SUMMARY:Ausflugswoche
DTSTART;TZID=Europe/Berlin:20260707T100000
END:VEVENT


BEGIN:VEVENT
DTEND;TZID=Europe/Berlin:20260708T160000
UID:69eb5aa6732cf2
DTSTAMP:20260424T135726
LOCATION:Verschiedene Ziele 
DESCRIPTION:Auch in diesem Jahr bietet das Jugendbüro der Kreisstadt Neunkirchen wieder eine Woche lang jeden Tag einen Ausflug zu den unterschiedlichsten Zielen in der Region an. Langeweile kommt in dieser Zeit also garantiert nicht auf! Je nach Ziel kann die Uhrzeit der Rückkunft variieren.\r\nIm Preis enthalten sind der Transport\, die Eintrittsgelder und evtl. anfallende Materialkosten. Die Betreuung erfolgt durch die Jugendbeauftragten der Stadt und geschulte Betreuer und Betreuerinnen. 
URL;VALUE=URI:https://www.unser-ferienprogramm.de/neunkirchen/veranstaltung.php?id=315651
SUMMARY:Ausflugswoche
DTSTART;TZID=Europe/Berlin:20260708T100000
END:VEVENT


BEGIN:VEVENT
DTEND;TZID=Europe/Berlin:20260709T160000
UID:69eb5aa6732d93
DTSTAMP:20260424T135726
LOCATION:Verschiedene Ziele 
DESCRIPTION:Auch in diesem Jahr bietet das Jugendbüro der Kreisstadt Neunkirchen wieder eine Woche lang jeden Tag einen Ausflug zu den unterschiedlichsten Zielen in der Region an. Langeweile kommt in dieser Zeit also garantiert nicht auf! Je nach Ziel kann die Uhrzeit der Rückkunft variieren.\r\nIm Preis enthalten sind der Transport\, die Eintrittsgelder und evtl. anfallende Materialkosten. Die Betreuung erfolgt durch die Jugendbeauftragten der Stadt und geschulte Betreuer und Betreuerinnen. 
URL;VALUE=URI:https://www.unser-ferienprogramm.de/neunkirchen/veranstaltung.php?id=315651
SUMMARY:Ausflugswoche
DTSTART;TZID=Europe/Berlin:20260709T100000
END:VEVENT


BEGIN:VEVENT
DTEND;TZID=Europe/Berlin:20260710T160000
UID:69eb5aa6732e34
DTSTAMP:20260424T135726
LOCATION:Verschiedene Ziele 
DESCRIPTION:Auch in diesem Jahr bietet das Jugendbüro der Kreisstadt Neunkirchen wieder eine Woche lang jeden Tag einen Ausflug zu den unterschiedlichsten Zielen in der Region an. Langeweile kommt in dieser Zeit also garantiert nicht auf! Je nach Ziel kann die Uhrzeit der Rückkunft variieren.\r\nIm Preis enthalten sind der Transport\, die Eintrittsgelder und evtl. anfallende Materialkosten. Die Betreuung erfolgt durch die Jugendbeauftragten der Stadt und geschulte Betreuer und Betreuerinnen. 
URL;VALUE=URI:https://www.unser-ferienprogramm.de/neunkirchen/veranstaltung.php?id=315651
SUMMARY:Ausflugswoche
DTSTART;TZID=Europe/Berlin:20260710T100000
END:VEVENT

END:VCALENDAR
