BEGIN:VCALENDAR
VERSION:2.0
PRODID:-//hacksw/handcal//NONSGML v1.0//EN
CALSCALE:GREGORIAN
BEGIN:VTIMEZONE
TZID:Europe/Berlin
X-LIC-LOCATION:Europe/Berlin
BEGIN:DAYLIGHT
TZOFFSETFROM:+0100
TZOFFSETTO:+0200
TZNAME:CEST
DTSTART:19700329T020000
RRULE:FREQ=YEARLY;BYDAY=-1SU;BYMONTH=3
END:DAYLIGHT
BEGIN:STANDARD
TZOFFSETFROM:+0200
TZOFFSETTO:+0100
TZNAME:CET
DTSTART:19701025T030000
RRULE:FREQ=YEARLY;BYDAY=-1SU;BYMONTH=10
END:STANDARD
END:VTIMEZONE
BEGIN:VEVENT
DTEND;TZID=Europe/Berlin:20260722T150000
UID:69eb5a3e916c8
DTSTAMP:20260424T135542
LOCATION:Lakaienschäferei
DESCRIPTION:Die Kreisstadt Neunkirchen bietet erstmals ein Wildniscamp für Familien an. Kinder-\, Jugend- und Familien-Büro laden vom 21. bis 22. Juli zu einem besonderen Naturerlebnis auf das Gelände der Lakaienschäferei ein.\r\nDas Camp richtet sich an Neunkircher Familien\, die gemeinsam mit ihren Kindern die Natur und den Wald intensiv erleben möchten. Unter Anleitung einer erfahrenen Wildnispädagogin bereiten die Teilnehmenden ihren Schlafplatz für die Nacht vor\, kochen gemeinsam über dem offenen Feuer und lassen den Abend bei Geschichten am Lagerfeuer stimmungsvoll ausklingen.\r\nÜbernachtet wird wahlweise im eigenen Zelt oder unter freiem Himmel. Bei Bedarf können Zweipersonenzelte zur Verfügung gestellt werden. Im Sinne eines bewussten Naturerlebnisses wird darum gebeten\, auf die Mitnahme von Süßigkeiten\, Mobiltelefonen und anderen elektronischen Geräten zu verzichten.\r\n
URL;VALUE=URI:https://www.unser-ferienprogramm.de/neunkirchen/veranstaltung.php?id=315476
SUMMARY:Wildniscamp für Familien
DTSTART;TZID=Europe/Berlin:20260721T150000
END:VEVENT

END:VCALENDAR
