BEGIN:VCALENDAR
VERSION:2.0
PRODID:-//hacksw/handcal//NONSGML v1.0//EN
CALSCALE:GREGORIAN
BEGIN:VTIMEZONE
TZID:Europe/Berlin
X-LIC-LOCATION:Europe/Berlin
BEGIN:DAYLIGHT
TZOFFSETFROM:+0100
TZOFFSETTO:+0200
TZNAME:CEST
DTSTART:19700329T020000
RRULE:FREQ=YEARLY;BYDAY=-1SU;BYMONTH=3
END:DAYLIGHT
BEGIN:STANDARD
TZOFFSETFROM:+0200
TZOFFSETTO:+0100
TZNAME:CET
DTSTART:19701025T030000
RRULE:FREQ=YEARLY;BYDAY=-1SU;BYMONTH=10
END:STANDARD
END:VTIMEZONE
BEGIN:VEVENT
DTEND;TZID=Europe/Berlin:20260809T180000
UID:69eb57fbc797e
DTSTAMP:20260424T134603
LOCATION:Niederbronn-les-Bains
DESCRIPTION:Frische Luft\, Erholung und kreative Entfaltung – so lassen sich die perfekten Sommerferien gestalten. Das Jugendbüro der Kreisstadt Neunkirchen bietet in Kooperation mit der Internationalen Jugendbegegnungsstätte Albert Schweitzer vom 02. bis 09. August 2026 eine deutsch-französische Ferienfreizeit für Jugendliche im Alter von 13 bis 17 Jahren an.\r\n\r\nDie Freizeit findet in Niederbronn-les-Bains in Frankreich statt. Die Teilnehmenden sind in der Jugendbegegnungs- und Bildungsstätte im Herzen der Nordvogesen untergebracht. Insgesamt 20 Jugendliche aus Deutschland und Frankreich erwartet ein abwechslungsreiches Programm mit Workshops\, gemeinsamen Aktivitäten und Ausflügen\, das Raum für interkulturellen Austausch und neue Erfahrungen bietet.\r\n\r\nIm Mittelpunkt der Freizeit steht die kreative Auseinandersetzung mit dem Thema „Freiheit! Was ist das und was bedeutet sie dir?“. Unter fachkundiger Anleitung gestalten die Jugendlichen hierzu eigene Comics und setzen sich künstlerisch mit ihren persönlichen Vorstellungen auseinander.\r\n\r\nDer Teilnahmebeitrag beträgt 350 Euro. Darin enthalten sind die An- und Abreise\, sechs Übernachtungen in der Jugendbegegnungs- und Bildungsstätte Niederbronn\, Bettwäsche und Handtücher\, Vollverpflegung\, eine Unfallversicherung sowie sämtliche Kosten für Ausflüge und Programmpunkte. Bei Vorliegen der Voraussetzungen kann die Teilnahme durch Leistungen aus dem Bildungs- und Teilhabepaket sowie durch das Kreisjugendamt bezuschusst werden.\r\n\r\nDie Betreuung erfolgt durch die Jugendbeauftragten der Kreisstadt Neunkirchen\, pädagogische Fachkräfte der Jugendbegegnungsstätte Albert Schweitzer sowie geschulte Betreuerinnen und Betreuer.\r\n
URL;VALUE=URI:https://www.unser-ferienprogramm.de/neunkirchen/veranstaltung.php?id=314444
SUMMARY:Sprechblasen der Freiheit - Deutsch-französische Ferienfreizeit
DTSTART;TZID=Europe/Berlin:20260802T100000
END:VEVENT

END:VCALENDAR
