BEGIN:VCALENDAR
VERSION:2.0
PRODID:-//hacksw/handcal//NONSGML v1.0//EN
CALSCALE:GREGORIAN
BEGIN:VTIMEZONE
TZID:Europe/Berlin
X-LIC-LOCATION:Europe/Berlin
BEGIN:DAYLIGHT
TZOFFSETFROM:+0100
TZOFFSETTO:+0200
TZNAME:CEST
DTSTART:19700329T020000
RRULE:FREQ=YEARLY;BYDAY=-1SU;BYMONTH=3
END:DAYLIGHT
BEGIN:STANDARD
TZOFFSETFROM:+0200
TZOFFSETTO:+0100
TZNAME:CET
DTSTART:19701025T030000
RRULE:FREQ=YEARLY;BYDAY=-1SU;BYMONTH=10
END:STANDARD
END:VTIMEZONE
BEGIN:VEVENT
DTEND;TZID=Europe/Berlin:20261012T160000
UID:69eb58cf07601
DTSTAMP:20260424T134935
LOCATION:Robinsondorf
DESCRIPTION:Unter dem Motto „aktiv-kreativ“ werden wir zusammen abwechslungsreiche und spannende\r\nFerientage verbringen. Für Sport und Spiel auf dem großzügigen Außengelände der\r\nFreizeiteinrichtung bleibt dabei auch genug Zeit. Außerdem ist ein Ausflug geplant.  
URL;VALUE=URI:https://www.unser-ferienprogramm.de/neunkirchen/veranstaltung.php?id=313074
SUMMARY:Herbstfreizeit
DTSTART;TZID=Europe/Berlin:20261012T080000
END:VEVENT


BEGIN:VEVENT
DTEND;TZID=Europe/Berlin:20261013T160000
UID:69eb58cf0761a1
DTSTAMP:20260424T134935
LOCATION:Robinsondorf
DESCRIPTION:Unter dem Motto „aktiv-kreativ“ werden wir zusammen abwechslungsreiche und spannende\r\nFerientage verbringen. Für Sport und Spiel auf dem großzügigen Außengelände der\r\nFreizeiteinrichtung bleibt dabei auch genug Zeit. Außerdem ist ein Ausflug geplant.  
URL;VALUE=URI:https://www.unser-ferienprogramm.de/neunkirchen/veranstaltung.php?id=313074
SUMMARY:Herbstfreizeit
DTSTART;TZID=Europe/Berlin:20261013T080000
END:VEVENT


BEGIN:VEVENT
DTEND;TZID=Europe/Berlin:20261014T160000
UID:69eb58cf076262
DTSTAMP:20260424T134935
LOCATION:Robinsondorf
DESCRIPTION:Unter dem Motto „aktiv-kreativ“ werden wir zusammen abwechslungsreiche und spannende\r\nFerientage verbringen. Für Sport und Spiel auf dem großzügigen Außengelände der\r\nFreizeiteinrichtung bleibt dabei auch genug Zeit. Außerdem ist ein Ausflug geplant.  
URL;VALUE=URI:https://www.unser-ferienprogramm.de/neunkirchen/veranstaltung.php?id=313074
SUMMARY:Herbstfreizeit
DTSTART;TZID=Europe/Berlin:20261014T080000
END:VEVENT


BEGIN:VEVENT
DTEND;TZID=Europe/Berlin:20261015T160000
UID:69eb58cf076303
DTSTAMP:20260424T134935
LOCATION:Robinsondorf
DESCRIPTION:Unter dem Motto „aktiv-kreativ“ werden wir zusammen abwechslungsreiche und spannende\r\nFerientage verbringen. Für Sport und Spiel auf dem großzügigen Außengelände der\r\nFreizeiteinrichtung bleibt dabei auch genug Zeit. Außerdem ist ein Ausflug geplant.  
URL;VALUE=URI:https://www.unser-ferienprogramm.de/neunkirchen/veranstaltung.php?id=313074
SUMMARY:Herbstfreizeit
DTSTART;TZID=Europe/Berlin:20261015T080000
END:VEVENT


BEGIN:VEVENT
DTEND;TZID=Europe/Berlin:20261016T160000
UID:69eb58cf076394
DTSTAMP:20260424T134935
LOCATION:Robinsondorf
DESCRIPTION:Unter dem Motto „aktiv-kreativ“ werden wir zusammen abwechslungsreiche und spannende\r\nFerientage verbringen. Für Sport und Spiel auf dem großzügigen Außengelände der\r\nFreizeiteinrichtung bleibt dabei auch genug Zeit. Außerdem ist ein Ausflug geplant.  
URL;VALUE=URI:https://www.unser-ferienprogramm.de/neunkirchen/veranstaltung.php?id=313074
SUMMARY:Herbstfreizeit
DTSTART;TZID=Europe/Berlin:20261016T080000
END:VEVENT

END:VCALENDAR
