BEGIN:VCALENDAR
VERSION:2.0
PRODID:-//hacksw/handcal//NONSGML v1.0//EN
CALSCALE:GREGORIAN
BEGIN:VTIMEZONE
TZID:Europe/Berlin
X-LIC-LOCATION:Europe/Berlin
BEGIN:DAYLIGHT
TZOFFSETFROM:+0100
TZOFFSETTO:+0200
TZNAME:CEST
DTSTART:19700329T020000
RRULE:FREQ=YEARLY;BYDAY=-1SU;BYMONTH=3
END:DAYLIGHT
BEGIN:STANDARD
TZOFFSETFROM:+0200
TZOFFSETTO:+0100
TZNAME:CET
DTSTART:19701025T030000
RRULE:FREQ=YEARLY;BYDAY=-1SU;BYMONTH=10
END:STANDARD
END:VTIMEZONE
BEGIN:VEVENT
DTEND;TZID=Europe/Berlin:20260614T140000
UID:69eb58d43b5dc
DTSTAMP:20260424T134940
LOCATION:Lakaienschäferei
DESCRIPTION:Nach dem großen Erfolg im vergangenen Jahr bietet der Mädchenarbeitskreis im Landkreis Neunkirchen erneut ein Wildniscamp für Mädchen an. Das Camp findet vom 12. bis 14. Juni 2026 auf dem Gelände der Lakaienschäferei in Neunkirchen statt. Ab sofort können sich Mädchen ab zehn Jahren aus dem Landkreis Neunkirchen anmelden. Der Teilnahmebeitrag beträgt 25 Euro.\r\n\r\nIm Wildnis-Camp haben 15 Mädchen die Gelegenheit\, Natur hautnah zu erleben – ganz ohne Smartphone und Internet. Gemeinsam richtet die Gruppe das Camp ein und bereitet die Mahlzeiten über dem offenen Feuer zu. Abends bleibt Zeit für Geschichten am Lagerfeuer\, geschlafen wird unter freiem Himmel. Die Teilnehmerinnen können sich auf abwechslungsreiche und außergewöhnliche Tage in der Natur freuen.\r\n\r\nBetreut werden die Mädchen von erfahrenen Pädagoginnen\, die das Camp begleiten und für ein sicheres sowie erlebnisreiches Programm sorgen.\r\n
URL;VALUE=URI:https://www.unser-ferienprogramm.de/neunkirchen/veranstaltung.php?id=308459
SUMMARY:Mädchencamp
DTSTART;TZID=Europe/Berlin:20260612T170000
END:VEVENT

END:VCALENDAR
