BEGIN:VCALENDAR
VERSION:2.0
PRODID:-//hacksw/handcal//NONSGML v1.0//EN
CALSCALE:GREGORIAN
BEGIN:VTIMEZONE
TZID:Europe/Berlin
X-LIC-LOCATION:Europe/Berlin
BEGIN:DAYLIGHT
TZOFFSETFROM:+0100
TZOFFSETTO:+0200
TZNAME:CEST
DTSTART:19700329T020000
RRULE:FREQ=YEARLY;BYDAY=-1SU;BYMONTH=3
END:DAYLIGHT
BEGIN:STANDARD
TZOFFSETFROM:+0200
TZOFFSETTO:+0100
TZNAME:CET
DTSTART:19701025T030000
RRULE:FREQ=YEARLY;BYDAY=-1SU;BYMONTH=10
END:STANDARD
END:VTIMEZONE
BEGIN:VEVENT
DTEND;TZID=Europe/Berlin:20261102T000000
UID:69e90e9bac409
DTSTAMP:20260422T200827
LOCATION:G6 - Haus für Jugend\, Bildung und Kultur\, Festplatz 3\, 92318 Neumarkt
DESCRIPTION:Thema: Bunter Herbst\r\nPassend zur Jahreszeit werkelst du mit Naturmaterialien. Halloween Bäckerei\, Grusel-Cocktails\, uvm.\r\n\r\nTeilnehmer: Schulkinder bis 12 Jahren\r\n\r\nDie Anmeldung ist ab 10. Februar 2026 ab 08:00 Uhr unter www.jugend-neumarkt.de möglich.
URL;VALUE=URI:https://www.unser-ferienprogramm.de/neumarkt/veranstaltung.php?id=299681
SUMMARY:Herbstferienprogramm
DTSTART;TZID=Europe/Berlin:20261102T000000
END:VEVENT


BEGIN:VEVENT
DTEND;TZID=Europe/Berlin:20261103T000000
UID:69e90e9bac4481
DTSTAMP:20260422T200827
LOCATION:G6 - Haus für Jugend\, Bildung und Kultur\, Festplatz 3\, 92318 Neumarkt
DESCRIPTION:Thema: Bunter Herbst\r\nPassend zur Jahreszeit werkelst du mit Naturmaterialien. Halloween Bäckerei\, Grusel-Cocktails\, uvm.\r\n\r\nTeilnehmer: Schulkinder bis 12 Jahren\r\n\r\nDie Anmeldung ist ab 10. Februar 2026 ab 08:00 Uhr unter www.jugend-neumarkt.de möglich.
URL;VALUE=URI:https://www.unser-ferienprogramm.de/neumarkt/veranstaltung.php?id=299681
SUMMARY:Herbstferienprogramm
DTSTART;TZID=Europe/Berlin:20261103T000000
END:VEVENT


BEGIN:VEVENT
DTEND;TZID=Europe/Berlin:20261104T000000
UID:69e90e9bac4552
DTSTAMP:20260422T200827
LOCATION:G6 - Haus für Jugend\, Bildung und Kultur\, Festplatz 3\, 92318 Neumarkt
DESCRIPTION:Thema: Bunter Herbst\r\nPassend zur Jahreszeit werkelst du mit Naturmaterialien. Halloween Bäckerei\, Grusel-Cocktails\, uvm.\r\n\r\nTeilnehmer: Schulkinder bis 12 Jahren\r\n\r\nDie Anmeldung ist ab 10. Februar 2026 ab 08:00 Uhr unter www.jugend-neumarkt.de möglich.
URL;VALUE=URI:https://www.unser-ferienprogramm.de/neumarkt/veranstaltung.php?id=299681
SUMMARY:Herbstferienprogramm
DTSTART;TZID=Europe/Berlin:20261104T000000
END:VEVENT


BEGIN:VEVENT
DTEND;TZID=Europe/Berlin:20261105T000000
UID:69e90e9bac4603
DTSTAMP:20260422T200827
LOCATION:G6 - Haus für Jugend\, Bildung und Kultur\, Festplatz 3\, 92318 Neumarkt
DESCRIPTION:Thema: Bunter Herbst\r\nPassend zur Jahreszeit werkelst du mit Naturmaterialien. Halloween Bäckerei\, Grusel-Cocktails\, uvm.\r\n\r\nTeilnehmer: Schulkinder bis 12 Jahren\r\n\r\nDie Anmeldung ist ab 10. Februar 2026 ab 08:00 Uhr unter www.jugend-neumarkt.de möglich.
URL;VALUE=URI:https://www.unser-ferienprogramm.de/neumarkt/veranstaltung.php?id=299681
SUMMARY:Herbstferienprogramm
DTSTART;TZID=Europe/Berlin:20261105T000000
END:VEVENT


BEGIN:VEVENT
DTEND;TZID=Europe/Berlin:20261106T000000
UID:69e90e9bac46a4
DTSTAMP:20260422T200827
LOCATION:G6 - Haus für Jugend\, Bildung und Kultur\, Festplatz 3\, 92318 Neumarkt
DESCRIPTION:Thema: Bunter Herbst\r\nPassend zur Jahreszeit werkelst du mit Naturmaterialien. Halloween Bäckerei\, Grusel-Cocktails\, uvm.\r\n\r\nTeilnehmer: Schulkinder bis 12 Jahren\r\n\r\nDie Anmeldung ist ab 10. Februar 2026 ab 08:00 Uhr unter www.jugend-neumarkt.de möglich.
URL;VALUE=URI:https://www.unser-ferienprogramm.de/neumarkt/veranstaltung.php?id=299681
SUMMARY:Herbstferienprogramm
DTSTART;TZID=Europe/Berlin:20261106T000000
END:VEVENT

END:VCALENDAR
