BEGIN:VCALENDAR
VERSION:2.0
PRODID:-//hacksw/handcal//NONSGML v1.0//EN
CALSCALE:GREGORIAN
BEGIN:VTIMEZONE
TZID:Europe/Berlin
X-LIC-LOCATION:Europe/Berlin
BEGIN:DAYLIGHT
TZOFFSETFROM:+0100
TZOFFSETTO:+0200
TZNAME:CEST
DTSTART:19700329T020000
RRULE:FREQ=YEARLY;BYDAY=-1SU;BYMONTH=3
END:DAYLIGHT
BEGIN:STANDARD
TZOFFSETFROM:+0200
TZOFFSETTO:+0100
TZNAME:CET
DTSTART:19701025T030000
RRULE:FREQ=YEARLY;BYDAY=-1SU;BYMONTH=10
END:STANDARD
END:VTIMEZONE
BEGIN:VEVENT
DTEND;TZID=Europe/Berlin:20260526T163000
UID:69e90ec082bd6
DTSTAMP:20260422T200904
LOCATION:G6\, Haus für Jugend\, Bildung und Kultur\, Festplatz 3\, 92318 Neumarkt
DESCRIPTION:In der ersten Pfingstferienwoche (26. - 29. Mai 2026) bietet das G6-Haus für Jugend\, Bildung und Kultur eine Ferienbetreuung an. Die Buchung ist nur für die ganze Woche buchbar und das Mittagessen ist inbegriffen.\r\n\r\nTeilnehmer: Schulkinder bis 12 Jahre\r\nZeit: tägl. von 8:00 - 16:30 Uhr.\r\n\r\nDie Anmeldung ist ab 10. Februar 2026 um 08:00 Uhr unter www.jugend-neumarkt.de möglich. 
URL;VALUE=URI:https://www.unser-ferienprogramm.de/neumarkt/veranstaltung.php?id=299678
SUMMARY:Pfingstferienprogramm
DTSTART;TZID=Europe/Berlin:20260526T080000
END:VEVENT


BEGIN:VEVENT
DTEND;TZID=Europe/Berlin:20260527T163000
UID:69e90ec082c1b1
DTSTAMP:20260422T200904
LOCATION:G6\, Haus für Jugend\, Bildung und Kultur\, Festplatz 3\, 92318 Neumarkt
DESCRIPTION:In der ersten Pfingstferienwoche (26. - 29. Mai 2026) bietet das G6-Haus für Jugend\, Bildung und Kultur eine Ferienbetreuung an. Die Buchung ist nur für die ganze Woche buchbar und das Mittagessen ist inbegriffen.\r\n\r\nTeilnehmer: Schulkinder bis 12 Jahre\r\nZeit: tägl. von 8:00 - 16:30 Uhr.\r\n\r\nDie Anmeldung ist ab 10. Februar 2026 um 08:00 Uhr unter www.jugend-neumarkt.de möglich. 
URL;VALUE=URI:https://www.unser-ferienprogramm.de/neumarkt/veranstaltung.php?id=299678
SUMMARY:Pfingstferienprogramm
DTSTART;TZID=Europe/Berlin:20260527T080000
END:VEVENT


BEGIN:VEVENT
DTEND;TZID=Europe/Berlin:20260528T163000
UID:69e90ec082c2a2
DTSTAMP:20260422T200904
LOCATION:G6\, Haus für Jugend\, Bildung und Kultur\, Festplatz 3\, 92318 Neumarkt
DESCRIPTION:In der ersten Pfingstferienwoche (26. - 29. Mai 2026) bietet das G6-Haus für Jugend\, Bildung und Kultur eine Ferienbetreuung an. Die Buchung ist nur für die ganze Woche buchbar und das Mittagessen ist inbegriffen.\r\n\r\nTeilnehmer: Schulkinder bis 12 Jahre\r\nZeit: tägl. von 8:00 - 16:30 Uhr.\r\n\r\nDie Anmeldung ist ab 10. Februar 2026 um 08:00 Uhr unter www.jugend-neumarkt.de möglich. 
URL;VALUE=URI:https://www.unser-ferienprogramm.de/neumarkt/veranstaltung.php?id=299678
SUMMARY:Pfingstferienprogramm
DTSTART;TZID=Europe/Berlin:20260528T080000
END:VEVENT


BEGIN:VEVENT
DTEND;TZID=Europe/Berlin:20260529T163000
UID:69e90ec082c343
DTSTAMP:20260422T200904
LOCATION:G6\, Haus für Jugend\, Bildung und Kultur\, Festplatz 3\, 92318 Neumarkt
DESCRIPTION:In der ersten Pfingstferienwoche (26. - 29. Mai 2026) bietet das G6-Haus für Jugend\, Bildung und Kultur eine Ferienbetreuung an. Die Buchung ist nur für die ganze Woche buchbar und das Mittagessen ist inbegriffen.\r\n\r\nTeilnehmer: Schulkinder bis 12 Jahre\r\nZeit: tägl. von 8:00 - 16:30 Uhr.\r\n\r\nDie Anmeldung ist ab 10. Februar 2026 um 08:00 Uhr unter www.jugend-neumarkt.de möglich. 
URL;VALUE=URI:https://www.unser-ferienprogramm.de/neumarkt/veranstaltung.php?id=299678
SUMMARY:Pfingstferienprogramm
DTSTART;TZID=Europe/Berlin:20260529T080000
END:VEVENT

END:VCALENDAR
