BEGIN:VCALENDAR
VERSION:2.0
PRODID:-//hacksw/handcal//NONSGML v1.0//EN
CALSCALE:GREGORIAN
BEGIN:VTIMEZONE
TZID:Europe/Berlin
X-LIC-LOCATION:Europe/Berlin
BEGIN:DAYLIGHT
TZOFFSETFROM:+0100
TZOFFSETTO:+0200
TZNAME:CEST
DTSTART:19700329T020000
RRULE:FREQ=YEARLY;BYDAY=-1SU;BYMONTH=3
END:DAYLIGHT
BEGIN:STANDARD
TZOFFSETFROM:+0200
TZOFFSETTO:+0100
TZNAME:CET
DTSTART:19701025T030000
RRULE:FREQ=YEARLY;BYDAY=-1SU;BYMONTH=10
END:STANDARD
END:VTIMEZONE
BEGIN:VEVENT
DTEND;TZID=Europe/Berlin:20260810T163000
UID:69e90ec5ef5ff
DTSTAMP:20260422T200909
LOCATION:Mittelschule West\, Woffenbacher Straße 36 - 38
DESCRIPTION:Für mehr Spaß im Sommer\r\n\r\nSommerferien - und jetzt? Zum Glück gibt's unsere Ferienspiele! Speziell für Schulkinder\, die nicht die ganze Zeit zuhause rumhängen möchten.\r\n\r\nAbenteuer\, Sport und Spiele ... jede Woche!\r\n\r\nBei uns werden Schulkinder bis 12 Jahre von geschulten\, ehrenamtlichen Jugendlichen unter der Leitung erfahrener Pädagogen betreut. Wir bieten ein abwechslungsreiches Programm mit Aktivitäten wie Klettern\, Basteln\, Handwerken\, Sport oder Kochen. Und: an sonnigen Tagen sind wir natürlich draußen unterwegs.\r\n\r\nIm Jahr 2026 findet das Sommerferienprogramm mit dem Thema: "Unsere Welt von morgen - Kinder gestalten Zukunft" voraussichtlich in folgenden Wochen statt:\r\n\r\nWoche 1:      3. - 7. August 2026\r\nWoche 2:    10. - 14. August 2026\r\nWoche 3:    17. - 21. August 2026\r\nWoche 4:    24. - 28. August 2026\r\n\r\nDie Anmeldung ist ab 10. Februar 2026 um 08:00 Uhr möglich. 
URL;VALUE=URI:https://www.unser-ferienprogramm.de/neumarkt/veranstaltung.php?id=299108
SUMMARY:2. Woche Sommerferienprogramm
DTSTART;TZID=Europe/Berlin:20260810T080000
END:VEVENT


BEGIN:VEVENT
DTEND;TZID=Europe/Berlin:20260811T163000
UID:69e90ec5ef6421
DTSTAMP:20260422T200909
LOCATION:Mittelschule West\, Woffenbacher Straße 36 - 38
DESCRIPTION:Für mehr Spaß im Sommer\r\n\r\nSommerferien - und jetzt? Zum Glück gibt's unsere Ferienspiele! Speziell für Schulkinder\, die nicht die ganze Zeit zuhause rumhängen möchten.\r\n\r\nAbenteuer\, Sport und Spiele ... jede Woche!\r\n\r\nBei uns werden Schulkinder bis 12 Jahre von geschulten\, ehrenamtlichen Jugendlichen unter der Leitung erfahrener Pädagogen betreut. Wir bieten ein abwechslungsreiches Programm mit Aktivitäten wie Klettern\, Basteln\, Handwerken\, Sport oder Kochen. Und: an sonnigen Tagen sind wir natürlich draußen unterwegs.\r\n\r\nIm Jahr 2026 findet das Sommerferienprogramm mit dem Thema: "Unsere Welt von morgen - Kinder gestalten Zukunft" voraussichtlich in folgenden Wochen statt:\r\n\r\nWoche 1:      3. - 7. August 2026\r\nWoche 2:    10. - 14. August 2026\r\nWoche 3:    17. - 21. August 2026\r\nWoche 4:    24. - 28. August 2026\r\n\r\nDie Anmeldung ist ab 10. Februar 2026 um 08:00 Uhr möglich. 
URL;VALUE=URI:https://www.unser-ferienprogramm.de/neumarkt/veranstaltung.php?id=299108
SUMMARY:2. Woche Sommerferienprogramm
DTSTART;TZID=Europe/Berlin:20260811T080000
END:VEVENT


BEGIN:VEVENT
DTEND;TZID=Europe/Berlin:20260812T163000
UID:69e90ec5ef6552
DTSTAMP:20260422T200909
LOCATION:Mittelschule West\, Woffenbacher Straße 36 - 38
DESCRIPTION:Für mehr Spaß im Sommer\r\n\r\nSommerferien - und jetzt? Zum Glück gibt's unsere Ferienspiele! Speziell für Schulkinder\, die nicht die ganze Zeit zuhause rumhängen möchten.\r\n\r\nAbenteuer\, Sport und Spiele ... jede Woche!\r\n\r\nBei uns werden Schulkinder bis 12 Jahre von geschulten\, ehrenamtlichen Jugendlichen unter der Leitung erfahrener Pädagogen betreut. Wir bieten ein abwechslungsreiches Programm mit Aktivitäten wie Klettern\, Basteln\, Handwerken\, Sport oder Kochen. Und: an sonnigen Tagen sind wir natürlich draußen unterwegs.\r\n\r\nIm Jahr 2026 findet das Sommerferienprogramm mit dem Thema: "Unsere Welt von morgen - Kinder gestalten Zukunft" voraussichtlich in folgenden Wochen statt:\r\n\r\nWoche 1:      3. - 7. August 2026\r\nWoche 2:    10. - 14. August 2026\r\nWoche 3:    17. - 21. August 2026\r\nWoche 4:    24. - 28. August 2026\r\n\r\nDie Anmeldung ist ab 10. Februar 2026 um 08:00 Uhr möglich. 
URL;VALUE=URI:https://www.unser-ferienprogramm.de/neumarkt/veranstaltung.php?id=299108
SUMMARY:2. Woche Sommerferienprogramm
DTSTART;TZID=Europe/Berlin:20260812T080000
END:VEVENT


BEGIN:VEVENT
DTEND;TZID=Europe/Berlin:20260813T163000
UID:69e90ec5ef6633
DTSTAMP:20260422T200909
LOCATION:Mittelschule West\, Woffenbacher Straße 36 - 38
DESCRIPTION:Für mehr Spaß im Sommer\r\n\r\nSommerferien - und jetzt? Zum Glück gibt's unsere Ferienspiele! Speziell für Schulkinder\, die nicht die ganze Zeit zuhause rumhängen möchten.\r\n\r\nAbenteuer\, Sport und Spiele ... jede Woche!\r\n\r\nBei uns werden Schulkinder bis 12 Jahre von geschulten\, ehrenamtlichen Jugendlichen unter der Leitung erfahrener Pädagogen betreut. Wir bieten ein abwechslungsreiches Programm mit Aktivitäten wie Klettern\, Basteln\, Handwerken\, Sport oder Kochen. Und: an sonnigen Tagen sind wir natürlich draußen unterwegs.\r\n\r\nIm Jahr 2026 findet das Sommerferienprogramm mit dem Thema: "Unsere Welt von morgen - Kinder gestalten Zukunft" voraussichtlich in folgenden Wochen statt:\r\n\r\nWoche 1:      3. - 7. August 2026\r\nWoche 2:    10. - 14. August 2026\r\nWoche 3:    17. - 21. August 2026\r\nWoche 4:    24. - 28. August 2026\r\n\r\nDie Anmeldung ist ab 10. Februar 2026 um 08:00 Uhr möglich. 
URL;VALUE=URI:https://www.unser-ferienprogramm.de/neumarkt/veranstaltung.php?id=299108
SUMMARY:2. Woche Sommerferienprogramm
DTSTART;TZID=Europe/Berlin:20260813T080000
END:VEVENT


BEGIN:VEVENT
DTEND;TZID=Europe/Berlin:20260814T163000
UID:69e90ec5ef6714
DTSTAMP:20260422T200909
LOCATION:Mittelschule West\, Woffenbacher Straße 36 - 38
DESCRIPTION:Für mehr Spaß im Sommer\r\n\r\nSommerferien - und jetzt? Zum Glück gibt's unsere Ferienspiele! Speziell für Schulkinder\, die nicht die ganze Zeit zuhause rumhängen möchten.\r\n\r\nAbenteuer\, Sport und Spiele ... jede Woche!\r\n\r\nBei uns werden Schulkinder bis 12 Jahre von geschulten\, ehrenamtlichen Jugendlichen unter der Leitung erfahrener Pädagogen betreut. Wir bieten ein abwechslungsreiches Programm mit Aktivitäten wie Klettern\, Basteln\, Handwerken\, Sport oder Kochen. Und: an sonnigen Tagen sind wir natürlich draußen unterwegs.\r\n\r\nIm Jahr 2026 findet das Sommerferienprogramm mit dem Thema: "Unsere Welt von morgen - Kinder gestalten Zukunft" voraussichtlich in folgenden Wochen statt:\r\n\r\nWoche 1:      3. - 7. August 2026\r\nWoche 2:    10. - 14. August 2026\r\nWoche 3:    17. - 21. August 2026\r\nWoche 4:    24. - 28. August 2026\r\n\r\nDie Anmeldung ist ab 10. Februar 2026 um 08:00 Uhr möglich. 
URL;VALUE=URI:https://www.unser-ferienprogramm.de/neumarkt/veranstaltung.php?id=299108
SUMMARY:2. Woche Sommerferienprogramm
DTSTART;TZID=Europe/Berlin:20260814T080000
END:VEVENT

END:VCALENDAR
