BEGIN:VCALENDAR
VERSION:2.0
PRODID:-//hacksw/handcal//NONSGML v1.0//EN
CALSCALE:GREGORIAN
BEGIN:VTIMEZONE
TZID:Europe/Berlin
X-LIC-LOCATION:Europe/Berlin
BEGIN:DAYLIGHT
TZOFFSETFROM:+0100
TZOFFSETTO:+0200
TZNAME:CEST
DTSTART:19700329T020000
RRULE:FREQ=YEARLY;BYDAY=-1SU;BYMONTH=3
END:DAYLIGHT
BEGIN:STANDARD
TZOFFSETFROM:+0200
TZOFFSETTO:+0100
TZNAME:CET
DTSTART:19701025T030000
RRULE:FREQ=YEARLY;BYDAY=-1SU;BYMONTH=10
END:STANDARD
END:VTIMEZONE
BEGIN:VEVENT
DTEND;TZID=Europe/Berlin:20260413T171500
UID:69e6e8ce790b0
DTSTAMP:20260421T050238
LOCATION:Mayen
DESCRIPTION:Der Kinderschwimmkurs findet täglich von montags bis freitags ab 16:15 Uhr statt und erstreckt sich über insgesamt 10 Einheiten á 60 Minuten. Kursbeginn ist der 13.04.2026.\r\n\r\nAlle Utensilien (z.B. Schwimmbrett oder Schwimmgürtel)\, die die Kinder zum lernen benötigen stellt das Nettebad zur Verfügung. daher bitten wir Sie keine Schwimmflügel o.ä. mitzubringen.\r\n\r\nWährend des Kinderschwimmkurse müssen Sie nicht anwesend sein. Selbstverständlich können Sie gegen Zahlung des üblichen Eintrittpreises auch selbst das Bad nutzen. Falls Sie sich zum Badbesuch entschließen\, möchten wir Sie darum bitten\, sich nicht im Bereich der Kursdurchführung aufzuhalten\, Der gewünschte Lernerfolg Ihres Kindes könnte durch die evtl. entstehende Ablenkung gehemmt werden. 
URL;VALUE=URI:https://www.unser-ferienprogramm.de/nettebadmayen/veranstaltung.php?id=306968
SUMMARY:Crash Kurs 6
DTSTART;TZID=Europe/Berlin:20260413T161500
END:VEVENT


BEGIN:VEVENT
DTEND;TZID=Europe/Berlin:20260414T171500
UID:69e6e8ce790f21
DTSTAMP:20260421T050238
LOCATION:Mayen
DESCRIPTION:Der Kinderschwimmkurs findet täglich von montags bis freitags ab 16:15 Uhr statt und erstreckt sich über insgesamt 10 Einheiten á 60 Minuten. Kursbeginn ist der 13.04.2026.\r\n\r\nAlle Utensilien (z.B. Schwimmbrett oder Schwimmgürtel)\, die die Kinder zum lernen benötigen stellt das Nettebad zur Verfügung. daher bitten wir Sie keine Schwimmflügel o.ä. mitzubringen.\r\n\r\nWährend des Kinderschwimmkurse müssen Sie nicht anwesend sein. Selbstverständlich können Sie gegen Zahlung des üblichen Eintrittpreises auch selbst das Bad nutzen. Falls Sie sich zum Badbesuch entschließen\, möchten wir Sie darum bitten\, sich nicht im Bereich der Kursdurchführung aufzuhalten\, Der gewünschte Lernerfolg Ihres Kindes könnte durch die evtl. entstehende Ablenkung gehemmt werden. 
URL;VALUE=URI:https://www.unser-ferienprogramm.de/nettebadmayen/veranstaltung.php?id=306968
SUMMARY:Crash Kurs 6
DTSTART;TZID=Europe/Berlin:20260414T161500
END:VEVENT


BEGIN:VEVENT
DTEND;TZID=Europe/Berlin:20260415T171500
UID:69e6e8ce791032
DTSTAMP:20260421T050238
LOCATION:Mayen
DESCRIPTION:Der Kinderschwimmkurs findet täglich von montags bis freitags ab 16:15 Uhr statt und erstreckt sich über insgesamt 10 Einheiten á 60 Minuten. Kursbeginn ist der 13.04.2026.\r\n\r\nAlle Utensilien (z.B. Schwimmbrett oder Schwimmgürtel)\, die die Kinder zum lernen benötigen stellt das Nettebad zur Verfügung. daher bitten wir Sie keine Schwimmflügel o.ä. mitzubringen.\r\n\r\nWährend des Kinderschwimmkurse müssen Sie nicht anwesend sein. Selbstverständlich können Sie gegen Zahlung des üblichen Eintrittpreises auch selbst das Bad nutzen. Falls Sie sich zum Badbesuch entschließen\, möchten wir Sie darum bitten\, sich nicht im Bereich der Kursdurchführung aufzuhalten\, Der gewünschte Lernerfolg Ihres Kindes könnte durch die evtl. entstehende Ablenkung gehemmt werden. 
URL;VALUE=URI:https://www.unser-ferienprogramm.de/nettebadmayen/veranstaltung.php?id=306968
SUMMARY:Crash Kurs 6
DTSTART;TZID=Europe/Berlin:20260415T161500
END:VEVENT


BEGIN:VEVENT
DTEND;TZID=Europe/Berlin:20260416T171500
UID:69e6e8ce791103
DTSTAMP:20260421T050238
LOCATION:Mayen
DESCRIPTION:Der Kinderschwimmkurs findet täglich von montags bis freitags ab 16:15 Uhr statt und erstreckt sich über insgesamt 10 Einheiten á 60 Minuten. Kursbeginn ist der 13.04.2026.\r\n\r\nAlle Utensilien (z.B. Schwimmbrett oder Schwimmgürtel)\, die die Kinder zum lernen benötigen stellt das Nettebad zur Verfügung. daher bitten wir Sie keine Schwimmflügel o.ä. mitzubringen.\r\n\r\nWährend des Kinderschwimmkurse müssen Sie nicht anwesend sein. Selbstverständlich können Sie gegen Zahlung des üblichen Eintrittpreises auch selbst das Bad nutzen. Falls Sie sich zum Badbesuch entschließen\, möchten wir Sie darum bitten\, sich nicht im Bereich der Kursdurchführung aufzuhalten\, Der gewünschte Lernerfolg Ihres Kindes könnte durch die evtl. entstehende Ablenkung gehemmt werden. 
URL;VALUE=URI:https://www.unser-ferienprogramm.de/nettebadmayen/veranstaltung.php?id=306968
SUMMARY:Crash Kurs 6
DTSTART;TZID=Europe/Berlin:20260416T161500
END:VEVENT


BEGIN:VEVENT
DTEND;TZID=Europe/Berlin:20260417T171500
UID:69e6e8ce7911d4
DTSTAMP:20260421T050238
LOCATION:Mayen
DESCRIPTION:Der Kinderschwimmkurs findet täglich von montags bis freitags ab 16:15 Uhr statt und erstreckt sich über insgesamt 10 Einheiten á 60 Minuten. Kursbeginn ist der 13.04.2026.\r\n\r\nAlle Utensilien (z.B. Schwimmbrett oder Schwimmgürtel)\, die die Kinder zum lernen benötigen stellt das Nettebad zur Verfügung. daher bitten wir Sie keine Schwimmflügel o.ä. mitzubringen.\r\n\r\nWährend des Kinderschwimmkurse müssen Sie nicht anwesend sein. Selbstverständlich können Sie gegen Zahlung des üblichen Eintrittpreises auch selbst das Bad nutzen. Falls Sie sich zum Badbesuch entschließen\, möchten wir Sie darum bitten\, sich nicht im Bereich der Kursdurchführung aufzuhalten\, Der gewünschte Lernerfolg Ihres Kindes könnte durch die evtl. entstehende Ablenkung gehemmt werden. 
URL;VALUE=URI:https://www.unser-ferienprogramm.de/nettebadmayen/veranstaltung.php?id=306968
SUMMARY:Crash Kurs 6
DTSTART;TZID=Europe/Berlin:20260417T161500
END:VEVENT


BEGIN:VEVENT
DTEND;TZID=Europe/Berlin:20260420T171500
UID:69e6e8ce791295
DTSTAMP:20260421T050238
LOCATION:Mayen
DESCRIPTION:Der Kinderschwimmkurs findet täglich von montags bis freitags ab 16:15 Uhr statt und erstreckt sich über insgesamt 10 Einheiten á 60 Minuten. Kursbeginn ist der 13.04.2026.\r\n\r\nAlle Utensilien (z.B. Schwimmbrett oder Schwimmgürtel)\, die die Kinder zum lernen benötigen stellt das Nettebad zur Verfügung. daher bitten wir Sie keine Schwimmflügel o.ä. mitzubringen.\r\n\r\nWährend des Kinderschwimmkurse müssen Sie nicht anwesend sein. Selbstverständlich können Sie gegen Zahlung des üblichen Eintrittpreises auch selbst das Bad nutzen. Falls Sie sich zum Badbesuch entschließen\, möchten wir Sie darum bitten\, sich nicht im Bereich der Kursdurchführung aufzuhalten\, Der gewünschte Lernerfolg Ihres Kindes könnte durch die evtl. entstehende Ablenkung gehemmt werden. 
URL;VALUE=URI:https://www.unser-ferienprogramm.de/nettebadmayen/veranstaltung.php?id=306968
SUMMARY:Crash Kurs 6
DTSTART;TZID=Europe/Berlin:20260420T161500
END:VEVENT


BEGIN:VEVENT
DTEND;TZID=Europe/Berlin:20260421T171500
UID:69e6e8ce791346
DTSTAMP:20260421T050238
LOCATION:Mayen
DESCRIPTION:Der Kinderschwimmkurs findet täglich von montags bis freitags ab 16:15 Uhr statt und erstreckt sich über insgesamt 10 Einheiten á 60 Minuten. Kursbeginn ist der 13.04.2026.\r\n\r\nAlle Utensilien (z.B. Schwimmbrett oder Schwimmgürtel)\, die die Kinder zum lernen benötigen stellt das Nettebad zur Verfügung. daher bitten wir Sie keine Schwimmflügel o.ä. mitzubringen.\r\n\r\nWährend des Kinderschwimmkurse müssen Sie nicht anwesend sein. Selbstverständlich können Sie gegen Zahlung des üblichen Eintrittpreises auch selbst das Bad nutzen. Falls Sie sich zum Badbesuch entschließen\, möchten wir Sie darum bitten\, sich nicht im Bereich der Kursdurchführung aufzuhalten\, Der gewünschte Lernerfolg Ihres Kindes könnte durch die evtl. entstehende Ablenkung gehemmt werden. 
URL;VALUE=URI:https://www.unser-ferienprogramm.de/nettebadmayen/veranstaltung.php?id=306968
SUMMARY:Crash Kurs 6
DTSTART;TZID=Europe/Berlin:20260421T161500
END:VEVENT


BEGIN:VEVENT
DTEND;TZID=Europe/Berlin:20260422T171500
UID:69e6e8ce791407
DTSTAMP:20260421T050238
LOCATION:Mayen
DESCRIPTION:Der Kinderschwimmkurs findet täglich von montags bis freitags ab 16:15 Uhr statt und erstreckt sich über insgesamt 10 Einheiten á 60 Minuten. Kursbeginn ist der 13.04.2026.\r\n\r\nAlle Utensilien (z.B. Schwimmbrett oder Schwimmgürtel)\, die die Kinder zum lernen benötigen stellt das Nettebad zur Verfügung. daher bitten wir Sie keine Schwimmflügel o.ä. mitzubringen.\r\n\r\nWährend des Kinderschwimmkurse müssen Sie nicht anwesend sein. Selbstverständlich können Sie gegen Zahlung des üblichen Eintrittpreises auch selbst das Bad nutzen. Falls Sie sich zum Badbesuch entschließen\, möchten wir Sie darum bitten\, sich nicht im Bereich der Kursdurchführung aufzuhalten\, Der gewünschte Lernerfolg Ihres Kindes könnte durch die evtl. entstehende Ablenkung gehemmt werden. 
URL;VALUE=URI:https://www.unser-ferienprogramm.de/nettebadmayen/veranstaltung.php?id=306968
SUMMARY:Crash Kurs 6
DTSTART;TZID=Europe/Berlin:20260422T161500
END:VEVENT


BEGIN:VEVENT
DTEND;TZID=Europe/Berlin:20260423T171500
UID:69e6e8ce7914c8
DTSTAMP:20260421T050238
LOCATION:Mayen
DESCRIPTION:Der Kinderschwimmkurs findet täglich von montags bis freitags ab 16:15 Uhr statt und erstreckt sich über insgesamt 10 Einheiten á 60 Minuten. Kursbeginn ist der 13.04.2026.\r\n\r\nAlle Utensilien (z.B. Schwimmbrett oder Schwimmgürtel)\, die die Kinder zum lernen benötigen stellt das Nettebad zur Verfügung. daher bitten wir Sie keine Schwimmflügel o.ä. mitzubringen.\r\n\r\nWährend des Kinderschwimmkurse müssen Sie nicht anwesend sein. Selbstverständlich können Sie gegen Zahlung des üblichen Eintrittpreises auch selbst das Bad nutzen. Falls Sie sich zum Badbesuch entschließen\, möchten wir Sie darum bitten\, sich nicht im Bereich der Kursdurchführung aufzuhalten\, Der gewünschte Lernerfolg Ihres Kindes könnte durch die evtl. entstehende Ablenkung gehemmt werden. 
URL;VALUE=URI:https://www.unser-ferienprogramm.de/nettebadmayen/veranstaltung.php?id=306968
SUMMARY:Crash Kurs 6
DTSTART;TZID=Europe/Berlin:20260423T161500
END:VEVENT


BEGIN:VEVENT
DTEND;TZID=Europe/Berlin:20260424T171500
UID:69e6e8ce791589
DTSTAMP:20260421T050238
LOCATION:Mayen
DESCRIPTION:Der Kinderschwimmkurs findet täglich von montags bis freitags ab 16:15 Uhr statt und erstreckt sich über insgesamt 10 Einheiten á 60 Minuten. Kursbeginn ist der 13.04.2026.\r\n\r\nAlle Utensilien (z.B. Schwimmbrett oder Schwimmgürtel)\, die die Kinder zum lernen benötigen stellt das Nettebad zur Verfügung. daher bitten wir Sie keine Schwimmflügel o.ä. mitzubringen.\r\n\r\nWährend des Kinderschwimmkurse müssen Sie nicht anwesend sein. Selbstverständlich können Sie gegen Zahlung des üblichen Eintrittpreises auch selbst das Bad nutzen. Falls Sie sich zum Badbesuch entschließen\, möchten wir Sie darum bitten\, sich nicht im Bereich der Kursdurchführung aufzuhalten\, Der gewünschte Lernerfolg Ihres Kindes könnte durch die evtl. entstehende Ablenkung gehemmt werden. 
URL;VALUE=URI:https://www.unser-ferienprogramm.de/nettebadmayen/veranstaltung.php?id=306968
SUMMARY:Crash Kurs 6
DTSTART;TZID=Europe/Berlin:20260424T161500
END:VEVENT

END:VCALENDAR
