BEGIN:VCALENDAR
VERSION:2.0
PRODID:-//hacksw/handcal//NONSGML v1.0//EN
CALSCALE:GREGORIAN
BEGIN:VTIMEZONE
TZID:Europe/Berlin
X-LIC-LOCATION:Europe/Berlin
BEGIN:DAYLIGHT
TZOFFSETFROM:+0100
TZOFFSETTO:+0200
TZNAME:CEST
DTSTART:19700329T020000
RRULE:FREQ=YEARLY;BYDAY=-1SU;BYMONTH=3
END:DAYLIGHT
BEGIN:STANDARD
TZOFFSETFROM:+0200
TZOFFSETTO:+0100
TZNAME:CET
DTSTART:19701025T030000
RRULE:FREQ=YEARLY;BYDAY=-1SU;BYMONTH=10
END:STANDARD
END:VTIMEZONE
BEGIN:VEVENT
DTEND;TZID=Europe/Berlin:20260413T160000
UID:69e6e935b6414
DTSTAMP:20260421T050421
LOCATION:Mayen
DESCRIPTION:Der Kinderschwimmkurs findet täglich von montags bis freitags ab 15:00 Uhr statt und erstreckt sich über insgesamt 10 Einheiten á 60 Minuten. Kursbeginn ist der 13.04.2026.\r\n\r\nAlle Utensilien (z.B. Schwimmbrett oder Schwimmgürtel)\, die die Kinder zum lernen benötigen stellt das Nettebad zur Verfügung. daher bitten wir Sie keine Schwimmflügel o.ä. mitzubringen.\r\n\r\nWährend des Kinderschwimmkurse müssen Sie nicht anwesend sein. Selbstverständlich können Sie gegen Zahlung des üblichen Eintrittpreises auch selbst das Bad nutzen. Falls Sie sich zum Badbesuch entschließen\, möchten wir Sie darum bitten\, sich nicht im Bereich der Kursdurchführung aufzuhalten\, Der gewünschte Lernerfolg Ihres Kindes könnte durch die evtl. entstehende Ablenkung gehemmt werden. 
URL;VALUE=URI:https://www.unser-ferienprogramm.de/nettebadmayen/veranstaltung.php?id=306963
SUMMARY:Crash Kurs 5
DTSTART;TZID=Europe/Berlin:20260413T150000
END:VEVENT


BEGIN:VEVENT
DTEND;TZID=Europe/Berlin:20260414T160000
UID:69e6e935b64321
DTSTAMP:20260421T050421
LOCATION:Mayen
DESCRIPTION:Der Kinderschwimmkurs findet täglich von montags bis freitags ab 15:00 Uhr statt und erstreckt sich über insgesamt 10 Einheiten á 60 Minuten. Kursbeginn ist der 13.04.2026.\r\n\r\nAlle Utensilien (z.B. Schwimmbrett oder Schwimmgürtel)\, die die Kinder zum lernen benötigen stellt das Nettebad zur Verfügung. daher bitten wir Sie keine Schwimmflügel o.ä. mitzubringen.\r\n\r\nWährend des Kinderschwimmkurse müssen Sie nicht anwesend sein. Selbstverständlich können Sie gegen Zahlung des üblichen Eintrittpreises auch selbst das Bad nutzen. Falls Sie sich zum Badbesuch entschließen\, möchten wir Sie darum bitten\, sich nicht im Bereich der Kursdurchführung aufzuhalten\, Der gewünschte Lernerfolg Ihres Kindes könnte durch die evtl. entstehende Ablenkung gehemmt werden. 
URL;VALUE=URI:https://www.unser-ferienprogramm.de/nettebadmayen/veranstaltung.php?id=306963
SUMMARY:Crash Kurs 5
DTSTART;TZID=Europe/Berlin:20260414T150000
END:VEVENT


BEGIN:VEVENT
DTEND;TZID=Europe/Berlin:20260415T160000
UID:69e6e935b64422
DTSTAMP:20260421T050421
LOCATION:Mayen
DESCRIPTION:Der Kinderschwimmkurs findet täglich von montags bis freitags ab 15:00 Uhr statt und erstreckt sich über insgesamt 10 Einheiten á 60 Minuten. Kursbeginn ist der 13.04.2026.\r\n\r\nAlle Utensilien (z.B. Schwimmbrett oder Schwimmgürtel)\, die die Kinder zum lernen benötigen stellt das Nettebad zur Verfügung. daher bitten wir Sie keine Schwimmflügel o.ä. mitzubringen.\r\n\r\nWährend des Kinderschwimmkurse müssen Sie nicht anwesend sein. Selbstverständlich können Sie gegen Zahlung des üblichen Eintrittpreises auch selbst das Bad nutzen. Falls Sie sich zum Badbesuch entschließen\, möchten wir Sie darum bitten\, sich nicht im Bereich der Kursdurchführung aufzuhalten\, Der gewünschte Lernerfolg Ihres Kindes könnte durch die evtl. entstehende Ablenkung gehemmt werden. 
URL;VALUE=URI:https://www.unser-ferienprogramm.de/nettebadmayen/veranstaltung.php?id=306963
SUMMARY:Crash Kurs 5
DTSTART;TZID=Europe/Berlin:20260415T150000
END:VEVENT


BEGIN:VEVENT
DTEND;TZID=Europe/Berlin:20260416T160000
UID:69e6e935b64503
DTSTAMP:20260421T050421
LOCATION:Mayen
DESCRIPTION:Der Kinderschwimmkurs findet täglich von montags bis freitags ab 15:00 Uhr statt und erstreckt sich über insgesamt 10 Einheiten á 60 Minuten. Kursbeginn ist der 13.04.2026.\r\n\r\nAlle Utensilien (z.B. Schwimmbrett oder Schwimmgürtel)\, die die Kinder zum lernen benötigen stellt das Nettebad zur Verfügung. daher bitten wir Sie keine Schwimmflügel o.ä. mitzubringen.\r\n\r\nWährend des Kinderschwimmkurse müssen Sie nicht anwesend sein. Selbstverständlich können Sie gegen Zahlung des üblichen Eintrittpreises auch selbst das Bad nutzen. Falls Sie sich zum Badbesuch entschließen\, möchten wir Sie darum bitten\, sich nicht im Bereich der Kursdurchführung aufzuhalten\, Der gewünschte Lernerfolg Ihres Kindes könnte durch die evtl. entstehende Ablenkung gehemmt werden. 
URL;VALUE=URI:https://www.unser-ferienprogramm.de/nettebadmayen/veranstaltung.php?id=306963
SUMMARY:Crash Kurs 5
DTSTART;TZID=Europe/Berlin:20260416T150000
END:VEVENT


BEGIN:VEVENT
DTEND;TZID=Europe/Berlin:20260417T160000
UID:69e6e935b645c4
DTSTAMP:20260421T050421
LOCATION:Mayen
DESCRIPTION:Der Kinderschwimmkurs findet täglich von montags bis freitags ab 15:00 Uhr statt und erstreckt sich über insgesamt 10 Einheiten á 60 Minuten. Kursbeginn ist der 13.04.2026.\r\n\r\nAlle Utensilien (z.B. Schwimmbrett oder Schwimmgürtel)\, die die Kinder zum lernen benötigen stellt das Nettebad zur Verfügung. daher bitten wir Sie keine Schwimmflügel o.ä. mitzubringen.\r\n\r\nWährend des Kinderschwimmkurse müssen Sie nicht anwesend sein. Selbstverständlich können Sie gegen Zahlung des üblichen Eintrittpreises auch selbst das Bad nutzen. Falls Sie sich zum Badbesuch entschließen\, möchten wir Sie darum bitten\, sich nicht im Bereich der Kursdurchführung aufzuhalten\, Der gewünschte Lernerfolg Ihres Kindes könnte durch die evtl. entstehende Ablenkung gehemmt werden. 
URL;VALUE=URI:https://www.unser-ferienprogramm.de/nettebadmayen/veranstaltung.php?id=306963
SUMMARY:Crash Kurs 5
DTSTART;TZID=Europe/Berlin:20260417T150000
END:VEVENT


BEGIN:VEVENT
DTEND;TZID=Europe/Berlin:20260420T160000
UID:69e6e935b64685
DTSTAMP:20260421T050421
LOCATION:Mayen
DESCRIPTION:Der Kinderschwimmkurs findet täglich von montags bis freitags ab 15:00 Uhr statt und erstreckt sich über insgesamt 10 Einheiten á 60 Minuten. Kursbeginn ist der 13.04.2026.\r\n\r\nAlle Utensilien (z.B. Schwimmbrett oder Schwimmgürtel)\, die die Kinder zum lernen benötigen stellt das Nettebad zur Verfügung. daher bitten wir Sie keine Schwimmflügel o.ä. mitzubringen.\r\n\r\nWährend des Kinderschwimmkurse müssen Sie nicht anwesend sein. Selbstverständlich können Sie gegen Zahlung des üblichen Eintrittpreises auch selbst das Bad nutzen. Falls Sie sich zum Badbesuch entschließen\, möchten wir Sie darum bitten\, sich nicht im Bereich der Kursdurchführung aufzuhalten\, Der gewünschte Lernerfolg Ihres Kindes könnte durch die evtl. entstehende Ablenkung gehemmt werden. 
URL;VALUE=URI:https://www.unser-ferienprogramm.de/nettebadmayen/veranstaltung.php?id=306963
SUMMARY:Crash Kurs 5
DTSTART;TZID=Europe/Berlin:20260420T150000
END:VEVENT


BEGIN:VEVENT
DTEND;TZID=Europe/Berlin:20260421T160000
UID:69e6e935b64746
DTSTAMP:20260421T050421
LOCATION:Mayen
DESCRIPTION:Der Kinderschwimmkurs findet täglich von montags bis freitags ab 15:00 Uhr statt und erstreckt sich über insgesamt 10 Einheiten á 60 Minuten. Kursbeginn ist der 13.04.2026.\r\n\r\nAlle Utensilien (z.B. Schwimmbrett oder Schwimmgürtel)\, die die Kinder zum lernen benötigen stellt das Nettebad zur Verfügung. daher bitten wir Sie keine Schwimmflügel o.ä. mitzubringen.\r\n\r\nWährend des Kinderschwimmkurse müssen Sie nicht anwesend sein. Selbstverständlich können Sie gegen Zahlung des üblichen Eintrittpreises auch selbst das Bad nutzen. Falls Sie sich zum Badbesuch entschließen\, möchten wir Sie darum bitten\, sich nicht im Bereich der Kursdurchführung aufzuhalten\, Der gewünschte Lernerfolg Ihres Kindes könnte durch die evtl. entstehende Ablenkung gehemmt werden. 
URL;VALUE=URI:https://www.unser-ferienprogramm.de/nettebadmayen/veranstaltung.php?id=306963
SUMMARY:Crash Kurs 5
DTSTART;TZID=Europe/Berlin:20260421T150000
END:VEVENT


BEGIN:VEVENT
DTEND;TZID=Europe/Berlin:20260422T160000
UID:69e6e935b647f7
DTSTAMP:20260421T050421
LOCATION:Mayen
DESCRIPTION:Der Kinderschwimmkurs findet täglich von montags bis freitags ab 15:00 Uhr statt und erstreckt sich über insgesamt 10 Einheiten á 60 Minuten. Kursbeginn ist der 13.04.2026.\r\n\r\nAlle Utensilien (z.B. Schwimmbrett oder Schwimmgürtel)\, die die Kinder zum lernen benötigen stellt das Nettebad zur Verfügung. daher bitten wir Sie keine Schwimmflügel o.ä. mitzubringen.\r\n\r\nWährend des Kinderschwimmkurse müssen Sie nicht anwesend sein. Selbstverständlich können Sie gegen Zahlung des üblichen Eintrittpreises auch selbst das Bad nutzen. Falls Sie sich zum Badbesuch entschließen\, möchten wir Sie darum bitten\, sich nicht im Bereich der Kursdurchführung aufzuhalten\, Der gewünschte Lernerfolg Ihres Kindes könnte durch die evtl. entstehende Ablenkung gehemmt werden. 
URL;VALUE=URI:https://www.unser-ferienprogramm.de/nettebadmayen/veranstaltung.php?id=306963
SUMMARY:Crash Kurs 5
DTSTART;TZID=Europe/Berlin:20260422T150000
END:VEVENT


BEGIN:VEVENT
DTEND;TZID=Europe/Berlin:20260423T160000
UID:69e6e935b648b8
DTSTAMP:20260421T050421
LOCATION:Mayen
DESCRIPTION:Der Kinderschwimmkurs findet täglich von montags bis freitags ab 15:00 Uhr statt und erstreckt sich über insgesamt 10 Einheiten á 60 Minuten. Kursbeginn ist der 13.04.2026.\r\n\r\nAlle Utensilien (z.B. Schwimmbrett oder Schwimmgürtel)\, die die Kinder zum lernen benötigen stellt das Nettebad zur Verfügung. daher bitten wir Sie keine Schwimmflügel o.ä. mitzubringen.\r\n\r\nWährend des Kinderschwimmkurse müssen Sie nicht anwesend sein. Selbstverständlich können Sie gegen Zahlung des üblichen Eintrittpreises auch selbst das Bad nutzen. Falls Sie sich zum Badbesuch entschließen\, möchten wir Sie darum bitten\, sich nicht im Bereich der Kursdurchführung aufzuhalten\, Der gewünschte Lernerfolg Ihres Kindes könnte durch die evtl. entstehende Ablenkung gehemmt werden. 
URL;VALUE=URI:https://www.unser-ferienprogramm.de/nettebadmayen/veranstaltung.php?id=306963
SUMMARY:Crash Kurs 5
DTSTART;TZID=Europe/Berlin:20260423T150000
END:VEVENT


BEGIN:VEVENT
DTEND;TZID=Europe/Berlin:20260424T160000
UID:69e6e935b64979
DTSTAMP:20260421T050421
LOCATION:Mayen
DESCRIPTION:Der Kinderschwimmkurs findet täglich von montags bis freitags ab 15:00 Uhr statt und erstreckt sich über insgesamt 10 Einheiten á 60 Minuten. Kursbeginn ist der 13.04.2026.\r\n\r\nAlle Utensilien (z.B. Schwimmbrett oder Schwimmgürtel)\, die die Kinder zum lernen benötigen stellt das Nettebad zur Verfügung. daher bitten wir Sie keine Schwimmflügel o.ä. mitzubringen.\r\n\r\nWährend des Kinderschwimmkurse müssen Sie nicht anwesend sein. Selbstverständlich können Sie gegen Zahlung des üblichen Eintrittpreises auch selbst das Bad nutzen. Falls Sie sich zum Badbesuch entschließen\, möchten wir Sie darum bitten\, sich nicht im Bereich der Kursdurchführung aufzuhalten\, Der gewünschte Lernerfolg Ihres Kindes könnte durch die evtl. entstehende Ablenkung gehemmt werden. 
URL;VALUE=URI:https://www.unser-ferienprogramm.de/nettebadmayen/veranstaltung.php?id=306963
SUMMARY:Crash Kurs 5
DTSTART;TZID=Europe/Berlin:20260424T150000
END:VEVENT

END:VCALENDAR
