BEGIN:VCALENDAR
VERSION:2.0
PRODID:-//hacksw/handcal//NONSGML v1.0//EN
CALSCALE:GREGORIAN
BEGIN:VTIMEZONE
TZID:Europe/Berlin
X-LIC-LOCATION:Europe/Berlin
BEGIN:DAYLIGHT
TZOFFSETFROM:+0100
TZOFFSETTO:+0200
TZNAME:CEST
DTSTART:19700329T020000
RRULE:FREQ=YEARLY;BYDAY=-1SU;BYMONTH=3
END:DAYLIGHT
BEGIN:STANDARD
TZOFFSETFROM:+0200
TZOFFSETTO:+0100
TZNAME:CET
DTSTART:19701025T030000
RRULE:FREQ=YEARLY;BYDAY=-1SU;BYMONTH=10
END:STANDARD
END:VTIMEZONE
BEGIN:VEVENT
DTEND;TZID=Europe/Berlin:20260504T113000
UID:69e81628815ee
DTSTAMP:20260422T022824
LOCATION:Familienzentrum Garching
DESCRIPTION:English Playgroup\r\n\r\nWhat to expect:\r\n- Full immersion English‑language playgroup created for 1–2‑year‑olds\r\n- Songs\, nursery rhymes\, storybooks and activities in English\r\n- Fun movement activities\, including toddler‑friendly dances that build coordination\r\n- A supportive environment where little ones can hear\, repeat\, and enjoy English organically\r\n- Perfect for families looking for an English community for their children\r\n\r\n
URL;VALUE=URI:https://www.unser-ferienprogramm.de/nbh-garching/veranstaltung.php?id=316485
SUMMARY:English Playgroup
DTSTART;TZID=Europe/Berlin:20260504T100000
END:VEVENT

END:VCALENDAR
