BEGIN:VCALENDAR
VERSION:2.0
PRODID:-//hacksw/handcal//NONSGML v1.0//EN
CALSCALE:GREGORIAN
BEGIN:VTIMEZONE
TZID:Europe/Berlin
X-LIC-LOCATION:Europe/Berlin
BEGIN:DAYLIGHT
TZOFFSETFROM:+0100
TZOFFSETTO:+0200
TZNAME:CEST
DTSTART:19700329T020000
RRULE:FREQ=YEARLY;BYDAY=-1SU;BYMONTH=3
END:DAYLIGHT
BEGIN:STANDARD
TZOFFSETFROM:+0200
TZOFFSETTO:+0100
TZNAME:CET
DTSTART:19701025T030000
RRULE:FREQ=YEARLY;BYDAY=-1SU;BYMONTH=10
END:STANDARD
END:VTIMEZONE
BEGIN:VEVENT
DTEND;TZID=Europe/Berlin:20260508T163000
UID:69e815cb7fd8b
DTSTAMP:20260422T022651
LOCATION:Familienzentrum Garching\, Telschowstr. 5
DESCRIPTION:In diesem Kurs erwartet Dein Kind:\r\n- zu jedem Treffen eine neue Lesereise in ausgewählte Kinderliteratur\r\n- Raum für Kreatives und Austausch passend zum Buch\r\n\r\nDas Angebot ist kostenlos!\r\n\r\nKursleitung: Rebecca Thoss\, Germanistin\, Historikerin\r\n
URL;VALUE=URI:https://www.unser-ferienprogramm.de/nbh-garching/veranstaltung.php?id=314920
SUMMARY: Lesereise für Kindergartenkinder
DTSTART;TZID=Europe/Berlin:20260508T160000
END:VEVENT

END:VCALENDAR
