BEGIN:VCALENDAR
VERSION:2.0
PRODID:-//hacksw/handcal//NONSGML v1.0//EN
CALSCALE:GREGORIAN
BEGIN:VTIMEZONE
TZID:Europe/Berlin
X-LIC-LOCATION:Europe/Berlin
BEGIN:DAYLIGHT
TZOFFSETFROM:+0100
TZOFFSETTO:+0200
TZNAME:CEST
DTSTART:19700329T020000
RRULE:FREQ=YEARLY;BYDAY=-1SU;BYMONTH=3
END:DAYLIGHT
BEGIN:STANDARD
TZOFFSETFROM:+0200
TZOFFSETTO:+0100
TZNAME:CET
DTSTART:19701025T030000
RRULE:FREQ=YEARLY;BYDAY=-1SU;BYMONTH=10
END:STANDARD
END:VTIMEZONE
BEGIN:VEVENT
DTEND;TZID=Europe/Berlin:20260709T180000
UID:69e815de07254
DTSTAMP:20260422T022710
LOCATION:Familienzentrum
DESCRIPTION:Was erwartet euch?\r\n\r\nSpielerische Gestaltungsübungen\r\n\r\nSpaß und Freude am kreativen Schaffen\r\n\r\nUmsetzen eigener Projekte\r\n\r\nSchöpferische Auszeit\r\n\r\nAustausch und Inspiration in der Gruppe\r\n\r\nFür Jugendliche und Erwachsene\r\n\r\n\r\n\r\nBitte vorher anmelden\r\n\r\n\r\n6 bis 12 Teilnehmer\r\n\r\nMaterial bitte (je nach Projekt) selber mitbringen:\r\nPapier\, Stifte\, Radiergummi\, Spitzer\, Skizzenbuch\, Farben\, Wasserbecher\, Schere\, Kleber\, Schneideunterlage\, Cutter…\r\nAuch Vorlagen zur Inspiration können gerne mitgebracht werden.\r\n\r\nDies ist kein Kurs mit klassischen Schritt-für-Schritt-Anleitungen. \r\nVorkenntnisse sind nicht erforderlich.\r\nWichtig sind Neugier\, Offenheit und die Bereitschaft\, eigene Ideen einzubringen\r\n
URL;VALUE=URI:https://www.unser-ferienprogramm.de/nbh-garching/veranstaltung.php?id=314465
SUMMARY:Paperlove-Kreatives Gestalten auf und mit Papier
DTSTART;TZID=Europe/Berlin:20260611T163000
END:VEVENT

END:VCALENDAR
